From mboxrd@z Thu Jan  1 00:00:00 1970
Return-Path: <test-report-bounces@dpdk.org>
Received: from mails.dpdk.org (mails.dpdk.org [217.70.189.124])
	by inbox.dpdk.org (Postfix) with ESMTP id 27E6743E0E
	for <public@inbox.dpdk.org>; Sat,  6 Apr 2024 00:18:26 +0200 (CEST)
Received: from mails.dpdk.org (localhost [127.0.0.1])
	by mails.dpdk.org (Postfix) with ESMTP id 23318402D7;
	Sat,  6 Apr 2024 00:18:26 +0200 (CEST)
Received: from mail-qv1-f99.google.com (mail-qv1-f99.google.com
 [209.85.219.99]) by mails.dpdk.org (Postfix) with ESMTP id 17E2240262
 for <test-report@dpdk.org>; Sat,  6 Apr 2024 00:18:25 +0200 (CEST)
Received: by mail-qv1-f99.google.com with SMTP id
 6a1803df08f44-6991e317e05so31844236d6.1
 for <test-report@dpdk.org>; Fri, 05 Apr 2024 15:18:25 -0700 (PDT)
DKIM-Signature: v=1; a=rsa-sha256; c=relaxed/relaxed;
 d=iol.unh.edu; s=unh-iol; t=1712355504; x=1712960304; darn=dpdk.org;
 h=references:in-reply-to:cc:to:from:subject:message-id:date:from:to
 :cc:subject:date:message-id:reply-to;
 bh=JkDM34aGEOxguxUiFwbEMau9ITbk6UsIUYlcgjELbEk=;
 b=ca7lf5gDkqrV64FD+9oYDAxyP/5TNtYVHkgfEOd4c0ND614HmC7St98jqmr4doZxrA
 S/ppCiZKahi4uVx5+60taAo1+kS/PzioDr3sd86HKsOtnCROIk31Tx4zKlQUAehwnTf3
 OMLgmwnfzKdk/3pqSaUxx01TOpMEEp481yBiY=
X-Google-DKIM-Signature: v=1; a=rsa-sha256; c=relaxed/relaxed;
 d=1e100.net; s=20230601; t=1712355504; x=1712960304;
 h=references:in-reply-to:cc:to:from:subject:message-id:date
 :x-gm-message-state:from:to:cc:subject:date:message-id:reply-to;
 bh=JkDM34aGEOxguxUiFwbEMau9ITbk6UsIUYlcgjELbEk=;
 b=StPa7e6bp2xvUvNjZgYrlmNi2FOw1F7Id9OBNAq76hdqKHxqZGP6+kTcm+e/XMZ7+0
 u3YmWfXvCE4oa8Z/yAyb1EHkpQlauMq6/gkcEDADyWsJkh+CO4cNMFoKLJMWfiv0E2iN
 5wyNUREFvtS1Gna4I+6i8OS6TmsUvPaWf/6JLw6jfmas6q3qv/XGjjR8Il+3AZfdYXK+
 BRwNTkhFpFRITyC2NhV+1XIA69CPq4zF8QRCiYhow0bHiZ+Q2uEUtHLlsmlnzWugxtgu
 luLJ9zwcQthya27fRJKYHx/xtFAYHn1SAlF9L8E8dJWw9lwh94KVe1VDzJRdpiLMU0XK
 bcgg==
X-Gm-Message-State: AOJu0YygRpo+Tpuw/g7jY9Kpw+knQdX6D1gUimpYHBDk6rlVdOW2QAOA
 IhIbb9MEb9ooFml2BH6eGHaYP8R5j9JJTSIz3Vudbk+k+9HKsFsM0P0a9LEUxvm3ztwA8TbAXrb
 FO93rrIsV121ibGjXyU8HDCDAnsCeceqa2iAvyWDENhbE3iD/f0GhqKst
X-Google-Smtp-Source: AGHT+IEvIcCEfuEFEL7hkFgSGeQk66KupwF/08uMIJIB6ok10PF14iT5Cm3GgvQdgKMXqL0OKyWQVZU5UAvL
X-Received: by 2002:a05:6214:b2b:b0:699:388f:5ac0 with SMTP id
 w11-20020a0562140b2b00b00699388f5ac0mr5981487qvj.9.1712355504593; 
 Fri, 05 Apr 2024 15:18:24 -0700 (PDT)
Received: from postal.iol.unh.edu (postal.iol.unh.edu.
 [2606:4100:3880:1234::84]) by smtp-relay.gmail.com with ESMTPS id
 jl14-20020ad45e8e000000b006993776a962sm126968qvb.46.2024.04.05.15.18.24
 (version=TLS1_2 cipher=ECDHE-ECDSA-AES128-GCM-SHA256 bits=128/128);
 Fri, 05 Apr 2024 15:18:24 -0700 (PDT)
X-Relaying-Domain: iol.unh.edu
Date: Fri, 05 Apr 2024 15:18:24 -0700 (PDT)
Message-ID: <661078b0.d40a0220.25064.9610SMTPIN_ADDED_MISSING@mx.google.com>
Received: from [172.17.0.2] (unknown [172.18.0.213])
 by postal.iol.unh.edu (Postfix) with ESMTP id 4945A6052471;
 Fri,  5 Apr 2024 18:18:24 -0400 (EDT)
Subject: |SUCCESS| pw139165 [PATCH] MAINTAINERS: remove maintainers that boun
From: dpdklab@iol.unh.edu
To: Test Report <test-report@dpdk.org>
Cc: dpdk-test-reports@iol.unh.edu
In-Reply-To: <20240405170514.369037-1-stephen@networkplumber.org>
References: <20240405170514.369037-1-stephen@networkplumber.org>
Content-Type: text/plain
X-BeenThere: test-report@dpdk.org
X-Mailman-Version: 2.1.29
Precedence: list
List-Id: automatic DPDK test reports <test-report.dpdk.org>
List-Unsubscribe: <https://mails.dpdk.org/options/test-report>,
 <mailto:test-report-request@dpdk.org?subject=unsubscribe>
List-Archive: <http://mails.dpdk.org/archives/test-report/>
List-Post: <mailto:test-report@dpdk.org>
List-Help: <mailto:test-report-request@dpdk.org?subject=help>
List-Subscribe: <https://mails.dpdk.org/listinfo/test-report>,
 <mailto:test-report-request@dpdk.org?subject=subscribe>
Errors-To: test-report-bounces@dpdk.org

Test-Label: iol-unit-amd64-testing
Test-Status: SUCCESS
http://dpdk.org/patch/139165

_Testing PASS_

Submitter: Stephen Hemminger <stephen@networkplumber.org>
Date: Friday, April 05 2024 17:05:14 
DPDK git baseline: Repo:dpdk
  Branch: master
  CommitID:e2e546ab5bf5e024986ccb5310ab43982f3bb40c

139165 --> testing pass

Test environment and result as below:

+-----------------+----------------+
|   Environment   | dpdk_unit_test |
+=================+================+
| Fedora 37       | PASS           |
+-----------------+----------------+
| Debian Bullseye | PASS           |
+-----------------+----------------+
| Debian 12       | PASS           |
+-----------------+----------------+
| Fedora 38       | PASS           |
+-----------------+----------------+


Fedora 37
	Kernel: Depends on container host system
	Compiler: gcc 12.3.1

Debian Bullseye
	Kernel: 5.4.0-167-generic
	Compiler: gcc 10.2.1-6

Debian 12
	Kernel: Container Host Kernel
	Compiler: gcc 10.2.1

Fedora 38
	Kernel: Depends on container host
	Compiler: gcc 13.2.1

To view detailed results, visit:
https://lab.dpdk.org/results/dashboard/patchsets/29727/

UNH-IOL DPDK Community Lab

To manage your email subscriptions, visit: 
https://lab.dpdk.org/results/dashboard/preferences/subscriptions/