From mboxrd@z Thu Jan  1 00:00:00 1970
Return-Path: <test-report-bounces@dpdk.org>
Received: from mails.dpdk.org (mails.dpdk.org [217.70.189.124])
	by inbox.dpdk.org (Postfix) with ESMTP id CC6D543E15
	for <public@inbox.dpdk.org>; Sat,  6 Apr 2024 13:07:43 +0200 (CEST)
Received: from mails.dpdk.org (localhost [127.0.0.1])
	by mails.dpdk.org (Postfix) with ESMTP id C8BA4402C0;
	Sat,  6 Apr 2024 13:07:43 +0200 (CEST)
Received: from mail-qv1-f100.google.com (mail-qv1-f100.google.com
 [209.85.219.100])
 by mails.dpdk.org (Postfix) with ESMTP id C83A84028C
 for <test-report@dpdk.org>; Sat,  6 Apr 2024 13:07:41 +0200 (CEST)
Received: by mail-qv1-f100.google.com with SMTP id
 6a1803df08f44-6962a97752eso20848206d6.2
 for <test-report@dpdk.org>; Sat, 06 Apr 2024 04:07:41 -0700 (PDT)
DKIM-Signature: v=1; a=rsa-sha256; c=relaxed/relaxed;
 d=iol.unh.edu; s=unh-iol; t=1712401661; x=1713006461; darn=dpdk.org;
 h=references:in-reply-to:cc:to:from:subject:message-id:date:from:to
 :cc:subject:date:message-id:reply-to;
 bh=XaUhdmYVeen4B0HSJE7FVhsP2naT5ZZGx36EOVEsmME=;
 b=BibRPjRzg4t7PBO6lRl7q1IpBDPZqE87hQXca60XGQvWUqnobIkGzH5LADl+m9YiBD
 +QmEx+lJToKpgIr968MCPCV1Czn3lb55bzhXs2+QlW5x0qboCuH2Ar+yotOBMuWDZQEQ
 1+WzjsmC/ZUFHBcc/aTOpycLwGXd98zoOvTvc=
X-Google-DKIM-Signature: v=1; a=rsa-sha256; c=relaxed/relaxed;
 d=1e100.net; s=20230601; t=1712401661; x=1713006461;
 h=references:in-reply-to:cc:to:from:subject:message-id:date
 :x-gm-message-state:from:to:cc:subject:date:message-id:reply-to;
 bh=XaUhdmYVeen4B0HSJE7FVhsP2naT5ZZGx36EOVEsmME=;
 b=RwSpMVnFPYvzHt2ilj7rY1bTFaqSeRcyFPxlZ6TKteqEjAz+8ihcrGp6+nA+X35iLQ
 wWr30Zx5c6hZo7M7bOgUY5y46p5PU1qF8cciQCScKqjIOyIhLba4Tk0kwXAH2oi/+/pe
 F9ZaLqDRW1zhVFQiq6f9IG/+tHlj0XElj6v5WLPIAspfbgyrXkapHgFqfhSCla5qbJ5A
 n/fFKv3HVTfkSS0lecRtR1k8jr/Tr5iDrI/lUkPy7xvV8A13LDghIU8zW5rFgyATj3Wd
 hwotYRwuaCtPrs348lFi6b+WHvBE3QRjGJDcIbI1VTbUtnZ4V8rNjfG03Y7nMi9Z8eSG
 umTg==
X-Gm-Message-State: AOJu0YyOMgK45eu/Wh2vijnXFbWh6TXmVduSwdCUAIzNNXYzH2AXHl8O
 B0fD2PRR26wJkR837UY7rq0iGJlTyUj/OZUtVBSzwq84Kmd8qs1vVYCLX1Y50J0uyH/sXk9T7ao
 4bntMyaDDHhOTBK0yc0AHTlSBBDfZtLUR7eiHBEQB
X-Google-Smtp-Source: AGHT+IEJu0NeN7CXwWJvIgrJ5A1zxIK6x1pApwcfAXkhsfkU3TSSfnGlIf6bAuCg+Nb57CvysUgzj3XljDEg
X-Received: by 2002:a05:6214:248c:b0:696:8a6f:b006 with SMTP id
 gi12-20020a056214248c00b006968a6fb006mr4949063qvb.61.1712401661200; 
 Sat, 06 Apr 2024 04:07:41 -0700 (PDT)
Received: from postal.iol.unh.edu (postal.iol.unh.edu. [132.177.123.84])
 by smtp-relay.gmail.com with ESMTPS id
 gs5-20020a056214226500b00695d2f2f3e9sm169727qvb.22.2024.04.06.04.07.41
 (version=TLS1_2 cipher=ECDHE-ECDSA-AES128-GCM-SHA256 bits=128/128);
 Sat, 06 Apr 2024 04:07:41 -0700 (PDT)
X-Relaying-Domain: iol.unh.edu
Date: Sat, 06 Apr 2024 04:07:41 -0700 (PDT)
Message-ID: <66112cfd.050a0220.c5543.c3e5SMTPIN_ADDED_MISSING@mx.google.com>
Received: from [172.21.0.10] (unknown [172.18.0.240])
 by postal.iol.unh.edu (Postfix) with ESMTP id E82E16052471;
 Sat,  6 Apr 2024 07:07:40 -0400 (EDT)
Subject: |SUCCESS| pw139178-139179 [PATCH] [2/2] dma/cnxk: remove completion 
From: dpdklab@iol.unh.edu
To: Test Report <test-report@dpdk.org>
Cc: Pavan Nikhilesh Bhagavatula <pbhagavatula@marvell.com>
In-Reply-To: <20240406101311.11044-2-pbhagavatula@marvell.com>
References: <20240406101311.11044-2-pbhagavatula@marvell.com>
Content-Type: text/plain
X-BeenThere: test-report@dpdk.org
X-Mailman-Version: 2.1.29
Precedence: list
List-Id: automatic DPDK test reports <test-report.dpdk.org>
List-Unsubscribe: <https://mails.dpdk.org/options/test-report>,
 <mailto:test-report-request@dpdk.org?subject=unsubscribe>
List-Archive: <http://mails.dpdk.org/archives/test-report/>
List-Post: <mailto:test-report@dpdk.org>
List-Help: <mailto:test-report-request@dpdk.org?subject=help>
List-Subscribe: <https://mails.dpdk.org/listinfo/test-report>,
 <mailto:test-report-request@dpdk.org?subject=subscribe>
Errors-To: test-report-bounces@dpdk.org

Test-Label: iol-abi-testing
Test-Status: SUCCESS
http://dpdk.org/patch/139179

_Testing PASS_

Submitter: Pavan Nikhilesh Bhagavatula <pbhagavatula@marvell.com>
Date: Saturday, April 06 2024 10:13:11 
DPDK git baseline: Repo:dpdk
  Branch: master
  CommitID:e2e546ab5bf5e024986ccb5310ab43982f3bb40c

139178-139179 --> testing pass

Test environment and result as below:

+------------------+----------+
|   Environment    | abi_test |
+==================+==========+
| CentOS Stream 9  | PASS     |
+------------------+----------+
| openSUSE Leap 15 | PASS     |
+------------------+----------+
| Fedora 37        | PASS     |
+------------------+----------+
| RHEL8            | PASS     |
+------------------+----------+
| Debian Bullseye  | PASS     |
+------------------+----------+


CentOS Stream 9
	Kernel: 5.4.0-167-generic
	Compiler: gcc 11.4.1 20230605

openSUSE Leap 15
	Kernel: 5.4.0-167-generic
	Compiler: gcc 7.5.0

Fedora 37
	Kernel: Depends on container host system
	Compiler: gcc 12.3.1

RHEL8
	Kernel: 5.4.0-167-generic
	Compiler: gcc 8.5.0 20210514 (Red Hat 8.5.0-20)

Debian Bullseye
	Kernel: 5.4.0-167-generic
	Compiler: gcc 10.2.1-6

To view detailed results, visit:
https://lab.dpdk.org/results/dashboard/patchsets/29733/

UNH-IOL DPDK Community Lab

To manage your email subscriptions, visit: 
https://lab.dpdk.org/results/dashboard/preferences/subscriptions/