From mboxrd@z Thu Jan  1 00:00:00 1970
Return-Path: <test-report-bounces@dpdk.org>
Received: from mails.dpdk.org (mails.dpdk.org [217.70.189.124])
	by inbox.dpdk.org (Postfix) with ESMTP id 6209D43DA2
	for <public@inbox.dpdk.org>; Sat,  6 Apr 2024 14:20:51 +0200 (CEST)
Received: from mails.dpdk.org (localhost [127.0.0.1])
	by mails.dpdk.org (Postfix) with ESMTP id 591F9402C2;
	Sat,  6 Apr 2024 14:20:51 +0200 (CEST)
Received: from mail-oo1-f99.google.com (mail-oo1-f99.google.com
 [209.85.161.99]) by mails.dpdk.org (Postfix) with ESMTP id 5749E402A2
 for <test-report@dpdk.org>; Sat,  6 Apr 2024 14:20:50 +0200 (CEST)
Received: by mail-oo1-f99.google.com with SMTP id
 006d021491bc7-5a9ec663775so1265877eaf.3
 for <test-report@dpdk.org>; Sat, 06 Apr 2024 05:20:50 -0700 (PDT)
DKIM-Signature: v=1; a=rsa-sha256; c=relaxed/relaxed;
 d=iol.unh.edu; s=unh-iol; t=1712406049; x=1713010849; darn=dpdk.org;
 h=references:in-reply-to:cc:to:from:subject:message-id:date:from:to
 :cc:subject:date:message-id:reply-to;
 bh=fIPpllcyf4xcGIKDANL/1vBIfhkGOSkKN6WVnoVcORA=;
 b=NKQDeLzItk+SJCW1H5iYDME1IEV9WH43dS06QoNgmc0QVw3w93dae6Ylzpx8U2sL1D
 tmOQI3ZuAJ7TR0/knznEYfzxID2A0hIsqEB+MhECQeyxUBFe+EGUZNhtCpQr25zbLApO
 MJvSI69YdGPSjmAY75Ka5+Ety47veqZoDDk2c=
X-Google-DKIM-Signature: v=1; a=rsa-sha256; c=relaxed/relaxed;
 d=1e100.net; s=20230601; t=1712406049; x=1713010849;
 h=references:in-reply-to:cc:to:from:subject:message-id:date
 :x-gm-message-state:from:to:cc:subject:date:message-id:reply-to;
 bh=fIPpllcyf4xcGIKDANL/1vBIfhkGOSkKN6WVnoVcORA=;
 b=V8nrZ6aqJ0ikBAlAxQlmz1xw3sV6bH4uSoy9zO3rLHTSwxn1tn1ow/zdKtlvT1CAt6
 /3Y1TESPzhroag9MvkeDjP/tWsbHYB877dIkHpFySpkLcIibVQJtxWE8eESamztb3J6M
 msow4Mrpq6qOEvxmygty9PN19Mizp7lsMI18KHxtpb2u+1wlk05432+om/B7mpUBiJc7
 vFKSaHVbHL5d/9KZgPS1BF4CSGR+f+qMeDEzQ6PX8N5RsWGgFz/yScQ5p86Es8JCgLfv
 fCCfet9q9jkM+1PmjKFTpOI45eGBEvQ0dvJsMwv3o8a2ddebZCcgWSnBlio2EpNYJJSq
 abFQ==
X-Gm-Message-State: AOJu0YxYOUN57P2+dNEGskAEiIwdWQb+QcpOtMI51Pr2w1k+9Hzo5yL+
 Rk/DQA+MT33QHxCvi9CP3ZUMYL4rFQz7ALU8VfUHlKC1BrlMtWMvXe4ehuxR9JSRUca4ycETfzR
 eywytY3nnQHoyED5rem9iX8UTIvdkIVQyIGJSn476
X-Google-Smtp-Source: AGHT+IFtA+ybN0b4WzcIFtnJiBRfbUUdPXMsR6oQNUxzZXRAaxgNmqo08+/IHtYf9RXmXvTGyGxK8oIxAAaQ
X-Received: by 2002:a05:6820:2686:b0:5a4:93b6:9a5 with SMTP id
 cz6-20020a056820268600b005a493b609a5mr4033047oob.4.1712406049626; 
 Sat, 06 Apr 2024 05:20:49 -0700 (PDT)
Received: from postal.iol.unh.edu (postal.iol.unh.edu. [132.177.123.84])
 by smtp-relay.gmail.com with ESMTPS id
 q67-20020a4a4b46000000b005a9c98d32d4sm185558ooa.16.2024.04.06.05.20.49
 (version=TLS1_2 cipher=ECDHE-ECDSA-AES128-GCM-SHA256 bits=128/128);
 Sat, 06 Apr 2024 05:20:49 -0700 (PDT)
X-Relaying-Domain: iol.unh.edu
Date: Sat, 06 Apr 2024 05:20:49 -0700 (PDT)
Message-ID: <66113e21.4a0a0220.edc3b.e3cdSMTPIN_ADDED_MISSING@mx.google.com>
Received: from [172.21.0.6] (unknown [172.18.0.240])
 by postal.iol.unh.edu (Postfix) with ESMTP id 2137E6052471;
 Sat,  6 Apr 2024 08:20:49 -0400 (EDT)
Subject: |SUCCESS| pw139178-139179 [PATCH] [2/2] dma/cnxk: remove completion 
From: dpdklab@iol.unh.edu
To: Test Report <test-report@dpdk.org>
Cc: dpdk-test-reports@iol.unh.edu
In-Reply-To: <20240406101311.11044-2-pbhagavatula@marvell.com>
References: <20240406101311.11044-2-pbhagavatula@marvell.com>
Content-Type: text/plain
X-BeenThere: test-report@dpdk.org
X-Mailman-Version: 2.1.29
Precedence: list
List-Id: automatic DPDK test reports <test-report.dpdk.org>
List-Unsubscribe: <https://mails.dpdk.org/options/test-report>,
 <mailto:test-report-request@dpdk.org?subject=unsubscribe>
List-Archive: <http://mails.dpdk.org/archives/test-report/>
List-Post: <mailto:test-report@dpdk.org>
List-Help: <mailto:test-report-request@dpdk.org?subject=help>
List-Subscribe: <https://mails.dpdk.org/listinfo/test-report>,
 <mailto:test-report-request@dpdk.org?subject=subscribe>
Errors-To: test-report-bounces@dpdk.org

Test-Label: iol-unit-arm64-testing
Test-Status: SUCCESS
http://dpdk.org/patch/139179

_Testing PASS_

Submitter: Pavan Nikhilesh Bhagavatula <pbhagavatula@marvell.com>
Date: Saturday, April 06 2024 10:13:11 
DPDK git baseline: Repo:dpdk
  Branch: master
  CommitID:e2e546ab5bf5e024986ccb5310ab43982f3bb40c

139178-139179 --> testing pass

Test environment and result as below:

+-----------------------------+----------------+------------------------------+---------------------------+--------------+
|         Environment         | dpdk_unit_test | cryptodev_sw_snow3g_autotest | cryptodev_sw_zuc_autotest | lpm_autotest |
+=============================+================+==============================+===========================+==============+
| Debian 11 (Buster) (ARM)    | PASS           | SKIPPED                      | SKIPPED                   | SKIPPED      |
+-----------------------------+----------------+------------------------------+---------------------------+--------------+
| Fedora 38 (ARM)             | PASS           | SKIPPED                      | SKIPPED                   | SKIPPED      |
+-----------------------------+----------------+------------------------------+---------------------------+--------------+
| CentOS Stream 9 (ARM)       | PASS           | SKIPPED                      | SKIPPED                   | SKIPPED      |
+-----------------------------+----------------+------------------------------+---------------------------+--------------+
| Debian 12 (arm)             | PASS           | PASS                         | PASS                      | SKIPPED      |
+-----------------------------+----------------+------------------------------+---------------------------+--------------+
| Fedora 37 (ARM)             | PASS           | SKIPPED                      | SKIPPED                   | SKIPPED      |
+-----------------------------+----------------+------------------------------+---------------------------+--------------+
| Fedora 39 (ARM)             | PASS           | SKIPPED                      | SKIPPED                   | SKIPPED      |
+-----------------------------+----------------+------------------------------+---------------------------+--------------+
| Ubuntu 20.04 (ARM)          | PASS           | SKIPPED                      | SKIPPED                   | SKIPPED      |
+-----------------------------+----------------+------------------------------+---------------------------+--------------+
| Fedora 39 (ARM Clang)       | PASS           | SKIPPED                      | SKIPPED                   | SKIPPED      |
+-----------------------------+----------------+------------------------------+---------------------------+--------------+
| 32-bit Ubuntu 20.04.4 (ARM) | PASS           | SKIPPED                      | SKIPPED                   | SKIPPED      |
+-----------------------------+----------------+------------------------------+---------------------------+--------------+
| Fedora 38 (ARM Clang)       | PASS           | SKIPPED                      | SKIPPED                   | SKIPPED      |
+-----------------------------+----------------+------------------------------+---------------------------+--------------+
| Ubuntu 20.04 ARM SVE        | SKIPPED        | SKIPPED                      | SKIPPED                   | PASS         |
+-----------------------------+----------------+------------------------------+---------------------------+--------------+


Debian 11 (Buster) (ARM)
	Kernel: Container Host Kernel
	Compiler: gcc 10.2.1

Fedora 38 (ARM)
	Kernel: Depends on container host
	Compiler: gcc 13.2.1

CentOS Stream 9 (ARM)
	Kernel: Container Host Kernel
	Compiler: gcc 11.4.1

Debian 12 (arm)
	Kernel: Container Host Kernel
	Compiler: gcc 12.2.0

Fedora 37 (ARM)
	Kernel: Depends on container host
	Compiler: gcc 12.3.1

Fedora 39 (ARM)
	Kernel: Depends on container host
	Compiler: gcc 13.2.1

Ubuntu 20.04 (ARM)
	Kernel: Container Host Kernel
	Compiler: gcc 9.4.0

Fedora 39 (ARM Clang)
	Kernel: Depends on container host
	Compiler: clang 17.0.6

32-bit Ubuntu 20.04.4 (ARM)
	Kernel: 5.4.0-155-generic aarch64
	Compiler: gcc 9.4

Fedora 38 (ARM Clang)
	Kernel: Depends on container host
	Compiler: clang 16.0.6

Ubuntu 20.04 ARM SVE
	Kernel: 5.4.0-167-generic
	Compiler: gcc (Ubuntu 10.5.0-1ubuntu1~20.04) 10.5.0

To view detailed results, visit:
https://lab.dpdk.org/results/dashboard/patchsets/29733/

UNH-IOL DPDK Community Lab

To manage your email subscriptions, visit: 
https://lab.dpdk.org/results/dashboard/preferences/subscriptions/