From mboxrd@z Thu Jan  1 00:00:00 1970
Return-Path: <test-report-bounces@dpdk.org>
Received: from mails.dpdk.org (mails.dpdk.org [217.70.189.124])
	by inbox.dpdk.org (Postfix) with ESMTP id C007343DD8
	for <public@inbox.dpdk.org>; Sat,  6 Apr 2024 14:52:06 +0200 (CEST)
Received: from mails.dpdk.org (localhost [127.0.0.1])
	by mails.dpdk.org (Postfix) with ESMTP id BCDB6402C2;
	Sat,  6 Apr 2024 14:52:06 +0200 (CEST)
Received: from mail-qt1-f227.google.com (mail-qt1-f227.google.com
 [209.85.160.227])
 by mails.dpdk.org (Postfix) with ESMTP id E6AB3402A2
 for <test-report@dpdk.org>; Sat,  6 Apr 2024 14:52:05 +0200 (CEST)
Received: by mail-qt1-f227.google.com with SMTP id
 d75a77b69052e-432d5b5f00bso23957301cf.0
 for <test-report@dpdk.org>; Sat, 06 Apr 2024 05:52:05 -0700 (PDT)
DKIM-Signature: v=1; a=rsa-sha256; c=relaxed/relaxed;
 d=iol.unh.edu; s=unh-iol; t=1712407925; x=1713012725; darn=dpdk.org;
 h=references:in-reply-to:cc:to:from:subject:message-id:date:from:to
 :cc:subject:date:message-id:reply-to;
 bh=p2fugWYjwEf+uy93qmfYtNXBd6Ji7nOA+f1Xcm/Ikpg=;
 b=QOEbaFwMyLgO+Jj3el8QX89ybWGIutZWE78tiBIkHM7kepvhd3a27RUdEqv4zkjsVu
 P7SnoBrPp+TE9NnlgAF09cBA+I6dEGYHApYJ3sgI6MPq8sIrLouRHMSoYQ8c0mJLDnds
 6+hBgsqA5g2D6dZ2qMBqz8rdgMcfQLMD/NYUE=
X-Google-DKIM-Signature: v=1; a=rsa-sha256; c=relaxed/relaxed;
 d=1e100.net; s=20230601; t=1712407925; x=1713012725;
 h=references:in-reply-to:cc:to:from:subject:message-id:date
 :x-gm-message-state:from:to:cc:subject:date:message-id:reply-to;
 bh=p2fugWYjwEf+uy93qmfYtNXBd6Ji7nOA+f1Xcm/Ikpg=;
 b=G8pJJkccXTC2H3NQoltkuKTLZxT9KTnCpxWPAyA8L5zkFfIjD+gfHDMGU0kg+H00af
 sJT809+7J4H8uouUrFMaXjxSt+/x2JumUE1AfbbN27/tbxlTj7JN36w1/2ntHf3U8cPW
 KJQTRSVkt9IfRa2zFNMNnx/OsemDfM27Dtq8rIuO+qnnxdWYGhqRdL9PAEdXuVnAhIW/
 191n1tA2tIk8IGd22trevd+7L1zry/bYNN6ICMOMHyvDprG6C8QG3NuBNnvr8hvU7iF0
 SgZqII177X5vZ7EvPdazBJgf3X8Hab3QIMil9Ag/xAvvFir/o9cCjaoxMHQuovn2l8HD
 aTXw==
X-Gm-Message-State: AOJu0YyQa7BNBj9L9Uej7oV9OxdaNTN/7q54i7fn9j9g1d+8KEtoxdvL
 Xm6fJXuwRv87Zngqv94uP5XXMO8LIrf3I06X1DIBxg/1fFxnzANbM46JOHUzDjlF5uCu/QeblcT
 tXX1Tu3H/48pDMEu1T2tfiG0AY5GBXli3BdWM4eP0ufk7wpIOUpQnzte1
X-Google-Smtp-Source: AGHT+IHkX073TIdt9GClR2leZ34hhZ2hzWJCTKvdFHlc24O4jF6S+tNdhol0rZlAuWcGHCLhBQuCAZ9fIgHQ
X-Received: by 2002:a05:622a:1994:b0:431:7c36:7f9c with SMTP id
 u20-20020a05622a199400b004317c367f9cmr6543851qtc.2.1712407925370; 
 Sat, 06 Apr 2024 05:52:05 -0700 (PDT)
Received: from postal.iol.unh.edu (postal.iol.unh.edu.
 [2606:4100:3880:1234::84]) by smtp-relay.gmail.com with ESMTPS id
 s36-20020a05622a1aa400b00432ccef76c2sm182051qtc.11.2024.04.06.05.52.05
 (version=TLS1_2 cipher=ECDHE-ECDSA-AES128-GCM-SHA256 bits=128/128);
 Sat, 06 Apr 2024 05:52:05 -0700 (PDT)
X-Relaying-Domain: iol.unh.edu
Date: Sat, 06 Apr 2024 05:52:05 -0700 (PDT)
Message-ID: <66114575.050a0220.4798a.cd0dSMTPIN_ADDED_MISSING@mx.google.com>
Received: from [172.21.0.12] (unknown [172.18.0.240])
 by postal.iol.unh.edu (Postfix) with ESMTP id F38FA6052471;
 Sat,  6 Apr 2024 08:52:04 -0400 (EDT)
Subject: |SUCCESS| pw139168-139175 [PATCH] [v6,8/8] net/tap: remove no longer
From: dpdklab@iol.unh.edu
To: Test Report <test-report@dpdk.org>
Cc: dpdk-test-reports@iol.unh.edu
In-Reply-To: <20240405211745.699697-9-stephen@networkplumber.org>
References: <20240405211745.699697-9-stephen@networkplumber.org>
Content-Type: text/plain
X-BeenThere: test-report@dpdk.org
X-Mailman-Version: 2.1.29
Precedence: list
List-Id: automatic DPDK test reports <test-report.dpdk.org>
List-Unsubscribe: <https://mails.dpdk.org/options/test-report>,
 <mailto:test-report-request@dpdk.org?subject=unsubscribe>
List-Archive: <http://mails.dpdk.org/archives/test-report/>
List-Post: <mailto:test-report@dpdk.org>
List-Help: <mailto:test-report-request@dpdk.org?subject=help>
List-Subscribe: <https://mails.dpdk.org/listinfo/test-report>,
 <mailto:test-report-request@dpdk.org?subject=subscribe>
Errors-To: test-report-bounces@dpdk.org

Test-Label: iol-abi-testing
Test-Status: SUCCESS
http://dpdk.org/patch/139175

_Testing PASS_

Submitter: Stephen Hemminger <stephen@networkplumber.org>
Date: Friday, April 05 2024 21:15:00 
DPDK git baseline: Repo:dpdk
  Branch: master
  CommitID:e2e546ab5bf5e024986ccb5310ab43982f3bb40c

139168-139175 --> testing pass

Test environment and result as below:

+------------------+----------+
|   Environment    | abi_test |
+==================+==========+
| CentOS Stream 8  | PASS     |
+------------------+----------+
| Fedora 38        | PASS     |
+------------------+----------+
| Fedora 39        | PASS     |
+------------------+----------+
| RHEL8            | PASS     |
+------------------+----------+
| CentOS Stream 9  | PASS     |
+------------------+----------+
| Debian 12        | PASS     |
+------------------+----------+
| Debian Bullseye  | PASS     |
+------------------+----------+
| openSUSE Leap 15 | PASS     |
+------------------+----------+
| Fedora 37        | PASS     |
+------------------+----------+
| Ubuntu 22.04     | PASS     |
+------------------+----------+


CentOS Stream 8
	Kernel: 5.4.0-167-generic
	Compiler: gcc 8.5.0 20210514

Fedora 38
	Kernel: Depends on container host
	Compiler: gcc 13.2.1

Fedora 39
	Kernel: Depends on container host
	Compiler: gcc 13.2.1

RHEL8
	Kernel: 5.4.0-167-generic
	Compiler: gcc 8.5.0 20210514 (Red Hat 8.5.0-20)

CentOS Stream 9
	Kernel: 5.4.0-167-generic
	Compiler: gcc 11.4.1 20230605

Debian 12
	Kernel: Container Host Kernel
	Compiler: gcc 10.2.1

Debian Bullseye
	Kernel: 5.4.0-167-generic
	Compiler: gcc 10.2.1-6

openSUSE Leap 15
	Kernel: 5.4.0-167-generic
	Compiler: gcc 7.5.0

Fedora 37
	Kernel: Depends on container host system
	Compiler: gcc 12.3.1

Ubuntu 22.04
	Kernel: 5.4.0-167-generic
	Compiler: gcc 11.4.0

To view detailed results, visit:
https://lab.dpdk.org/results/dashboard/patchsets/29730/

UNH-IOL DPDK Community Lab

To manage your email subscriptions, visit: 
https://lab.dpdk.org/results/dashboard/preferences/subscriptions/