From mboxrd@z Thu Jan  1 00:00:00 1970
Return-Path: <test-report-bounces@dpdk.org>
Received: from mails.dpdk.org (mails.dpdk.org [217.70.189.124])
	by inbox.dpdk.org (Postfix) with ESMTP id 11ADC43DA3
	for <public@inbox.dpdk.org>; Mon,  8 Apr 2024 15:21:22 +0200 (CEST)
Received: from mails.dpdk.org (localhost [127.0.0.1])
	by mails.dpdk.org (Postfix) with ESMTP id 089D1402C0;
	Mon,  8 Apr 2024 15:21:22 +0200 (CEST)
Received: from mail-qv1-f99.google.com (mail-qv1-f99.google.com
 [209.85.219.99]) by mails.dpdk.org (Postfix) with ESMTP id A956540289
 for <test-report@dpdk.org>; Mon,  8 Apr 2024 15:21:20 +0200 (CEST)
Received: by mail-qv1-f99.google.com with SMTP id
 6a1803df08f44-6963cf14771so40431936d6.3
 for <test-report@dpdk.org>; Mon, 08 Apr 2024 06:21:20 -0700 (PDT)
DKIM-Signature: v=1; a=rsa-sha256; c=relaxed/relaxed;
 d=iol.unh.edu; s=unh-iol; t=1712582480; x=1713187280; darn=dpdk.org;
 h=references:in-reply-to:cc:to:from:subject:message-id:date:from:to
 :cc:subject:date:message-id:reply-to;
 bh=YZMcQM3Ftav69E6rK+PV3Cd+tCq4fhd2QEOWgNGHZNM=;
 b=dmlvLPwrrn4gBtcJQkcAkthlS20GzjrDqQrxO41hqr+DN7LC3RyNxn32TevhVqsCKB
 Hw0kZ1U2qzmzY+xHy7uk9uq7MF6vwzM8NmYC9kvCJWv0WqSRPipR57NobaMB0f9+j2fv
 lkdhEgCh33425RFctkLb5f8TuJnqRNjr7zO30=
X-Google-DKIM-Signature: v=1; a=rsa-sha256; c=relaxed/relaxed;
 d=1e100.net; s=20230601; t=1712582480; x=1713187280;
 h=references:in-reply-to:cc:to:from:subject:message-id:date
 :x-gm-message-state:from:to:cc:subject:date:message-id:reply-to;
 bh=YZMcQM3Ftav69E6rK+PV3Cd+tCq4fhd2QEOWgNGHZNM=;
 b=MlbHmuGMCXzKH1dHjgroAQyQIjFIK+UMsFaprDrSLZWZDMVwGf7ac5idCP2f1UjPRr
 gPD+XLnoHb9Xek6ZHS6IyxOz0p7FF3OmrB+HfVv4RLzhEgFpHChFdAmzJXnOQq/rpgYY
 06q0srqw4OXmJ5jKf4lszpvcnw+6Pu8qzp9x5RQ83CX3cKGw2CvRwMo614yfH8GUToC5
 dnTcevFM/vsVXCOZr7DcDGly2CfFixLpT5/OKFTTlPixqPBI0KTesemSYt/lA5T8CrV5
 +EffJPbPDQhYOWHs8yG+DtekFZyrYhA3iWrcFZQJsWwkgekqwt8TgTygC6eRfa+OBTP7
 1cog==
X-Gm-Message-State: AOJu0YwvBNk8QJ0+NGKefFxTHBbr9kc/iPjltDd3lK0nowmhBsI8g9bu
 n5VLudRox6K0dm2l+Vxpb5C50EYOk5ATpJI5hPbH1zkmWtkvBHRR/5++VR8VXCwtYyU+sg13/D2
 3clX1cvyf443kKi2R9yobFbh6/XArgW1HAKAEYL7g
X-Google-Smtp-Source: AGHT+IFAkM8oiyrZBiZpNbC/OOg5CzUoWNGdi6gxEEnkcneQyjAHw0FRxTOPYIa+/6ToOwrOyw2dxcI9+dAr
X-Received: by 2002:a05:6214:4102:b0:691:8526:3898 with SMTP id
 kc2-20020a056214410200b0069185263898mr8322025qvb.21.1712582480140; 
 Mon, 08 Apr 2024 06:21:20 -0700 (PDT)
Received: from postal.iol.unh.edu (postal.iol.unh.edu. [132.177.123.84])
 by smtp-relay.gmail.com with ESMTPS id
 jo11-20020a056214500b00b00698f01a5bf2sm427154qvb.26.2024.04.08.06.21.20
 (version=TLS1_2 cipher=ECDHE-ECDSA-AES128-GCM-SHA256 bits=128/128);
 Mon, 08 Apr 2024 06:21:20 -0700 (PDT)
X-Relaying-Domain: iol.unh.edu
Date: Mon, 08 Apr 2024 06:21:20 -0700 (PDT)
Message-ID: <6613ef50.050a0220.442b.f430SMTPIN_ADDED_MISSING@mx.google.com>
Received: from [172.21.0.7] (unknown [172.18.0.240])
 by postal.iol.unh.edu (Postfix) with ESMTP id CA63E6052514;
 Mon,  8 Apr 2024 09:21:19 -0400 (EDT)
Subject: |SUCCESS| pw139184 [PATCH] config/arm: add Ampere AmpereOneX platfor
From: dpdklab@iol.unh.edu
To: Test Report <test-report@dpdk.org>
Cc: dpdk-test-reports@iol.unh.edu
In-Reply-To: <20240407063604.79303-1-jiangyutang@os.amperecomputing.com>
References: <20240407063604.79303-1-jiangyutang@os.amperecomputing.com>
Content-Type: text/plain
X-BeenThere: test-report@dpdk.org
X-Mailman-Version: 2.1.29
Precedence: list
List-Id: automatic DPDK test reports <test-report.dpdk.org>
List-Unsubscribe: <https://mails.dpdk.org/options/test-report>,
 <mailto:test-report-request@dpdk.org?subject=unsubscribe>
List-Archive: <http://mails.dpdk.org/archives/test-report/>
List-Post: <mailto:test-report@dpdk.org>
List-Help: <mailto:test-report-request@dpdk.org?subject=help>
List-Subscribe: <https://mails.dpdk.org/listinfo/test-report>,
 <mailto:test-report-request@dpdk.org?subject=subscribe>
Errors-To: test-report-bounces@dpdk.org

Test-Label: iol-abi-testing
Test-Status: SUCCESS
http://dpdk.org/patch/139184

_Testing PASS_

Submitter: Yutang Jiang <jiangyutang@os.amperecomputing.com>
Date: Sunday, April 07 2024 06:36:04 
DPDK git baseline: Repo:dpdk
  Branch: master
  CommitID:e2e546ab5bf5e024986ccb5310ab43982f3bb40c

139184 --> testing pass

Test environment and result as below:

+------------------+----------+
|   Environment    | abi_test |
+==================+==========+
| Fedora 39        | PASS     |
+------------------+----------+
| RHEL8            | PASS     |
+------------------+----------+
| CentOS Stream 8  | PASS     |
+------------------+----------+
| openSUSE Leap 15 | PASS     |
+------------------+----------+
| Ubuntu 22.04     | PASS     |
+------------------+----------+
| Debian Bullseye  | PASS     |
+------------------+----------+
| Fedora 38        | PASS     |
+------------------+----------+
| Fedora 37        | PASS     |
+------------------+----------+
| Debian 12        | PASS     |
+------------------+----------+
| CentOS Stream 9  | PASS     |
+------------------+----------+


Fedora 39
	Kernel: Depends on container host
	Compiler: gcc 13.2.1

RHEL8
	Kernel: 5.4.0-167-generic
	Compiler: gcc 8.5.0 20210514 (Red Hat 8.5.0-20)

CentOS Stream 8
	Kernel: 5.4.0-167-generic
	Compiler: gcc 8.5.0 20210514

openSUSE Leap 15
	Kernel: 5.4.0-167-generic
	Compiler: gcc 7.5.0

Ubuntu 22.04
	Kernel: 5.4.0-167-generic
	Compiler: gcc 11.4.0

Debian Bullseye
	Kernel: 5.4.0-167-generic
	Compiler: gcc 10.2.1-6

Fedora 38
	Kernel: Depends on container host
	Compiler: clang 16.0.6

Fedora 37
	Kernel: Depends on container host system
	Compiler: gcc 12.3.1

Debian 12
	Kernel: Container Host Kernel
	Compiler: gcc 10.2.1

CentOS Stream 9
	Kernel: 5.4.0-167-generic
	Compiler: gcc 11.4.1 20230605

To view detailed results, visit:
https://lab.dpdk.org/results/dashboard/patchsets/29738/

UNH-IOL DPDK Community Lab

To manage your email subscriptions, visit: 
https://lab.dpdk.org/results/dashboard/preferences/subscriptions/