From mboxrd@z Thu Jan  1 00:00:00 1970
Return-Path: <test-report-bounces@dpdk.org>
Received: from mails.dpdk.org (mails.dpdk.org [217.70.189.124])
	by inbox.dpdk.org (Postfix) with ESMTP id 3FDAB43DA3
	for <public@inbox.dpdk.org>; Mon,  8 Apr 2024 15:21:57 +0200 (CEST)
Received: from mails.dpdk.org (localhost [127.0.0.1])
	by mails.dpdk.org (Postfix) with ESMTP id 35F54402C0;
	Mon,  8 Apr 2024 15:21:57 +0200 (CEST)
Received: from mail-yw1-f227.google.com (mail-yw1-f227.google.com
 [209.85.128.227])
 by mails.dpdk.org (Postfix) with ESMTP id E78BF40289
 for <test-report@dpdk.org>; Mon,  8 Apr 2024 15:21:55 +0200 (CEST)
Received: by mail-yw1-f227.google.com with SMTP id
 00721157ae682-617d411a6b3so22963617b3.3
 for <test-report@dpdk.org>; Mon, 08 Apr 2024 06:21:55 -0700 (PDT)
DKIM-Signature: v=1; a=rsa-sha256; c=relaxed/relaxed;
 d=iol.unh.edu; s=unh-iol; t=1712582514; x=1713187314; darn=dpdk.org;
 h=references:in-reply-to:cc:to:from:subject:message-id:date:from:to
 :cc:subject:date:message-id:reply-to;
 bh=CuhnEIQWhXGM+sx494pWOLrM453GfnhvI3+NcnL0fbM=;
 b=c/jcLQMvBark1CUNY+YyvlPPzFzLYePICreRjZxVEFc0jEqdqyWN+sAH8nMXZOOQ9l
 19hvqNVtyzS5LujUzvZxqHXycPqIbzV2YhUmIEmdLrgs/J5gDFGq+PhX5FtQL7B0+djE
 IufUTcj5xMqbmyTFvx7Az6V+BnG94e4TTWjpQ=
X-Google-DKIM-Signature: v=1; a=rsa-sha256; c=relaxed/relaxed;
 d=1e100.net; s=20230601; t=1712582514; x=1713187314;
 h=references:in-reply-to:cc:to:from:subject:message-id:date
 :x-gm-message-state:from:to:cc:subject:date:message-id:reply-to;
 bh=CuhnEIQWhXGM+sx494pWOLrM453GfnhvI3+NcnL0fbM=;
 b=gIIgpD0j3CL0wDKl6HoK80PILrv3utOH0lBBRLPqTnC1ECBjwC+FfpmVRnwky/94DM
 n4iAHr/gF725gXHoCfeRMyZAcwRFaNCBrFCe2viUWkB2kdhpEwZGquGHLqWpffAWr/um
 xCtUweUAbXHtUrQCSLeR7EKlquMk43AdriUzON3SIbXdUPRE/vEpe2b6rmOTi9hMl6uc
 ccIWNa1kI/bwoBApmgosDyEL2xgAKzXfRGK3Cpu8+ybeJC/by0IpbHOvmVJ+L41yYa2Y
 ta0HvvyhuCBURtBnQ1plEI8t71oAQufXU7k59bKTZHrzLu6CQCUQNAf62gXEYTp6Rdl+
 tUjA==
X-Gm-Message-State: AOJu0Yw5x2tTbK5UzBxq6zBoHAQovMXDQNycAkZI9zWuetPOOtHBkwZR
 +EmoiVGW1+tBen5QeAs6TLW6EQvU0kNIIdzDFsjE0hdORqHkJxqnDaJLaNfnyPCM9QVZY0lJchR
 EMUkhHQIi+gK6fp+rqYt7Z5vPv1lI9L+OJPRhN6D2SB1nCk/TJfzWG+og
X-Google-Smtp-Source: AGHT+IHwFziAJkq9S6ewlPlFdvZQYHRgdV8ulWl5pBGKY6mUi4NjR84iieavE8sQT8Drk3thQBFblix8XIul
X-Received: by 2002:a0d:db41:0:b0:615:2b6e:f8bb with SMTP id
 d62-20020a0ddb41000000b006152b6ef8bbmr7751052ywe.44.1712582514475; 
 Mon, 08 Apr 2024 06:21:54 -0700 (PDT)
Received: from postal.iol.unh.edu (postal.iol.unh.edu.
 [2606:4100:3880:1234::84]) by smtp-relay.gmail.com with ESMTPS id
 hm9-20020a05690c628900b00615852e7b4fsm358619ywb.13.2024.04.08.06.21.54
 (version=TLS1_2 cipher=ECDHE-ECDSA-AES128-GCM-SHA256 bits=128/128);
 Mon, 08 Apr 2024 06:21:54 -0700 (PDT)
X-Relaying-Domain: iol.unh.edu
Date: Mon, 08 Apr 2024 06:21:54 -0700 (PDT)
Message-ID: <6613ef72.050a0220.a8a70.9023SMTPIN_ADDED_MISSING@mx.google.com>
Received: from [172.21.0.6] (unknown [172.18.0.240])
 by postal.iol.unh.edu (Postfix) with ESMTP id 1F5B76052514;
 Mon,  8 Apr 2024 09:21:54 -0400 (EDT)
Subject: |SUCCESS| pw139184 [PATCH] config/arm: add Ampere AmpereOneX platfor
From: dpdklab@iol.unh.edu
To: Test Report <test-report@dpdk.org>
Cc: dpdk-test-reports@iol.unh.edu
In-Reply-To: <20240407063604.79303-1-jiangyutang@os.amperecomputing.com>
References: <20240407063604.79303-1-jiangyutang@os.amperecomputing.com>
Content-Type: text/plain
X-BeenThere: test-report@dpdk.org
X-Mailman-Version: 2.1.29
Precedence: list
List-Id: automatic DPDK test reports <test-report.dpdk.org>
List-Unsubscribe: <https://mails.dpdk.org/options/test-report>,
 <mailto:test-report-request@dpdk.org?subject=unsubscribe>
List-Archive: <http://mails.dpdk.org/archives/test-report/>
List-Post: <mailto:test-report@dpdk.org>
List-Help: <mailto:test-report-request@dpdk.org?subject=help>
List-Subscribe: <https://mails.dpdk.org/listinfo/test-report>,
 <mailto:test-report-request@dpdk.org?subject=subscribe>
Errors-To: test-report-bounces@dpdk.org

Test-Label: iol-unit-arm64-testing
Test-Status: SUCCESS
http://dpdk.org/patch/139184

_Testing PASS_

Submitter: Yutang Jiang <jiangyutang@os.amperecomputing.com>
Date: Sunday, April 07 2024 06:36:04 
DPDK git baseline: Repo:dpdk
  Branch: master
  CommitID:e2e546ab5bf5e024986ccb5310ab43982f3bb40c

139184 --> testing pass

Test environment and result as below:

+--------------------------+----------------+
|       Environment        | dpdk_unit_test |
+==========================+================+
| Debian 11 (Buster) (ARM) | PASS           |
+--------------------------+----------------+
| Fedora 37 (ARM)          | PASS           |
+--------------------------+----------------+
| Debian 12 (arm)          | PASS           |
+--------------------------+----------------+
| CentOS Stream 9 (ARM)    | PASS           |
+--------------------------+----------------+
| Fedora 39 (ARM)          | PASS           |
+--------------------------+----------------+
| Fedora 38 (ARM)          | PASS           |
+--------------------------+----------------+


Debian 11 (Buster) (ARM)
	Kernel: Container Host Kernel
	Compiler: gcc 10.2.1

Fedora 37 (ARM)
	Kernel: Depends on container host
	Compiler: gcc 12.3.1

Debian 12 (arm)
	Kernel: Container Host Kernel
	Compiler: gcc 12.2.0

CentOS Stream 9 (ARM)
	Kernel: Container Host Kernel
	Compiler: gcc 11.4.1

Fedora 39 (ARM)
	Kernel: Depends on container host
	Compiler: gcc 13.2.1

Fedora 38 (ARM)
	Kernel: Depends on container host
	Compiler: gcc 13.2.1

To view detailed results, visit:
https://lab.dpdk.org/results/dashboard/patchsets/29738/

UNH-IOL DPDK Community Lab

To manage your email subscriptions, visit: 
https://lab.dpdk.org/results/dashboard/preferences/subscriptions/