From mboxrd@z Thu Jan  1 00:00:00 1970
Return-Path: <test-report-bounces@dpdk.org>
Received: from mails.dpdk.org (mails.dpdk.org [217.70.189.124])
	by inbox.dpdk.org (Postfix) with ESMTP id 93F8B43DA3
	for <public@inbox.dpdk.org>; Mon,  8 Apr 2024 15:28:43 +0200 (CEST)
Received: from mails.dpdk.org (localhost [127.0.0.1])
	by mails.dpdk.org (Postfix) with ESMTP id 8DFB8402C0;
	Mon,  8 Apr 2024 15:28:43 +0200 (CEST)
Received: from mail-io1-f100.google.com (mail-io1-f100.google.com
 [209.85.166.100])
 by mails.dpdk.org (Postfix) with ESMTP id 9C43940041
 for <test-report@dpdk.org>; Mon,  8 Apr 2024 15:28:42 +0200 (CEST)
Received: by mail-io1-f100.google.com with SMTP id
 ca18e2360f4ac-7d5ee54dcecso34373939f.0
 for <test-report@dpdk.org>; Mon, 08 Apr 2024 06:28:42 -0700 (PDT)
DKIM-Signature: v=1; a=rsa-sha256; c=relaxed/relaxed;
 d=iol.unh.edu; s=unh-iol; t=1712582922; x=1713187722; darn=dpdk.org;
 h=references:in-reply-to:cc:to:from:subject:message-id:date:from:to
 :cc:subject:date:message-id:reply-to;
 bh=6eZJmjN6vZAgAXLxPSCtAMWpCHuKMgBCsla20GRTlMI=;
 b=BCuQWj7qMML4xcQwGI96ny4mO7kQ6nG9kY7O1Mg7npTNp5fIxSEi7rMdZMiFD8lZd8
 PCrJxo5rYPvv33Xa74PaA8m5IW6e6KrZMddAyWHGCmrrB4ld0OVG8Ooj45wuwZ0Uh4kl
 xbLVxQmjiEzDfCMbQhbK46+6Qbmrw7Yuu4ie4=
X-Google-DKIM-Signature: v=1; a=rsa-sha256; c=relaxed/relaxed;
 d=1e100.net; s=20230601; t=1712582922; x=1713187722;
 h=references:in-reply-to:cc:to:from:subject:message-id:date
 :x-gm-message-state:from:to:cc:subject:date:message-id:reply-to;
 bh=6eZJmjN6vZAgAXLxPSCtAMWpCHuKMgBCsla20GRTlMI=;
 b=LRF3S3BYyDR2hCfZyItd2jjbz8lA2txSoXTXEpinZrnNujAZ3C14kesVQ3z+kErN3D
 VF1cv1xjwJotOYV5EO+dZLfxANa6PLsOLyA7yOLC4uv20NVPphRzyeyqVLP1TzOpUDjU
 YWxZ4YAMcxoLT07NUN5MDlnTdMXK9ATCZsS9CeAHJUgLZSd1zBO+fKzFHrU/lzT5i75V
 PS88WDmcfDNoHgqY5edsnDvbkyVMUEDai73wgllrJr3Iiu/oNJfGv6epLmN0icGixHH+
 6WtpTtTpQmIilQvyW6XDKl2fdBQypIHqWuZhK23z/dJSU2OeCfaqIaYgio3OUVPTJnmg
 PsYA==
X-Gm-Message-State: AOJu0YzIH4OqNt0udG4XXhv+iAjs3yC6PuiJ2AGc3plTId6sIvCqXHh5
 yk6rODdCo5WvCHvr18oA4sqMeplkx3tEJ8hqpZSHqYjJjyOaRtAzQjAAJadpcLgM8G8asVtTSJ1
 gBhok0b3kf6EDJb/VeGJ+KPJIX2yzyUBB+/GA7xdkOGMGDtRDbAl/5q2O
X-Google-Smtp-Source: AGHT+IGFaTN2Z/1F5z0KGBJVmQRkOUnoaWzAYmnVkCZfQvox74u9FuXrJHl1FKsBW3sH24qZU2S6p8WSFK7o
X-Received: by 2002:a05:6e02:1c2a:b0:36a:297d:3f0b with SMTP id
 m10-20020a056e021c2a00b0036a297d3f0bmr1554365ilh.15.1712582921368; 
 Mon, 08 Apr 2024 06:28:41 -0700 (PDT)
Received: from postal.iol.unh.edu (postal.iol.unh.edu.
 [2606:4100:3880:1234::84]) by smtp-relay.gmail.com with ESMTPS id
 p16-20020a92c110000000b003662f7dd28esm194484ile.24.2024.04.08.06.28.41
 (version=TLS1_2 cipher=ECDHE-ECDSA-AES128-GCM-SHA256 bits=128/128);
 Mon, 08 Apr 2024 06:28:41 -0700 (PDT)
X-Relaying-Domain: iol.unh.edu
Date: Mon, 08 Apr 2024 06:28:41 -0700 (PDT)
Message-ID: <6613f109.920a0220.ef32b.d6b6SMTPIN_ADDED_MISSING@mx.google.com>
Received: from [172.21.0.6] (unknown [172.18.0.240])
 by postal.iol.unh.edu (Postfix) with ESMTP id CE7686052514;
 Mon,  8 Apr 2024 09:28:40 -0400 (EDT)
Subject: |SUCCESS| pw139184 [PATCH] config/arm: add Ampere AmpereOneX platfor
From: dpdklab@iol.unh.edu
To: Test Report <test-report@dpdk.org>
Cc: dpdk-test-reports@iol.unh.edu
In-Reply-To: <20240407063604.79303-1-jiangyutang@os.amperecomputing.com>
References: <20240407063604.79303-1-jiangyutang@os.amperecomputing.com>
Content-Type: text/plain
X-BeenThere: test-report@dpdk.org
X-Mailman-Version: 2.1.29
Precedence: list
List-Id: automatic DPDK test reports <test-report.dpdk.org>
List-Unsubscribe: <https://mails.dpdk.org/options/test-report>,
 <mailto:test-report-request@dpdk.org?subject=unsubscribe>
List-Archive: <http://mails.dpdk.org/archives/test-report/>
List-Post: <mailto:test-report@dpdk.org>
List-Help: <mailto:test-report-request@dpdk.org?subject=help>
List-Subscribe: <https://mails.dpdk.org/listinfo/test-report>,
 <mailto:test-report-request@dpdk.org?subject=subscribe>
Errors-To: test-report-bounces@dpdk.org

Test-Label: iol-compile-amd64-testing
Test-Status: SUCCESS
http://dpdk.org/patch/139184

_Testing PASS_

Submitter: Yutang Jiang <jiangyutang@os.amperecomputing.com>
Date: Sunday, April 07 2024 06:36:04 
DPDK git baseline: Repo:dpdk
  Branch: master
  CommitID:e2e546ab5bf5e024986ccb5310ab43982f3bb40c

139184 --> testing pass

Test environment and result as below:

+---------------------+--------------------+----------------------+-------------------+
|     Environment     | dpdk_meson_compile | dpdk_mingw64_compile | dpdk_msvc_compile |
+=====================+====================+======================+===================+
| Debian 12           | PASS               | SKIPPED              | SKIPPED           |
+---------------------+--------------------+----------------------+-------------------+
| Debian Bullseye     | PASS               | SKIPPED              | SKIPPED           |
+---------------------+--------------------+----------------------+-------------------+
| CentOS Stream 8     | PASS               | SKIPPED              | SKIPPED           |
+---------------------+--------------------+----------------------+-------------------+
| Fedora 39           | PASS               | SKIPPED              | SKIPPED           |
+---------------------+--------------------+----------------------+-------------------+
| FreeBSD 13.2        | PASS               | SKIPPED              | SKIPPED           |
+---------------------+--------------------+----------------------+-------------------+
| CentOS Stream 9     | PASS               | SKIPPED              | SKIPPED           |
+---------------------+--------------------+----------------------+-------------------+
| Fedora 38           | PASS               | SKIPPED              | SKIPPED           |
+---------------------+--------------------+----------------------+-------------------+
| Windows Server 2022 | PASS               | PASS                 | PASS              |
+---------------------+--------------------+----------------------+-------------------+
| Windows Server 2019 | PASS               | PASS                 | SKIPPED           |
+---------------------+--------------------+----------------------+-------------------+
| openSUSE Leap 15    | PASS               | SKIPPED              | SKIPPED           |
+---------------------+--------------------+----------------------+-------------------+
| Ubuntu 20.04        | PASS               | SKIPPED              | SKIPPED           |
+---------------------+--------------------+----------------------+-------------------+
| Ubuntu 22.04        | PASS               | SKIPPED              | SKIPPED           |
+---------------------+--------------------+----------------------+-------------------+
| Fedora 37           | PASS               | SKIPPED              | SKIPPED           |
+---------------------+--------------------+----------------------+-------------------+
| RHEL8               | PASS               | SKIPPED              | SKIPPED           |
+---------------------+--------------------+----------------------+-------------------+


Debian 12
	Kernel: Container Host Kernel
	Compiler: gcc 10.2.1

Debian Bullseye
	Kernel: 5.4.0-167-generic
	Compiler: gcc 10.2.1-6

CentOS Stream 8
	Kernel: 5.4.0-167-generic
	Compiler: gcc 8.5.0 20210514

Fedora 39
	Kernel: Depends on container host
	Compiler: gcc 13.2.1

FreeBSD 13.2
	Kernel: 13.2
	Compiler: clang 14.0.5

CentOS Stream 9
	Kernel: 5.4.0-167-generic
	Compiler: gcc 11.4.1 20230605

Fedora 38
	Kernel: Depends on container host
	Compiler: gcc 13.2.1

Windows Server 2022
	Kernel: 10.0.20348.2031
	Compiler: clang 15.0.7, gcc 8.1.0 (MinGW), and MSVC VS 17.9

Windows Server 2019
	Kernel: 10.0.17763
	Compiler: clang 14.0 and gcc 8.1.0 (MinGW)

openSUSE Leap 15
	Kernel: 5.4.0-167-generic
	Compiler: gcc 7.5.0

Ubuntu 20.04
	Kernel: 5.4.0-167-generic
	Compiler: gcc 9.4.0-1ubuntu1~20.04.1

Ubuntu 22.04
	Kernel: 5.4.0-167-generic
	Compiler: gcc 11.4.0

Fedora 37
	Kernel: Depends on container host system
	Compiler: gcc 12.3.1

RHEL8
	Kernel: 5.4.0-167-generic
	Compiler: gcc 8.5.0 20210514 (Red Hat 8.5.0-20)

To view detailed results, visit:
https://lab.dpdk.org/results/dashboard/patchsets/29738/

UNH-IOL DPDK Community Lab

To manage your email subscriptions, visit: 
https://lab.dpdk.org/results/dashboard/preferences/subscriptions/