From mboxrd@z Thu Jan  1 00:00:00 1970
Return-Path: <test-report-bounces@dpdk.org>
Received: from mails.dpdk.org (mails.dpdk.org [217.70.189.124])
	by inbox.dpdk.org (Postfix) with ESMTP id CA40743DA3
	for <public@inbox.dpdk.org>; Mon,  8 Apr 2024 15:29:39 +0200 (CEST)
Received: from mails.dpdk.org (localhost [127.0.0.1])
	by mails.dpdk.org (Postfix) with ESMTP id C604C402C0;
	Mon,  8 Apr 2024 15:29:39 +0200 (CEST)
Received: from mail-io1-f100.google.com (mail-io1-f100.google.com
 [209.85.166.100])
 by mails.dpdk.org (Postfix) with ESMTP id 584D340041
 for <test-report@dpdk.org>; Mon,  8 Apr 2024 15:29:38 +0200 (CEST)
Received: by mail-io1-f100.google.com with SMTP id
 ca18e2360f4ac-7d5facf3161so14478339f.1
 for <test-report@dpdk.org>; Mon, 08 Apr 2024 06:29:38 -0700 (PDT)
DKIM-Signature: v=1; a=rsa-sha256; c=relaxed/relaxed;
 d=iol.unh.edu; s=unh-iol; t=1712582977; x=1713187777; darn=dpdk.org;
 h=references:in-reply-to:cc:to:from:subject:message-id:date:from:to
 :cc:subject:date:message-id:reply-to;
 bh=YZMcQM3Ftav69E6rK+PV3Cd+tCq4fhd2QEOWgNGHZNM=;
 b=a6kE/v60B4L5Rx/IhKvJ9uzlnv+dB1fIc1FEiqsCsN8ca2+IkCI7XRaPdj5ah9cJeK
 rJDiTbBDEj4XMdpMOxOlK9389dF1Y3/Pv7B7mcstvuZs7FPHD/3RtIX1b47j0ukfrCbF
 366lOb0IILZ5eF+1WtRX2hj8U6HerLYgymj9E=
X-Google-DKIM-Signature: v=1; a=rsa-sha256; c=relaxed/relaxed;
 d=1e100.net; s=20230601; t=1712582977; x=1713187777;
 h=references:in-reply-to:cc:to:from:subject:message-id:date
 :x-gm-message-state:from:to:cc:subject:date:message-id:reply-to;
 bh=YZMcQM3Ftav69E6rK+PV3Cd+tCq4fhd2QEOWgNGHZNM=;
 b=HTEQFIUZ1NXLlbRNjPIRxNqd1VHCO3BXsbKyXtjXC+lcgELpoh70KffcRnv2+nMbPj
 Nub9YWrmePywoaTFNMnf295baXSRC/QacSodZkzbqDsfjoDiooEiTAeFEzmmR4RE73YA
 lEPi+UgofDBUk8+s8dmm29/8ZXGzFfIpE+UhJEMtdSKppYOR9sX14PhVq4GPh+0EX/kP
 WvqyvOQKTxTJytoH4BzCJ8SW7PtT5MIjEJmdw7aownrJb+DmGQXf//iHhXEZX8yD/4+i
 Sn/SxMA128x/L8bYWGJZCNnWtmsxTq8SjXKh9PVMe4nzeuy12vjo/h6sNzYJWlYYa9Ce
 ZBTg==
X-Gm-Message-State: AOJu0YzyiH+ClAQzTHR5B/Kj99h7L8Lw5Afui4Vngj5CDviqrGZI0oZV
 pnOf2sbuNcgr7+ZQmEAyEFHyZkX4SJNAr+wBq4q8TNVIj/ZQ/fJJyWx0CHBmfrtFBhTHi0cx+nK
 7mAJ+J/w8dzIrZ3PEqdMQL4qLq41yCdsGnreOaMFg
X-Google-Smtp-Source: AGHT+IGmmcyyvP7ZZj0GZw62arID94PRnTCXSIHMczMkCWcGGAktjxgyPEwpdqv95FCZGM6D2+lL9pHwCQQE
X-Received: by 2002:a05:6e02:168b:b0:36a:217b:778a with SMTP id
 f11-20020a056e02168b00b0036a217b778amr4880871ila.11.1712582977781; 
 Mon, 08 Apr 2024 06:29:37 -0700 (PDT)
Received: from postal.iol.unh.edu (postal.iol.unh.edu. [132.177.123.84])
 by smtp-relay.gmail.com with ESMTPS id
 ky17-20020a056638941100b0048284feaa7bsm205702jab.77.2024.04.08.06.29.37
 (version=TLS1_2 cipher=ECDHE-ECDSA-AES128-GCM-SHA256 bits=128/128);
 Mon, 08 Apr 2024 06:29:37 -0700 (PDT)
X-Relaying-Domain: iol.unh.edu
Date: Mon, 08 Apr 2024 06:29:37 -0700 (PDT)
Message-ID: <6613f141.050a0220.c3412.e790SMTPIN_ADDED_MISSING@mx.google.com>
Received: from [172.21.0.7] (unknown [172.18.0.240])
 by postal.iol.unh.edu (Postfix) with ESMTP id 447356052514;
 Mon,  8 Apr 2024 09:29:36 -0400 (EDT)
Subject: |SUCCESS| pw139184 [PATCH] config/arm: add Ampere AmpereOneX platfor
From: dpdklab@iol.unh.edu
To: Test Report <test-report@dpdk.org>
Cc: dpdk-test-reports@iol.unh.edu
In-Reply-To: <20240407063604.79303-1-jiangyutang@os.amperecomputing.com>
References: <20240407063604.79303-1-jiangyutang@os.amperecomputing.com>
Content-Type: text/plain
X-BeenThere: test-report@dpdk.org
X-Mailman-Version: 2.1.29
Precedence: list
List-Id: automatic DPDK test reports <test-report.dpdk.org>
List-Unsubscribe: <https://mails.dpdk.org/options/test-report>,
 <mailto:test-report-request@dpdk.org?subject=unsubscribe>
List-Archive: <http://mails.dpdk.org/archives/test-report/>
List-Post: <mailto:test-report@dpdk.org>
List-Help: <mailto:test-report-request@dpdk.org?subject=help>
List-Subscribe: <https://mails.dpdk.org/listinfo/test-report>,
 <mailto:test-report-request@dpdk.org?subject=subscribe>
Errors-To: test-report-bounces@dpdk.org

Test-Label: iol-abi-testing
Test-Status: SUCCESS
http://dpdk.org/patch/139184

_Testing PASS_

Submitter: Yutang Jiang <jiangyutang@os.amperecomputing.com>
Date: Sunday, April 07 2024 06:36:04 
DPDK git baseline: Repo:dpdk
  Branch: master
  CommitID:e2e546ab5bf5e024986ccb5310ab43982f3bb40c

139184 --> testing pass

Test environment and result as below:

+------------------+----------+
|   Environment    | abi_test |
+==================+==========+
| Fedora 39        | PASS     |
+------------------+----------+
| RHEL8            | PASS     |
+------------------+----------+
| CentOS Stream 8  | PASS     |
+------------------+----------+
| openSUSE Leap 15 | PASS     |
+------------------+----------+
| Ubuntu 22.04     | PASS     |
+------------------+----------+
| Debian Bullseye  | PASS     |
+------------------+----------+
| Fedora 38        | PASS     |
+------------------+----------+
| Fedora 37        | PASS     |
+------------------+----------+
| Debian 12        | PASS     |
+------------------+----------+
| CentOS Stream 9  | PASS     |
+------------------+----------+


Fedora 39
	Kernel: Depends on container host
	Compiler: gcc 13.2.1

RHEL8
	Kernel: 5.4.0-167-generic
	Compiler: gcc 8.5.0 20210514 (Red Hat 8.5.0-20)

CentOS Stream 8
	Kernel: 5.4.0-167-generic
	Compiler: gcc 8.5.0 20210514

openSUSE Leap 15
	Kernel: 5.4.0-167-generic
	Compiler: gcc 7.5.0

Ubuntu 22.04
	Kernel: 5.4.0-167-generic
	Compiler: gcc 11.4.0

Debian Bullseye
	Kernel: 5.4.0-167-generic
	Compiler: gcc 10.2.1-6

Fedora 38
	Kernel: Depends on container host
	Compiler: clang 16.0.6

Fedora 37
	Kernel: Depends on container host system
	Compiler: gcc 12.3.1

Debian 12
	Kernel: Container Host Kernel
	Compiler: gcc 10.2.1

CentOS Stream 9
	Kernel: 5.4.0-167-generic
	Compiler: gcc 11.4.1 20230605

To view detailed results, visit:
https://lab.dpdk.org/results/dashboard/patchsets/29738/

UNH-IOL DPDK Community Lab

To manage your email subscriptions, visit: 
https://lab.dpdk.org/results/dashboard/preferences/subscriptions/