From mboxrd@z Thu Jan  1 00:00:00 1970
Return-Path: <test-report-bounces@dpdk.org>
Received: from mails.dpdk.org (mails.dpdk.org [217.70.189.124])
	by inbox.dpdk.org (Postfix) with ESMTP id 4FA6043DA3
	for <public@inbox.dpdk.org>; Mon,  8 Apr 2024 15:30:44 +0200 (CEST)
Received: from mails.dpdk.org (localhost [127.0.0.1])
	by mails.dpdk.org (Postfix) with ESMTP id 40988402C0;
	Mon,  8 Apr 2024 15:30:44 +0200 (CEST)
Received: from mail-yw1-f226.google.com (mail-yw1-f226.google.com
 [209.85.128.226])
 by mails.dpdk.org (Postfix) with ESMTP id 07D0740041
 for <test-report@dpdk.org>; Mon,  8 Apr 2024 15:30:43 +0200 (CEST)
Received: by mail-yw1-f226.google.com with SMTP id
 00721157ae682-61587aa956eso40442547b3.1
 for <test-report@dpdk.org>; Mon, 08 Apr 2024 06:30:42 -0700 (PDT)
DKIM-Signature: v=1; a=rsa-sha256; c=relaxed/relaxed;
 d=iol.unh.edu; s=unh-iol; t=1712583042; x=1713187842; darn=dpdk.org;
 h=references:in-reply-to:cc:to:from:subject:message-id:date:from:to
 :cc:subject:date:message-id:reply-to;
 bh=iFrCWeFe7d2jhTtYk1t0WDE4qkH3TafD/RQAceD/bs0=;
 b=PKsnB+Z0lsmAMP2Rg5C/P4Z0l981Rsd8bM7I31nH3uzcKoN1nfk6tAp2+AgS5JYu27
 vNTQqtIeTfp5WoB/f9i3UJNfw15lAOYgGgn9zkJS6iJoobVsuXAZcM+9XFkttV1x/GxP
 y07qPtp3YzW2k5aCm1fI6JfJzqVvpkq35Pe1g=
X-Google-DKIM-Signature: v=1; a=rsa-sha256; c=relaxed/relaxed;
 d=1e100.net; s=20230601; t=1712583042; x=1713187842;
 h=references:in-reply-to:cc:to:from:subject:message-id:date
 :x-gm-message-state:from:to:cc:subject:date:message-id:reply-to;
 bh=iFrCWeFe7d2jhTtYk1t0WDE4qkH3TafD/RQAceD/bs0=;
 b=RaWKUtD/E9N1l2sIGnxvE/VPxfCgrdsAh+viOuRyR/pb16l5F5T7tt/l8iXYFCMwvP
 glx/zz47AhTeIeJGo1twQ+eQtqRfj8YLgHshRE0bJlwRk6/QsgyyGN3qOlvrjgZb0yUf
 Y4fvmAATw5KD4gVDLwsfQ0glr2LxL4hYxYXIqg47H1jPGeTE06yMTOOISRjYdN+NllhK
 Kjhnk9vepnFPSeX2dsA8wNXmpVZnFkAzTEneTKSaEodBrKsQHVLbmEeIgScq3zySb78o
 SkYLkbEgldMe4N6kxSv2OWpzUtkfz0O4wV+WrDWLZtwURmGEmg/fWe7t1UtK0be0SFcd
 RUhA==
X-Gm-Message-State: AOJu0Yz2U7EsyDazoW39a/5drpjNLCs3jLdBc6VG+BNmNj7XSsrCdPkK
 ogcjbT0KMOqG9C25EJC8GgJU9bmONDgaSMRrzVznqeQbUxojMcZxeS0fDDjFS3kyLJ79cFlo059
 5fX/kDd15l8Z4UHLLOLIm0+Cn41URL3XCNMnP5XBm2lGqzFIT+nDlBUFR
X-Google-Smtp-Source: AGHT+IGaiCfxHkl7WPP66y+yHwls1jjx6RzLq/PN3voA8KnPjAGnVXY1glNnehFo9ugNbMvVEEyC7IElrk8n
X-Received: by 2002:a0d:dbc7:0:b0:613:ffa9:20a with SMTP id
 d190-20020a0ddbc7000000b00613ffa9020amr8312041ywe.10.1712583042477; 
 Mon, 08 Apr 2024 06:30:42 -0700 (PDT)
Received: from postal.iol.unh.edu (postal.iol.unh.edu.
 [2606:4100:3880:1234::84]) by smtp-relay.gmail.com with ESMTPS id
 jw2-20020a05690c74c200b00614dcc1a7c1sm320529ywb.48.2024.04.08.06.30.42
 (version=TLS1_2 cipher=ECDHE-ECDSA-AES128-GCM-SHA256 bits=128/128);
 Mon, 08 Apr 2024 06:30:42 -0700 (PDT)
X-Relaying-Domain: iol.unh.edu
Date: Mon, 08 Apr 2024 06:30:42 -0700 (PDT)
Message-ID: <6613f182.050a0220.c3bab.7229SMTPIN_ADDED_MISSING@mx.google.com>
Received: from [172.21.0.6] (unknown [172.18.0.240])
 by postal.iol.unh.edu (Postfix) with ESMTP id 314436052514;
 Mon,  8 Apr 2024 09:30:42 -0400 (EDT)
Subject: |SUCCESS| pw139184 [PATCH] config/arm: add Ampere AmpereOneX platfor
From: dpdklab@iol.unh.edu
To: Test Report <test-report@dpdk.org>
Cc: dpdk-test-reports@iol.unh.edu
In-Reply-To: <20240407063604.79303-1-jiangyutang@os.amperecomputing.com>
References: <20240407063604.79303-1-jiangyutang@os.amperecomputing.com>
Content-Type: text/plain
X-BeenThere: test-report@dpdk.org
X-Mailman-Version: 2.1.29
Precedence: list
List-Id: automatic DPDK test reports <test-report.dpdk.org>
List-Unsubscribe: <https://mails.dpdk.org/options/test-report>,
 <mailto:test-report-request@dpdk.org?subject=unsubscribe>
List-Archive: <http://mails.dpdk.org/archives/test-report/>
List-Post: <mailto:test-report@dpdk.org>
List-Help: <mailto:test-report-request@dpdk.org?subject=help>
List-Subscribe: <https://mails.dpdk.org/listinfo/test-report>,
 <mailto:test-report-request@dpdk.org?subject=subscribe>
Errors-To: test-report-bounces@dpdk.org

Test-Label: iol-unit-arm64-testing
Test-Status: SUCCESS
http://dpdk.org/patch/139184

_Testing PASS_

Submitter: Yutang Jiang <jiangyutang@os.amperecomputing.com>
Date: Sunday, April 07 2024 06:36:04 
DPDK git baseline: Repo:dpdk
  Branch: master
  CommitID:e2e546ab5bf5e024986ccb5310ab43982f3bb40c

139184 --> testing pass

Test environment and result as below:

+--------------------------+----------------+------------------------------+---------------------------+
|       Environment        | dpdk_unit_test | cryptodev_sw_snow3g_autotest | cryptodev_sw_zuc_autotest |
+==========================+================+==============================+===========================+
| Debian 11 (Buster) (ARM) | PASS           | SKIPPED                      | SKIPPED                   |
+--------------------------+----------------+------------------------------+---------------------------+
| Fedora 37 (ARM)          | PASS           | SKIPPED                      | SKIPPED                   |
+--------------------------+----------------+------------------------------+---------------------------+
| Debian 12 (arm)          | PASS           | PASS                         | PASS                      |
+--------------------------+----------------+------------------------------+---------------------------+
| CentOS Stream 9 (ARM)    | PASS           | SKIPPED                      | SKIPPED                   |
+--------------------------+----------------+------------------------------+---------------------------+
| Fedora 39 (ARM)          | PASS           | SKIPPED                      | SKIPPED                   |
+--------------------------+----------------+------------------------------+---------------------------+
| Fedora 38 (ARM)          | PASS           | SKIPPED                      | SKIPPED                   |
+--------------------------+----------------+------------------------------+---------------------------+
| Ubuntu 20.04 (ARM)       | PASS           | SKIPPED                      | SKIPPED                   |
+--------------------------+----------------+------------------------------+---------------------------+


Debian 11 (Buster) (ARM)
	Kernel: Container Host Kernel
	Compiler: gcc 10.2.1

Fedora 37 (ARM)
	Kernel: Depends on container host
	Compiler: gcc 12.3.1

Debian 12 (arm)
	Kernel: Container Host Kernel
	Compiler: gcc 12.2.0

CentOS Stream 9 (ARM)
	Kernel: Container Host Kernel
	Compiler: gcc 11.4.1

Fedora 39 (ARM)
	Kernel: Depends on container host
	Compiler: gcc 13.2.1

Fedora 38 (ARM)
	Kernel: Depends on container host
	Compiler: gcc 13.2.1

Ubuntu 20.04 (ARM)
	Kernel: Container Host Kernel
	Compiler: gcc 9.4.0

To view detailed results, visit:
https://lab.dpdk.org/results/dashboard/patchsets/29738/

UNH-IOL DPDK Community Lab

To manage your email subscriptions, visit: 
https://lab.dpdk.org/results/dashboard/preferences/subscriptions/