From mboxrd@z Thu Jan  1 00:00:00 1970
Return-Path: <test-report-bounces@dpdk.org>
Received: from mails.dpdk.org (mails.dpdk.org [217.70.189.124])
	by inbox.dpdk.org (Postfix) with ESMTP id 9AF8743DD1
	for <public@inbox.dpdk.org>; Mon,  8 Apr 2024 20:25:09 +0200 (CEST)
Received: from mails.dpdk.org (localhost [127.0.0.1])
	by mails.dpdk.org (Postfix) with ESMTP id 9697A402F0;
	Mon,  8 Apr 2024 20:25:09 +0200 (CEST)
Received: from mail-vs1-f99.google.com (mail-vs1-f99.google.com
 [209.85.217.99]) by mails.dpdk.org (Postfix) with ESMTP id 1B74E402F0
 for <test-report@dpdk.org>; Mon,  8 Apr 2024 20:25:08 +0200 (CEST)
Received: by mail-vs1-f99.google.com with SMTP id
 ada2fe7eead31-479d46673ccso1178783137.2
 for <test-report@dpdk.org>; Mon, 08 Apr 2024 11:25:08 -0700 (PDT)
DKIM-Signature: v=1; a=rsa-sha256; c=relaxed/relaxed;
 d=iol.unh.edu; s=unh-iol; t=1712600707; x=1713205507; darn=dpdk.org;
 h=references:in-reply-to:cc:to:from:subject:message-id:date:from:to
 :cc:subject:date:message-id:reply-to;
 bh=v1OQWXfaBNIBM2zI0diMXRYm3GkebcmuTHBNoKMuKn4=;
 b=Cy32TecpH0kyKUg+Z/0HjDXrAG5iglO4G3O6yfUGDaktXKLPMAi+Rk3Ca379W7u7gR
 5RWCePvpvHBAqvzXjmy9SQeqt2kgFKnYpukw/+K5/v6N2UvETgT81po7eNAe6lZrVtTu
 LKV5JulXu9QIx5bR/1+bvoU9lZMPE8kXrJWKQ=
X-Google-DKIM-Signature: v=1; a=rsa-sha256; c=relaxed/relaxed;
 d=1e100.net; s=20230601; t=1712600707; x=1713205507;
 h=references:in-reply-to:cc:to:from:subject:message-id:date
 :x-gm-message-state:from:to:cc:subject:date:message-id:reply-to;
 bh=v1OQWXfaBNIBM2zI0diMXRYm3GkebcmuTHBNoKMuKn4=;
 b=R6qtWP9a47Dpm3wLNHLNwTsm0Mkl4om/yT0lbONn4H5M4zSSi9emvhY+vRdPEmeQ+z
 LtZPd4oVjcD7QdmOY8uoNdIufSNhZRlqCJ/6mbKmf6HvHDv+QxVvFB8+Gorwft7Hq6VN
 XqHgM+dTqFsC9Qs381V9NySWdOt+kOptHb7tHgGoRGbj26la5yAmuqzJKAJk1cSRfQET
 /Cd9vVE4diQZiOvxbPBa6nuWXEEQ6heYIiLBMRVCqVddf1RTVGdZZ58qLXVPfGeGdT7V
 wXty5dZEh11GhvzZ/t3k5vIUTV3RJz4purHLEKOUPOvxRGdLD+fp0NyCBF6VkuBV+PIT
 XepA==
X-Gm-Message-State: AOJu0Ywvjo4jQHrniEo08x4KwHLxpkpocslNzRJmsINVgH0j/LaV9G0J
 GY97s6vy7SxoYUF58+9fpOy2ncEWs0EUyspPRQtc8HtXfcELsoEjE0xHXVyPqzI/zQzHGAYqvQG
 l9Km3h7ULOc7O/W0cBVkFYxezJjLZKHFmKSxadb0t84UBuKvr/uRhuvag
X-Google-Smtp-Source: AGHT+IHApBSgIs7TkpTNlrdmTgszGmZy7Lrnj6NOQ8w+O1rNWBcchR83VMty71mLG1jQRJ8w5ntU87feqAz7
X-Received: by 2002:a05:6102:4:b0:479:e08d:56a7 with SMTP id
 j4-20020a056102000400b00479e08d56a7mr5147768vsp.5.1712600706986; 
 Mon, 08 Apr 2024 11:25:06 -0700 (PDT)
Received: from postal.iol.unh.edu (postal.iol.unh.edu.
 [2606:4100:3880:1234::84]) by smtp-relay.gmail.com with ESMTPS id
 gv11-20020a056214262b00b0069b1ca5e74esm146812qvb.38.2024.04.08.11.25.06
 (version=TLS1_2 cipher=ECDHE-ECDSA-AES128-GCM-SHA256 bits=128/128);
 Mon, 08 Apr 2024 11:25:06 -0700 (PDT)
X-Relaying-Domain: iol.unh.edu
Date: Mon, 08 Apr 2024 11:25:06 -0700 (PDT)
Message-ID: <66143682.050a0220.dc6f3.a730SMTPIN_ADDED_MISSING@mx.google.com>
Received: from [172.17.0.3] (unknown [172.18.0.217])
 by postal.iol.unh.edu (Postfix) with ESMTP id AB7BE6052735;
 Mon,  8 Apr 2024 14:25:06 -0400 (EDT)
Subject: |SUCCESS| pw139186-139188 [PATCH] [v14,3/3] net/af_xdp: support AF_X
From: dpdklab@iol.unh.edu
To: Test Report <test-report@dpdk.org>
Cc: dpdk-test-reports@iol.unh.edu
In-Reply-To: <20240408130924.232154-4-mtahhan@redhat.com>
References: <20240408130924.232154-4-mtahhan@redhat.com>
Content-Type: text/plain
X-BeenThere: test-report@dpdk.org
X-Mailman-Version: 2.1.29
Precedence: list
List-Id: automatic DPDK test reports <test-report.dpdk.org>
List-Unsubscribe: <https://mails.dpdk.org/options/test-report>,
 <mailto:test-report-request@dpdk.org?subject=unsubscribe>
List-Archive: <http://mails.dpdk.org/archives/test-report/>
List-Post: <mailto:test-report@dpdk.org>
List-Help: <mailto:test-report-request@dpdk.org?subject=help>
List-Subscribe: <https://mails.dpdk.org/listinfo/test-report>,
 <mailto:test-report-request@dpdk.org?subject=subscribe>
Errors-To: test-report-bounces@dpdk.org

Test-Label: iol-unit-amd64-testing
Test-Status: SUCCESS
http://dpdk.org/patch/139188

_Testing PASS_

Submitter: Maryam Tahhan <mtahhan@redhat.com>
Date: Monday, April 08 2024 13:09:22 
DPDK git baseline: Repo:dpdk
  Branch: master
  CommitID:e2e546ab5bf5e024986ccb5310ab43982f3bb40c

139186-139188 --> testing pass

Test environment and result as below:

+---------------------+----------------+
|     Environment     | dpdk_unit_test |
+=====================+================+
| Windows Server 2019 | PASS           |
+---------------------+----------------+
| CentOS Stream 9     | PASS           |
+---------------------+----------------+
| CentOS Stream 8     | PASS           |
+---------------------+----------------+
| Debian Bullseye     | PASS           |
+---------------------+----------------+
| Fedora 37           | PASS           |
+---------------------+----------------+
| Debian 12           | PASS           |
+---------------------+----------------+
| Fedora 38           | PASS           |
+---------------------+----------------+


Windows Server 2019
	Kernel: 10.0.17763
	Compiler: clang 14.0 and gcc 8.1.0 (MinGW)

CentOS Stream 9
	Kernel: 5.4.0-167-generic
	Compiler: gcc 11.4.1 20230605

CentOS Stream 8
	Kernel: 5.4.0-167-generic
	Compiler: gcc 8.5.0 20210514

Debian Bullseye
	Kernel: 5.4.0-167-generic
	Compiler: gcc 10.2.1-6

Fedora 37
	Kernel: Depends on container host system
	Compiler: gcc 12.3.1

Debian 12
	Kernel: Container Host Kernel
	Compiler: gcc 10.2.1

Fedora 38
	Kernel: Depends on container host
	Compiler: gcc 13.2.1

To view detailed results, visit:
https://lab.dpdk.org/results/dashboard/patchsets/29740/

UNH-IOL DPDK Community Lab

To manage your email subscriptions, visit: 
https://lab.dpdk.org/results/dashboard/preferences/subscriptions/