From mboxrd@z Thu Jan  1 00:00:00 1970
Return-Path: <test-report-bounces@dpdk.org>
Received: from mails.dpdk.org (mails.dpdk.org [217.70.189.124])
	by inbox.dpdk.org (Postfix) with ESMTP id 2BC5243DD2
	for <public@inbox.dpdk.org>; Mon,  8 Apr 2024 22:31:35 +0200 (CEST)
Received: from mails.dpdk.org (localhost [127.0.0.1])
	by mails.dpdk.org (Postfix) with ESMTP id 27F93402F0;
	Mon,  8 Apr 2024 22:31:35 +0200 (CEST)
Received: from mail-oo1-f97.google.com (mail-oo1-f97.google.com
 [209.85.161.97]) by mails.dpdk.org (Postfix) with ESMTP id C290C402E3
 for <test-report@dpdk.org>; Mon,  8 Apr 2024 22:31:33 +0200 (CEST)
Received: by mail-oo1-f97.google.com with SMTP id
 006d021491bc7-5aa2a74c238so1279055eaf.3
 for <test-report@dpdk.org>; Mon, 08 Apr 2024 13:31:33 -0700 (PDT)
DKIM-Signature: v=1; a=rsa-sha256; c=relaxed/relaxed;
 d=iol.unh.edu; s=unh-iol; t=1712608293; x=1713213093; darn=dpdk.org;
 h=references:in-reply-to:cc:to:from:subject:message-id:date:from:to
 :cc:subject:date:message-id:reply-to;
 bh=roF0j5hxWMKzF47Hj3BMxlMVJEeuNFwcLpDoI1amegw=;
 b=MChAhNeGRFuqGKLwmiK3y60WIKpjXoC2V1UWgmE9UuqiDMUCd0LzZzyaQEwU68VlC+
 TOdKLCYaxPvx8sdRNECu9YCtRVw9v0afDVcRWzxqQ6Py6RXhKREMday6XAgm8Bn9XLyB
 jOsr4invxpXEv9g55a/rdSTA+pRB0r/vi+NO0=
X-Google-DKIM-Signature: v=1; a=rsa-sha256; c=relaxed/relaxed;
 d=1e100.net; s=20230601; t=1712608293; x=1713213093;
 h=references:in-reply-to:cc:to:from:subject:message-id:date
 :x-gm-message-state:from:to:cc:subject:date:message-id:reply-to;
 bh=roF0j5hxWMKzF47Hj3BMxlMVJEeuNFwcLpDoI1amegw=;
 b=iN1/np1KTsrgMnqawZeFzK4daL4H7kRSQ9yCmq0U8wpQdZFq2GfqPSbw8lcAyJwGV4
 t4RHnR8IN8ZUtbE85x99rFE3s/6yxBBcaGCFOMx0e8Q5pdKHbf0CK+r0IvkiMHfxZa6S
 AQXl8/XpuJDSREEzzDABp6oLcbB0TvRjhVsRLghRQM7/s9CMjENUaJtfuG2nDZFTC7ea
 R9FcbYsKFfqps8lK46lmqQx1JFDhS2En9TXmwAfdEbqFJTyhJsCEqo9TVagirPPVoBnO
 n0ZBX90x75q+Mu1KvSWKB/0l9Z6bIA1HDrfgz9gKZkKL6RaM8Dni0CryMF+n8nhhvCOP
 a/Aw==
X-Gm-Message-State: AOJu0YwN+6VgSDw5UV1So4jVuwkcVZNgteIxOFOyIuQD8jojDOnKGxqe
 DDOzLezmUOepuPTikWT2ES0/9s0RIMMzpN4osPlsuZ4rAY81t+N3FPXJCmRe0tdmabSdcGl2g2I
 tk8GzSZxldu0a+WGMwX19rVAgz3Y8dCBP9apfP0dkY0E/+mxbl8wnNA/l
X-Google-Smtp-Source: AGHT+IHs8JQ2DtvVBWLsxczE2If+VUaHjsnSDA7QWkx8QXJyDtPR0c3UrDRRcktGIKpum/S+Fm7CMCzhnZOz
X-Received: by 2002:a05:6820:20c:b0:5a9:d53a:4859 with SMTP id
 bw12-20020a056820020c00b005a9d53a4859mr10794013oob.0.1712608293110; 
 Mon, 08 Apr 2024 13:31:33 -0700 (PDT)
Received: from postal.iol.unh.edu (postal.iol.unh.edu.
 [2606:4100:3880:1234::84]) by smtp-relay.gmail.com with ESMTPS id
 bb39-20020a056820162700b005a7b1614139sm214713oob.6.2024.04.08.13.31.33
 (version=TLS1_2 cipher=ECDHE-ECDSA-AES128-GCM-SHA256 bits=128/128);
 Mon, 08 Apr 2024 13:31:33 -0700 (PDT)
X-Relaying-Domain: iol.unh.edu
Date: Mon, 08 Apr 2024 13:31:33 -0700 (PDT)
Message-ID: <66145425.050a0220.5c2da.e096SMTPIN_ADDED_MISSING@mx.google.com>
Received: from [172.17.0.3] (unknown [172.18.0.217])
 by postal.iol.unh.edu (Postfix) with ESMTP id 924D86050A62;
 Mon,  8 Apr 2024 16:31:32 -0400 (EDT)
Subject: |SUCCESS| pw139190 [PATCH] [RFC] latencystats: performance overhaul
From: dpdklab@iol.unh.edu
To: Test Report <test-report@dpdk.org>
Cc: dpdk-test-reports@iol.unh.edu
In-Reply-To: <20240408195036.182545-1-stephen@networkplumber.org>
References: <20240408195036.182545-1-stephen@networkplumber.org>
Content-Type: text/plain
X-BeenThere: test-report@dpdk.org
X-Mailman-Version: 2.1.29
Precedence: list
List-Id: automatic DPDK test reports <test-report.dpdk.org>
List-Unsubscribe: <https://mails.dpdk.org/options/test-report>,
 <mailto:test-report-request@dpdk.org?subject=unsubscribe>
List-Archive: <http://mails.dpdk.org/archives/test-report/>
List-Post: <mailto:test-report@dpdk.org>
List-Help: <mailto:test-report-request@dpdk.org?subject=help>
List-Subscribe: <https://mails.dpdk.org/listinfo/test-report>,
 <mailto:test-report-request@dpdk.org?subject=subscribe>
Errors-To: test-report-bounces@dpdk.org

Test-Label: iol-abi-testing
Test-Status: SUCCESS
http://dpdk.org/patch/139190

_Testing PASS_

Submitter: Stephen Hemminger <stephen@networkplumber.org>
Date: Monday, April 08 2024 19:50:36 
DPDK git baseline: Repo:dpdk
  Branch: master
  CommitID:e2e546ab5bf5e024986ccb5310ab43982f3bb40c

139190 --> testing pass

Test environment and result as below:

+------------------+----------+
|   Environment    | abi_test |
+==================+==========+
| Ubuntu 22.04     | PASS     |
+------------------+----------+
| CentOS Stream 9  | PASS     |
+------------------+----------+
| Fedora 39        | PASS     |
+------------------+----------+
| openSUSE Leap 15 | PASS     |
+------------------+----------+
| Fedora 38        | PASS     |
+------------------+----------+
| CentOS Stream 8  | PASS     |
+------------------+----------+
| Fedora 37        | PASS     |
+------------------+----------+


Ubuntu 22.04
	Kernel: 5.4.0-167-generic
	Compiler: gcc 11.4.0

CentOS Stream 9
	Kernel: 5.4.0-167-generic
	Compiler: gcc 11.4.1 20230605

Fedora 39
	Kernel: Depends on container host
	Compiler: gcc 13.2.1

openSUSE Leap 15
	Kernel: 5.4.0-167-generic
	Compiler: gcc 7.5.0

Fedora 38
	Kernel: Depends on container host
	Compiler: gcc 13.2.1

CentOS Stream 8
	Kernel: 5.4.0-167-generic
	Compiler: gcc 8.5.0 20210514

Fedora 37
	Kernel: Depends on container host system
	Compiler: gcc 12.3.1

To view detailed results, visit:
https://lab.dpdk.org/results/dashboard/patchsets/29742/

UNH-IOL DPDK Community Lab

To manage your email subscriptions, visit: 
https://lab.dpdk.org/results/dashboard/preferences/subscriptions/