From mboxrd@z Thu Jan  1 00:00:00 1970
Return-Path: <test-report-bounces@dpdk.org>
Received: from mails.dpdk.org (mails.dpdk.org [217.70.189.124])
	by inbox.dpdk.org (Postfix) with ESMTP id 98AB443DD2
	for <public@inbox.dpdk.org>; Mon,  8 Apr 2024 22:32:08 +0200 (CEST)
Received: from mails.dpdk.org (localhost [127.0.0.1])
	by mails.dpdk.org (Postfix) with ESMTP id 94504402F0;
	Mon,  8 Apr 2024 22:32:08 +0200 (CEST)
Received: from mail-io1-f98.google.com (mail-io1-f98.google.com
 [209.85.166.98]) by mails.dpdk.org (Postfix) with ESMTP id 1BBE6402E3
 for <test-report@dpdk.org>; Mon,  8 Apr 2024 22:32:07 +0200 (CEST)
Received: by mail-io1-f98.google.com with SMTP id
 ca18e2360f4ac-7c8b777ff8bso169634839f.0
 for <test-report@dpdk.org>; Mon, 08 Apr 2024 13:32:07 -0700 (PDT)
DKIM-Signature: v=1; a=rsa-sha256; c=relaxed/relaxed;
 d=iol.unh.edu; s=unh-iol; t=1712608326; x=1713213126; darn=dpdk.org;
 h=references:in-reply-to:cc:to:from:subject:message-id:date:from:to
 :cc:subject:date:message-id:reply-to;
 bh=uPZ7AwvsEgbf22rRNS8FWqJgQfvZYKtpVCWeMH9Mp9o=;
 b=ZTBH37mK9jPVv3kxdQvUIt+rtsWQRj0tW8PeQH/kc3nsXW5RY8jzJFZLS1nvVOxuwC
 /iNDKRxF0a+0podKHCoGxSmlBttZgL9n/IGFfh3STXWDqYrNevgVeS5SnueqylC1e3z0
 9Q7IhPXDjS+d4eDER5BGNRfP5XpzmUaRT4Rcg=
X-Google-DKIM-Signature: v=1; a=rsa-sha256; c=relaxed/relaxed;
 d=1e100.net; s=20230601; t=1712608326; x=1713213126;
 h=references:in-reply-to:cc:to:from:subject:message-id:date
 :x-gm-message-state:from:to:cc:subject:date:message-id:reply-to;
 bh=uPZ7AwvsEgbf22rRNS8FWqJgQfvZYKtpVCWeMH9Mp9o=;
 b=oRhqieHfvYXa4dqdJ8zDNwAjpuZbnY0hOEN12LdPiDwgvm0BO5onlSZXsGECj/rJu4
 eXtiOS+BORIQt+riDmFDB7z/Re5YpRvdlWRyxGqIVk2glL9iRrgbIFYW/ztkSt0yHGpJ
 KkbTfFT4wCvaltruvNN1gQpAbHzIZj6tZDbgXSN0xCT4YvVrLbQWSLkMgKsLM40xtTsr
 PqcNINrAC4qp2Yxl326Y8PY0z+W4xexqTWCbkWHv7RUrXE7A3Qh7WUe+tZA4tguDGgKq
 +7oMEJW9gCneQXVFRbN6N2eNw63t2roJVFEYsZnKS0irdrXuKJv0xkEkb84gWIJMfNmt
 JTlw==
X-Gm-Message-State: AOJu0YwJP9Vp5WNAZzGIT/fXLbTCJGHWq5monRQ3KZDdPB/KtO8E0ggG
 JO1U6hkR0mG+4ca4LWWg+6DVef33iAY/1zFlgm+EAOvjxNRFuQD7GyY/cY+ROuJpqB2GsL8zVc+
 PUOyPenGrc25nhUKxsWR/4ZOd0qryvrBm4ogeMv9B1sTrHXZsRhkrBX00
X-Google-Smtp-Source: AGHT+IHRFjOQTiOXA5PCM2Kg4IQGrHQ5CRAu6lxwBTZWLVki4h34SlSQqVU3WsZQvMrOT6lc9J/XNV1jlUlR
X-Received: by 2002:a05:6602:36cb:b0:7d5:c64f:bd1c with SMTP id
 bg11-20020a05660236cb00b007d5c64fbd1cmr11231032iob.2.1712608326295; 
 Mon, 08 Apr 2024 13:32:06 -0700 (PDT)
Received: from postal.iol.unh.edu (postal.iol.unh.edu.
 [2606:4100:3880:1234::84]) by smtp-relay.gmail.com with ESMTPS id
 gx7-20020a05663867c700b00482a52d23b9sm689jab.7.2024.04.08.13.32.06
 (version=TLS1_2 cipher=ECDHE-ECDSA-AES128-GCM-SHA256 bits=128/128);
 Mon, 08 Apr 2024 13:32:06 -0700 (PDT)
X-Relaying-Domain: iol.unh.edu
Date: Mon, 08 Apr 2024 13:32:06 -0700 (PDT)
Message-ID: <66145446.050a0220.2b9f7.0085SMTPIN_ADDED_MISSING@mx.google.com>
Received: from [172.17.0.3] (unknown [172.18.0.217])
 by postal.iol.unh.edu (Postfix) with ESMTP id D9AF86050A62;
 Mon,  8 Apr 2024 16:32:05 -0400 (EDT)
Subject: |SUCCESS| pw139190 [PATCH] [RFC] latencystats: performance overhaul
From: dpdklab@iol.unh.edu
To: Test Report <test-report@dpdk.org>
Cc: dpdk-test-reports@iol.unh.edu
In-Reply-To: <20240408195036.182545-1-stephen@networkplumber.org>
References: <20240408195036.182545-1-stephen@networkplumber.org>
Content-Type: text/plain
X-BeenThere: test-report@dpdk.org
X-Mailman-Version: 2.1.29
Precedence: list
List-Id: automatic DPDK test reports <test-report.dpdk.org>
List-Unsubscribe: <https://mails.dpdk.org/options/test-report>,
 <mailto:test-report-request@dpdk.org?subject=unsubscribe>
List-Archive: <http://mails.dpdk.org/archives/test-report/>
List-Post: <mailto:test-report@dpdk.org>
List-Help: <mailto:test-report-request@dpdk.org?subject=help>
List-Subscribe: <https://mails.dpdk.org/listinfo/test-report>,
 <mailto:test-report-request@dpdk.org?subject=subscribe>
Errors-To: test-report-bounces@dpdk.org

Test-Label: iol-compile-arm64-testing
Test-Status: SUCCESS
http://dpdk.org/patch/139190

_Testing PASS_

Submitter: Stephen Hemminger <stephen@networkplumber.org>
Date: Monday, April 08 2024 19:50:36 
DPDK git baseline: Repo:dpdk
  Branch: master
  CommitID:e2e546ab5bf5e024986ccb5310ab43982f3bb40c

139190 --> testing pass

Test environment and result as below:

+----------------------------------------+--------------------+
|              Environment               | dpdk_meson_compile |
+========================================+====================+
| Ubuntu 20.04 ARM SVE                   | PASS               |
+----------------------------------------+--------------------+
| Debian 12 with MUSDK                   | PASS               |
+----------------------------------------+--------------------+
| Fedora 37 (ARM)                        | PASS               |
+----------------------------------------+--------------------+
| Ubuntu 20.04 ARM Clang Cross Compile   | PASS               |
+----------------------------------------+--------------------+
| Fedora 38 (ARM)                        | PASS               |
+----------------------------------------+--------------------+
| Fedora 39 (ARM)                        | PASS               |
+----------------------------------------+--------------------+
| Debian 11 (Buster) (ARM)               | PASS               |
+----------------------------------------+--------------------+
| Ubuntu 20.04 aarch32 GCC Cross Compile | PASS               |
+----------------------------------------+--------------------+


Ubuntu 20.04 ARM SVE
	Kernel: 5.4.0-167-generic
	Compiler: gcc (Ubuntu 10.5.0-1ubuntu1~20.04) 10.5.0

Debian 12 with MUSDK
	Kernel: Container Host Kernel
	Compiler: gcc 12.2.0

Fedora 37 (ARM)
	Kernel: Depends on container host
	Compiler: gcc 12.3.1

Ubuntu 20.04 ARM Clang Cross Compile
	Kernel: 5.4.0-72-generic
	Compiler: clang 10.0.0-4ubuntu1

Fedora 38 (ARM)
	Kernel: Depends on container host
	Compiler: gcc 13.2.1

Fedora 39 (ARM)
	Kernel: Depends on container host
	Compiler: gcc 13.2.1

Debian 11 (Buster) (ARM)
	Kernel: Container Host Kernel
	Compiler: gcc 10.2.1

Ubuntu 20.04 aarch32 GCC Cross Compile
	Kernel: 5.4.0-167-generic
	Compiler: gcc 9.4.0

To view detailed results, visit:
https://lab.dpdk.org/results/dashboard/patchsets/29742/

UNH-IOL DPDK Community Lab

To manage your email subscriptions, visit: 
https://lab.dpdk.org/results/dashboard/preferences/subscriptions/