From mboxrd@z Thu Jan  1 00:00:00 1970
Return-Path: <test-report-bounces@dpdk.org>
Received: from mails.dpdk.org (mails.dpdk.org [217.70.189.124])
	by inbox.dpdk.org (Postfix) with ESMTP id 0C26F43DD2
	for <public@inbox.dpdk.org>; Mon,  8 Apr 2024 22:43:53 +0200 (CEST)
Received: from mails.dpdk.org (localhost [127.0.0.1])
	by mails.dpdk.org (Postfix) with ESMTP id 044CC402F0;
	Mon,  8 Apr 2024 22:43:53 +0200 (CEST)
Received: from mail-pg1-f228.google.com (mail-pg1-f228.google.com
 [209.85.215.228])
 by mails.dpdk.org (Postfix) with ESMTP id 2983E402E3
 for <test-report@dpdk.org>; Mon,  8 Apr 2024 22:43:52 +0200 (CEST)
Received: by mail-pg1-f228.google.com with SMTP id
 41be03b00d2f7-53fa455cd94so3748168a12.2
 for <test-report@dpdk.org>; Mon, 08 Apr 2024 13:43:52 -0700 (PDT)
DKIM-Signature: v=1; a=rsa-sha256; c=relaxed/relaxed;
 d=iol.unh.edu; s=unh-iol; t=1712609031; x=1713213831; darn=dpdk.org;
 h=references:in-reply-to:cc:to:from:subject:message-id:date:from:to
 :cc:subject:date:message-id:reply-to;
 bh=mRSCDebCD0//KurTJ6H+SV15lAMwJmTbVDAL5s4V4E4=;
 b=EdgzlZX7u+jTGnbJF+p6j+5LYJpUcoxeWSEBMX/APBEUXfMomDPbPqL4UkQLkSTAQG
 uZa2Gb6FQGdmq/eDAZnpluW/hjHg5RC1scPMmejapjGvfrCdu7nLENIsUGihMuYIk1AO
 F9gnMqI6kJ883NHOs8Gm41sujR0VErs+Y7UAE=
X-Google-DKIM-Signature: v=1; a=rsa-sha256; c=relaxed/relaxed;
 d=1e100.net; s=20230601; t=1712609031; x=1713213831;
 h=references:in-reply-to:cc:to:from:subject:message-id:date
 :x-gm-message-state:from:to:cc:subject:date:message-id:reply-to;
 bh=mRSCDebCD0//KurTJ6H+SV15lAMwJmTbVDAL5s4V4E4=;
 b=Qz7ytHoBQmqLQUnO9HI9KK86TVkJGR9ZSTAI1qCeBsAxYlcAuM3SiWtb8sjKqJ/ta1
 WT0f8goNIt+jZre9WIG8TFW8ek0EzIwKoYWurZMIhFQpMR4r510KV7fmPrPhaiIYW6HM
 oosfbb3No15WwUlJKI7aFjkCBn5Tp7pEk7xI2jIQtWhDJg/aoRhqV6EKZkTwgqGfbPq6
 PcvYiCRnOigb2zAHanH2DH4qNIdwKJddMMl8cDzkyJvItQjzKgy7lMjLWVaz13AzdAKb
 /8VrNftP4hbdrAKBzkVAJQ9esPOTAUPYpJiWJ1feuPZEFAt6wSt5UPt8KNLz8VsGJv1I
 ZaaQ==
X-Gm-Message-State: AOJu0Yy4TvvZbSxiYvoApw3RbeEsPqrP3JjyC7hq1hML3izOuCpigbbv
 HAwQ2f8fLRKzdZB7OEv7A08zmtjSj3cnuafB9qUlJu5AzArr6kKkrSIyUZQECYLobCB5CJYwhuF
 4wZCNu7AeU0xvabJslvIEcFedy8zzrWXES6GubyYP5X3e+fUcLGp2F0Yu
X-Google-Smtp-Source: AGHT+IFQhobf1jsjS69SFHp/aIAlxTB7sej/k4+5FUJwLG0h/amnz8+fTz27/sqWIjrZCb6NGeeWePmGmX8R
X-Received: by 2002:a17:90b:1c12:b0:2a5:3f9a:98df with SMTP id
 oc18-20020a17090b1c1200b002a53f9a98dfmr2117193pjb.3.1712609031370; 
 Mon, 08 Apr 2024 13:43:51 -0700 (PDT)
Received: from postal.iol.unh.edu (postal.iol.unh.edu.
 [2606:4100:3880:1234::84]) by smtp-relay.gmail.com with ESMTPS id
 z7-20020a17090a66c700b002a512f34528sm4521pjl.1.2024.04.08.13.43.51
 (version=TLS1_2 cipher=ECDHE-ECDSA-AES128-GCM-SHA256 bits=128/128);
 Mon, 08 Apr 2024 13:43:51 -0700 (PDT)
X-Relaying-Domain: iol.unh.edu
Date: Mon, 08 Apr 2024 13:43:51 -0700 (PDT)
Message-ID: <66145707.170a0220.271cd.0368SMTPIN_ADDED_MISSING@mx.google.com>
Received: from [172.17.0.3] (unknown [172.18.0.217])
 by postal.iol.unh.edu (Postfix) with ESMTP id 6F7C56050A62;
 Mon,  8 Apr 2024 16:43:50 -0400 (EDT)
Subject: |SUCCESS| pw139190 [PATCH] [RFC] latencystats: performance overhaul
From: dpdklab@iol.unh.edu
To: Test Report <test-report@dpdk.org>
Cc: dpdk-test-reports@iol.unh.edu
In-Reply-To: <20240408195036.182545-1-stephen@networkplumber.org>
References: <20240408195036.182545-1-stephen@networkplumber.org>
Content-Type: text/plain
X-BeenThere: test-report@dpdk.org
X-Mailman-Version: 2.1.29
Precedence: list
List-Id: automatic DPDK test reports <test-report.dpdk.org>
List-Unsubscribe: <https://mails.dpdk.org/options/test-report>,
 <mailto:test-report-request@dpdk.org?subject=unsubscribe>
List-Archive: <http://mails.dpdk.org/archives/test-report/>
List-Post: <mailto:test-report@dpdk.org>
List-Help: <mailto:test-report-request@dpdk.org?subject=help>
List-Subscribe: <https://mails.dpdk.org/listinfo/test-report>,
 <mailto:test-report-request@dpdk.org?subject=subscribe>
Errors-To: test-report-bounces@dpdk.org

Test-Label: iol-unit-arm64-testing
Test-Status: SUCCESS
http://dpdk.org/patch/139190

_Testing PASS_

Submitter: Stephen Hemminger <stephen@networkplumber.org>
Date: Monday, April 08 2024 19:50:36 
DPDK git baseline: Repo:dpdk
  Branch: master
  CommitID:e2e546ab5bf5e024986ccb5310ab43982f3bb40c

139190 --> testing pass

Test environment and result as below:

+--------------------------+----------------+------------------------------+
|       Environment        | dpdk_unit_test | cryptodev_sw_snow3g_autotest |
+==========================+================+==============================+
| Debian 12 (arm)          | PASS           | PASS                         |
+--------------------------+----------------+------------------------------+
| Debian 11 (Buster) (ARM) | PASS           | SKIPPED                      |
+--------------------------+----------------+------------------------------+
| CentOS Stream 9 (ARM)    | PASS           | SKIPPED                      |
+--------------------------+----------------+------------------------------+
| Fedora 38 (ARM)          | PASS           | SKIPPED                      |
+--------------------------+----------------+------------------------------+
| Fedora 37 (ARM)          | PASS           | SKIPPED                      |
+--------------------------+----------------+------------------------------+


Debian 12 (arm)
	Kernel: Container Host Kernel
	Compiler: gcc 12.2.0

Debian 11 (Buster) (ARM)
	Kernel: Container Host Kernel
	Compiler: gcc 10.2.1

CentOS Stream 9 (ARM)
	Kernel: Container Host Kernel
	Compiler: gcc 11.4.1

Fedora 38 (ARM)
	Kernel: Depends on container host
	Compiler: gcc 13.2.1

Fedora 37 (ARM)
	Kernel: Depends on container host
	Compiler: gcc 12.3.1

To view detailed results, visit:
https://lab.dpdk.org/results/dashboard/patchsets/29742/

UNH-IOL DPDK Community Lab

To manage your email subscriptions, visit: 
https://lab.dpdk.org/results/dashboard/preferences/subscriptions/