From mboxrd@z Thu Jan  1 00:00:00 1970
Return-Path: <test-report-bounces@dpdk.org>
Received: from mails.dpdk.org (mails.dpdk.org [217.70.189.124])
	by inbox.dpdk.org (Postfix) with ESMTP id DBF8B43DDE
	for <public@inbox.dpdk.org>; Tue,  9 Apr 2024 08:46:30 +0200 (CEST)
Received: from mails.dpdk.org (localhost [127.0.0.1])
	by mails.dpdk.org (Postfix) with ESMTP id D76A2402B9;
	Tue,  9 Apr 2024 08:46:30 +0200 (CEST)
Received: from mail-qk1-f228.google.com (mail-qk1-f228.google.com
 [209.85.222.228])
 by mails.dpdk.org (Postfix) with ESMTP id 6E1F94027B
 for <test-report@dpdk.org>; Tue,  9 Apr 2024 08:46:29 +0200 (CEST)
Received: by mail-qk1-f228.google.com with SMTP id
 af79cd13be357-78d54a3e462so203322985a.0
 for <test-report@dpdk.org>; Mon, 08 Apr 2024 23:46:29 -0700 (PDT)
DKIM-Signature: v=1; a=rsa-sha256; c=relaxed/relaxed;
 d=iol.unh.edu; s=unh-iol; t=1712645189; x=1713249989; darn=dpdk.org;
 h=references:in-reply-to:cc:to:from:subject:message-id:date:from:to
 :cc:subject:date:message-id:reply-to;
 bh=r+T+fVGZmDKZKvB17/QVBGuyFtwadWYEOfUWv6aFFrM=;
 b=G8Q5k7KTbidtZPZJP+Kre9SedHrmN3aJstb29tnGotQ8eTiTOX6MBQQyeGbyfW7W7m
 ckZdvwpQusfi2W4fhlWKFFM4rENlkyu908vnU/fCXi9M7BTbAdvAUw+Z01fe1fOPVgPp
 E3j192O5OPcluSDC2Rxx/fx7tkBZUtay8vG/w=
X-Google-DKIM-Signature: v=1; a=rsa-sha256; c=relaxed/relaxed;
 d=1e100.net; s=20230601; t=1712645189; x=1713249989;
 h=references:in-reply-to:cc:to:from:subject:message-id:date
 :x-gm-message-state:from:to:cc:subject:date:message-id:reply-to;
 bh=r+T+fVGZmDKZKvB17/QVBGuyFtwadWYEOfUWv6aFFrM=;
 b=G/33tZqgDwOIoXeEJy+K17QY+gbcOs24g0hB1NCxkqu6g9ppcVkK2cMRFjfxjf7RHF
 W1KeXZ3B8uQ6RYYxQcov3GRfAHU5N69L7ohIws2N2fdpw12TKNnRbPgAkx9EZj5i4TEh
 UExwRxb0dxS6w5VRSSgPrjoJYLbkfeYjT5UTBVT+OW81UW834lhxHez8Zg8jb8KvSPfJ
 AW7lFXEpSqpT2F2vghYsAIOpVjKnUAjaKZBgRUpn9dnRzaA6sGg9V8JB+w/58qO4lyUD
 SxLORj10EvWlvtGG/2kCVYDFWB0+HJr7Rxq79lskglqgCky49mPQG9m7cgS3cHD2+QQh
 Zc0A==
X-Gm-Message-State: AOJu0Ywb7K5mYlY/I1UBdYnlClu4QH50uHBZALz6AcY6siOy6J6mF4/T
 OHs3EX+o71EUcKZFXcqbs0Q4FTo2tNk6tcVA02n2ludXhNi6hlhQTJOw/jM9McPHAXPH8KDjAja
 cMst6JSj6Ua/VmUFYf5cQdEeZyEuXC8i5XwlIGN4bM25LDsNmGQZVApuV
X-Google-Smtp-Source: AGHT+IH5DzpyaiH8bTCrtepx8pvdQ1tWZGU3aMxMyfPbKewiQovt0I4uLpuxVbe2FQfY6u3cMxaHa0egH+xK
X-Received: by 2002:a05:622a:190a:b0:434:eaca:4bf4 with SMTP id
 w10-20020a05622a190a00b00434eaca4bf4mr80244qtc.25.1712645188868; 
 Mon, 08 Apr 2024 23:46:28 -0700 (PDT)
Received: from postal.iol.unh.edu (postal.iol.unh.edu.
 [2606:4100:3880:1234::84]) by smtp-relay.gmail.com with ESMTPS id
 j9-20020ac874c9000000b004311ec03154sm367060qtr.9.2024.04.08.23.46.28
 (version=TLS1_2 cipher=ECDHE-ECDSA-AES128-GCM-SHA256 bits=128/128);
 Mon, 08 Apr 2024 23:46:28 -0700 (PDT)
X-Relaying-Domain: iol.unh.edu
Date: Mon, 08 Apr 2024 23:46:28 -0700 (PDT)
Message-ID: <6614e444.c80a0220.2155d.895aSMTPIN_ADDED_MISSING@mx.google.com>
Received: from [172.21.0.6] (unknown [172.18.0.240])
 by postal.iol.unh.edu (Postfix) with ESMTP id 91CB26050A62;
 Tue,  9 Apr 2024 02:46:28 -0400 (EDT)
Subject: |SUCCESS| pw139199 [PATCH] [v2] latencystats: performance overhaul
From: dpdklab@iol.unh.edu
To: Test Report <test-report@dpdk.org>
Cc: dpdk-test-reports@iol.unh.edu
In-Reply-To: <20240408212615.416813-1-stephen@networkplumber.org>
References: <20240408212615.416813-1-stephen@networkplumber.org>
Content-Type: text/plain
X-BeenThere: test-report@dpdk.org
X-Mailman-Version: 2.1.29
Precedence: list
List-Id: automatic DPDK test reports <test-report.dpdk.org>
List-Unsubscribe: <https://mails.dpdk.org/options/test-report>,
 <mailto:test-report-request@dpdk.org?subject=unsubscribe>
List-Archive: <http://mails.dpdk.org/archives/test-report/>
List-Post: <mailto:test-report@dpdk.org>
List-Help: <mailto:test-report-request@dpdk.org?subject=help>
List-Subscribe: <https://mails.dpdk.org/listinfo/test-report>,
 <mailto:test-report-request@dpdk.org?subject=subscribe>
Errors-To: test-report-bounces@dpdk.org

Test-Label: iol-abi-testing
Test-Status: SUCCESS
http://dpdk.org/patch/139199

_Testing PASS_

Submitter: Stephen Hemminger <stephen@networkplumber.org>
Date: Monday, April 08 2024 21:26:15 
DPDK git baseline: Repo:dpdk
  Branch: master
  CommitID:e2e546ab5bf5e024986ccb5310ab43982f3bb40c

139199 --> testing pass

Test environment and result as below:

+------------------+----------+
|   Environment    | abi_test |
+==================+==========+
| CentOS Stream 8  | PASS     |
+------------------+----------+
| CentOS Stream 9  | PASS     |
+------------------+----------+
| Debian 12        | PASS     |
+------------------+----------+
| Fedora 39        | PASS     |
+------------------+----------+
| Ubuntu 22.04     | PASS     |
+------------------+----------+
| Fedora 38        | PASS     |
+------------------+----------+
| Debian Bullseye  | PASS     |
+------------------+----------+
| RHEL8            | PASS     |
+------------------+----------+
| openSUSE Leap 15 | PASS     |
+------------------+----------+
| Fedora 37        | PASS     |
+------------------+----------+


CentOS Stream 8
	Kernel: 5.4.0-167-generic
	Compiler: gcc 8.5.0 20210514

CentOS Stream 9
	Kernel: 5.4.0-167-generic
	Compiler: gcc 11.4.1 20230605

Debian 12
	Kernel: Container Host Kernel
	Compiler: gcc 10.2.1

Fedora 39
	Kernel: Depends on container host
	Compiler: gcc 13.2.1

Ubuntu 22.04
	Kernel: 5.4.0-167-generic
	Compiler: gcc 11.4.0

Fedora 38
	Kernel: Depends on container host
	Compiler: clang 16.0.6

Debian Bullseye
	Kernel: 5.4.0-167-generic
	Compiler: gcc 10.2.1-6

RHEL8
	Kernel: 5.4.0-167-generic
	Compiler: gcc 8.5.0 20210514 (Red Hat 8.5.0-20)

openSUSE Leap 15
	Kernel: 5.4.0-167-generic
	Compiler: gcc 7.5.0

Fedora 37
	Kernel: Depends on container host system
	Compiler: gcc 12.3.1

To view detailed results, visit:
https://lab.dpdk.org/results/dashboard/patchsets/29744/

UNH-IOL DPDK Community Lab

To manage your email subscriptions, visit: 
https://lab.dpdk.org/results/dashboard/preferences/subscriptions/