From mboxrd@z Thu Jan  1 00:00:00 1970
Return-Path: <test-report-bounces@dpdk.org>
Received: from mails.dpdk.org (mails.dpdk.org [217.70.189.124])
	by inbox.dpdk.org (Postfix) with ESMTP id B793F43DE2
	for <public@inbox.dpdk.org>; Tue,  9 Apr 2024 09:15:31 +0200 (CEST)
Received: from mails.dpdk.org (localhost [127.0.0.1])
	by mails.dpdk.org (Postfix) with ESMTP id B1D4A402C0;
	Tue,  9 Apr 2024 09:15:31 +0200 (CEST)
Received: from mail-oo1-f97.google.com (mail-oo1-f97.google.com
 [209.85.161.97]) by mails.dpdk.org (Postfix) with ESMTP id 38B45402B9
 for <test-report@dpdk.org>; Tue,  9 Apr 2024 09:15:30 +0200 (CEST)
Received: by mail-oo1-f97.google.com with SMTP id
 006d021491bc7-5aa1b7a37b5so1697019eaf.2
 for <test-report@dpdk.org>; Tue, 09 Apr 2024 00:15:30 -0700 (PDT)
DKIM-Signature: v=1; a=rsa-sha256; c=relaxed/relaxed;
 d=iol.unh.edu; s=unh-iol; t=1712646929; x=1713251729; darn=dpdk.org;
 h=references:in-reply-to:cc:to:from:subject:message-id:date:from:to
 :cc:subject:date:message-id:reply-to;
 bh=XnFU8Nxsa3IsFO/MowHdlXgoIKLzF3dlr+fWW78+r7s=;
 b=Pw6S9pnQBAbx7HK4V4jLdmi/1wf+wsK1oTe7sI+4ozzkPKQo4I6jWhaY/4dD9wvJB+
 0uUVyYjOGRgBIyRVg3ZKcnfSw1oUBa+IivuO5AVGTfngcZ9R+o6OWXunqHzJP+u8icaR
 +HvZinu/phWlwW7fteZmykx2E1CD2rLTK9GZM=
X-Google-DKIM-Signature: v=1; a=rsa-sha256; c=relaxed/relaxed;
 d=1e100.net; s=20230601; t=1712646929; x=1713251729;
 h=references:in-reply-to:cc:to:from:subject:message-id:date
 :x-gm-message-state:from:to:cc:subject:date:message-id:reply-to;
 bh=XnFU8Nxsa3IsFO/MowHdlXgoIKLzF3dlr+fWW78+r7s=;
 b=HzMOADDdfC1VXknSDp7lOfeJPqjNo0e6lZ47XolvRd+jgUhRrBezw7mQKnV+MtEI0O
 seOhqhJqM8/4PHRgJUiE2Q45rF7pNMQ0KlaaME3uRCV8aQMiiP9kK4XUSUX/wAYRHsmQ
 /VCLZ+Q/1NDA148YsPxWQ7enqs8L0v6UB+bZftuU8uwC0zRqLrTFIE6Kna31jtUPlzlu
 582cLXVzznBzK+MU1ZxTmsPTQJRZ/Cs03xo0VPxQuf8fDCNupGetwbGlGUgYiU/Bb72H
 oRWo0cekGGccDLWA4IVtUXk52bVLFJweKkdUbTn4NBveBrggwj4FUfCrioBaYjoeV3VI
 RJag==
X-Gm-Message-State: AOJu0YzRt0ukfWdF2G/qDXIzNIiYqqQnr44SQKwOi2hfjDCGI84+75wC
 va20DtJteX3giOtbGuwuYezGA/0nWCep+qsc74r5FWFJgh8V2EBm8AZK2CDSzpWBfhaZObshCXN
 PyR7xDmu1nHiYpwTOGTZfgSOqgtQzZFAl8KTPMkfrHdSBhf7ZwQuqn/nU
X-Google-Smtp-Source: AGHT+IF4AsRWjsoWX7a//SfvbpCS3LQVtssR8nj0pdCd4FF6QRcCZwPmJzEhYEz53WKNl2TKrt2bp04ZtpQQ
X-Received: by 2002:a05:6820:210f:b0:5a5:247e:147f with SMTP id
 cd15-20020a056820210f00b005a5247e147fmr10823374oob.7.1712646929486; 
 Tue, 09 Apr 2024 00:15:29 -0700 (PDT)
Received: from postal.iol.unh.edu (postal.iol.unh.edu.
 [2606:4100:3880:1234::84]) by smtp-relay.gmail.com with ESMTPS id
 m7-20020a056820050700b005a58de10c16sm266939ooj.2.2024.04.09.00.15.29
 (version=TLS1_2 cipher=ECDHE-ECDSA-AES128-GCM-SHA256 bits=128/128);
 Tue, 09 Apr 2024 00:15:29 -0700 (PDT)
X-Relaying-Domain: iol.unh.edu
Date: Tue, 09 Apr 2024 00:15:29 -0700 (PDT)
Message-ID: <6614eb11.050a0220.e4a9e.18d3SMTPIN_ADDED_MISSING@mx.google.com>
Received: from [172.21.0.6] (unknown [172.18.0.240])
 by postal.iol.unh.edu (Postfix) with ESMTP id EE03B6052514;
 Tue,  9 Apr 2024 03:15:28 -0400 (EDT)
Subject: |SUCCESS| pw139200-139207 [PATCH] [v8,8/8] doc: update documentation
From: dpdklab@iol.unh.edu
To: Test Report <test-report@dpdk.org>
Cc: dpdk-test-reports@iol.unh.edu
In-Reply-To: <20240409034237.433270-9-stephen@networkplumber.org>
References: <20240409034237.433270-9-stephen@networkplumber.org>
Content-Type: text/plain
X-BeenThere: test-report@dpdk.org
X-Mailman-Version: 2.1.29
Precedence: list
List-Id: automatic DPDK test reports <test-report.dpdk.org>
List-Unsubscribe: <https://mails.dpdk.org/options/test-report>,
 <mailto:test-report-request@dpdk.org?subject=unsubscribe>
List-Archive: <http://mails.dpdk.org/archives/test-report/>
List-Post: <mailto:test-report@dpdk.org>
List-Help: <mailto:test-report-request@dpdk.org?subject=help>
List-Subscribe: <https://mails.dpdk.org/listinfo/test-report>,
 <mailto:test-report-request@dpdk.org?subject=subscribe>
Errors-To: test-report-bounces@dpdk.org

Test-Label: iol-compile-arm64-testing
Test-Status: SUCCESS
http://dpdk.org/patch/139207

_Testing PASS_

Submitter: Stephen Hemminger <stephen@networkplumber.org>
Date: Tuesday, April 09 2024 03:40:37 
DPDK git baseline: Repo:dpdk
  Branch: master
  CommitID:e2e546ab5bf5e024986ccb5310ab43982f3bb40c

139200-139207 --> testing pass

Test environment and result as below:

+--------------------------+--------------------+
|       Environment        | dpdk_meson_compile |
+==========================+====================+
| Ubuntu 20.04 ARM SVE     | PASS               |
+--------------------------+--------------------+
| Debian 12 with MUSDK     | PASS               |
+--------------------------+--------------------+
| Fedora 37 (ARM)          | PASS               |
+--------------------------+--------------------+
| Fedora 38 (ARM)          | PASS               |
+--------------------------+--------------------+
| Ubuntu 20.04 (ARM)       | PASS               |
+--------------------------+--------------------+
| Fedora 39 (ARM)          | PASS               |
+--------------------------+--------------------+
| Debian 11 (Buster) (ARM) | PASS               |
+--------------------------+--------------------+
| Debian 12 (arm)          | PASS               |
+--------------------------+--------------------+
| CentOS Stream 9 (ARM)    | PASS               |
+--------------------------+--------------------+


Ubuntu 20.04 ARM SVE
	Kernel: 5.4.0-167-generic
	Compiler: gcc (Ubuntu 10.5.0-1ubuntu1~20.04) 10.5.0

Debian 12 with MUSDK
	Kernel: Container Host Kernel
	Compiler: gcc 12.2.0

Fedora 37 (ARM)
	Kernel: Depends on container host
	Compiler: gcc 12.3.1

Fedora 38 (ARM)
	Kernel: Depends on container host
	Compiler: gcc 13.2.1

Ubuntu 20.04 (ARM)
	Kernel: Container Host Kernel
	Compiler: gcc 9.4.0

Fedora 39 (ARM)
	Kernel: Depends on container host
	Compiler: gcc 13.2.1

Debian 11 (Buster) (ARM)
	Kernel: Container Host Kernel
	Compiler: gcc 10.2.1

Debian 12 (arm)
	Kernel: Container Host Kernel
	Compiler: gcc 12.2.0

CentOS Stream 9 (ARM)
	Kernel: Container Host Kernel
	Compiler: gcc 11.4.1

To view detailed results, visit:
https://lab.dpdk.org/results/dashboard/patchsets/29745/

UNH-IOL DPDK Community Lab

To manage your email subscriptions, visit: 
https://lab.dpdk.org/results/dashboard/preferences/subscriptions/