From mboxrd@z Thu Jan  1 00:00:00 1970
Return-Path: <test-report-bounces@dpdk.org>
Received: from mails.dpdk.org (mails.dpdk.org [217.70.189.124])
	by inbox.dpdk.org (Postfix) with ESMTP id BE8F443DE9
	for <public@inbox.dpdk.org>; Tue,  9 Apr 2024 10:15:47 +0200 (CEST)
Received: from mails.dpdk.org (localhost [127.0.0.1])
	by mails.dpdk.org (Postfix) with ESMTP id 91640402C0;
	Tue,  9 Apr 2024 10:15:47 +0200 (CEST)
Received: from mail-yw1-f225.google.com (mail-yw1-f225.google.com
 [209.85.128.225])
 by mails.dpdk.org (Postfix) with ESMTP id 057B0402B9
 for <test-report@dpdk.org>; Tue,  9 Apr 2024 10:15:47 +0200 (CEST)
Received: by mail-yw1-f225.google.com with SMTP id
 00721157ae682-61814e68cfcso16729337b3.0
 for <test-report@dpdk.org>; Tue, 09 Apr 2024 01:15:46 -0700 (PDT)
DKIM-Signature: v=1; a=rsa-sha256; c=relaxed/relaxed;
 d=iol.unh.edu; s=unh-iol; t=1712650546; x=1713255346; darn=dpdk.org;
 h=references:in-reply-to:cc:to:from:subject:message-id:date:from:to
 :cc:subject:date:message-id:reply-to;
 bh=0HxjUjscM7lgoAitVawvovKRAm+oDplwV0jTuYsPUio=;
 b=RhVviovVrOYZ4vy9CQmtNyoWXDoGMa34JaZgk66nzLQBlgSnN/6DCQqWJNg0lAR3yv
 6F+1I5/BedMm1fFFPzidPD40K2pqEF3zq/ZQqCy/j7tTaTxB1EWerHkQpfxbnDTIR90n
 0be80frUDN6z0ygFnAb9LCxDGmwrryHv2gBMc=
X-Google-DKIM-Signature: v=1; a=rsa-sha256; c=relaxed/relaxed;
 d=1e100.net; s=20230601; t=1712650546; x=1713255346;
 h=references:in-reply-to:cc:to:from:subject:message-id:date
 :x-gm-message-state:from:to:cc:subject:date:message-id:reply-to;
 bh=0HxjUjscM7lgoAitVawvovKRAm+oDplwV0jTuYsPUio=;
 b=HgpKTa3O+TfLXKk8Ejahj6BNKwtbm5XVHwkb0Gcq7847+gkO90HTqXDvkdkLFRu2iw
 FhtTXYj8/H+oLQ8absOh83bOUzVjcbbVmvOpp5woRY2imTo0Jnx4vPi48oxrRXi4CDLQ
 WrZb3cNKSJbfDDBQV0SvK3CiRHKmocLp9Tgy5qlyz+pdj8GbI18xrxjzj3860rpZhNO8
 JXBpjxDYTG/4JnxcefSORQDL09aYMM/SKEYAc2K5HEXoHjqxORgxOKw4WqmYt7QoA2XT
 dYmHSpiRo6Eh6F1BK1HQiqVJlPJ77nQneDCtXZ3ltWyJrkUrCRiRTKraNvU1spKlaWOR
 CAVA==
X-Gm-Message-State: AOJu0Yx5dMmDaAssGcuohV0MV+TGpGw7lV+HKFqd1yii+jzZaLTKFfNd
 pIvf9wJ9rqYtgE45CERZIl/sukJJWv+NDAI6saZb82fcb4tw76JQ7nGlYgAxa4wiPsYBMvqiqYw
 uPNvtse3rlMv2xf8vZtxNh35XBQVfy4ybFe0AQ+c74B8pvePQf1WyS8aP
X-Google-Smtp-Source: AGHT+IH/SPRrP2R1svfYl0yKZuw6fuZVIBQ/Io8xEZocB39/Vyqs2yuZK4aQNjc4GWPC6XnMT7uE1uwUvolh
X-Received: by 2002:a0d:e695:0:b0:615:3d71:b0eb with SMTP id
 p143-20020a0de695000000b006153d71b0ebmr10860167ywe.13.1712650546302; 
 Tue, 09 Apr 2024 01:15:46 -0700 (PDT)
Received: from postal.iol.unh.edu (postal.iol.unh.edu.
 [2606:4100:3880:1234::84]) by smtp-relay.gmail.com with ESMTPS id
 jb6-20020a05690c6e0600b006156392a12dsm408163ywb.63.2024.04.09.01.15.46
 (version=TLS1_2 cipher=ECDHE-ECDSA-AES128-GCM-SHA256 bits=128/128);
 Tue, 09 Apr 2024 01:15:46 -0700 (PDT)
X-Relaying-Domain: iol.unh.edu
Date: Tue, 09 Apr 2024 01:15:46 -0700 (PDT)
Message-ID: <6614f932.050a0220.42b6d.c557SMTPIN_ADDED_MISSING@mx.google.com>
Received: from [172.17.0.2] (unknown [172.18.0.217])
 by postal.iol.unh.edu (Postfix) with ESMTP id E9AB86052514;
 Tue,  9 Apr 2024 04:15:45 -0400 (EDT)
Subject: |SUCCESS| pw139191-139198 [PATCH] [v7,8/8] doc: update documentation
From: dpdklab@iol.unh.edu
To: Test Report <test-report@dpdk.org>
Cc: dpdk-test-reports@iol.unh.edu
In-Reply-To: <20240408212438.414099-9-stephen@networkplumber.org>
References: <20240408212438.414099-9-stephen@networkplumber.org>
Content-Type: text/plain
X-BeenThere: test-report@dpdk.org
X-Mailman-Version: 2.1.29
Precedence: list
List-Id: automatic DPDK test reports <test-report.dpdk.org>
List-Unsubscribe: <https://mails.dpdk.org/options/test-report>,
 <mailto:test-report-request@dpdk.org?subject=unsubscribe>
List-Archive: <http://mails.dpdk.org/archives/test-report/>
List-Post: <mailto:test-report@dpdk.org>
List-Help: <mailto:test-report-request@dpdk.org?subject=help>
List-Subscribe: <https://mails.dpdk.org/listinfo/test-report>,
 <mailto:test-report-request@dpdk.org?subject=subscribe>
Errors-To: test-report-bounces@dpdk.org

Test-Label: iol-compile-amd64-testing
Test-Status: SUCCESS
http://dpdk.org/patch/139198

_Testing PASS_

Submitter: Stephen Hemminger <stephen@networkplumber.org>
Date: Monday, April 08 2024 21:18:39 
DPDK git baseline: Repo:dpdk
  Branch: master
  CommitID:e2e546ab5bf5e024986ccb5310ab43982f3bb40c

139191-139198 --> testing pass

Test environment and result as below:

+---------------------+--------------------+----------------------+-------------------+
|     Environment     | dpdk_meson_compile | dpdk_mingw64_compile | dpdk_msvc_compile |
+=====================+====================+======================+===================+
| Windows Server 2019 | PASS               | PASS                 | SKIPPED           |
+---------------------+--------------------+----------------------+-------------------+
| FreeBSD 13.2        | PASS               | SKIPPED              | SKIPPED           |
+---------------------+--------------------+----------------------+-------------------+
| Windows Server 2022 | PASS               | PASS                 | PASS              |
+---------------------+--------------------+----------------------+-------------------+


Windows Server 2019
	Kernel: 10.0.17763
	Compiler: clang 14.0 and gcc 8.1.0 (MinGW)

FreeBSD 13.2
	Kernel: 13.2
	Compiler: clang 14.0.5

Windows Server 2022
	Kernel: 10.0.20348.2031
	Compiler: clang 15.0.7, gcc 8.1.0 (MinGW), and MSVC VS 17.9

To view detailed results, visit:
https://lab.dpdk.org/results/dashboard/patchsets/29743/

UNH-IOL DPDK Community Lab

To manage your email subscriptions, visit: 
https://lab.dpdk.org/results/dashboard/preferences/subscriptions/