From mboxrd@z Thu Jan  1 00:00:00 1970
Return-Path: <test-report-bounces@dpdk.org>
Received: from mails.dpdk.org (mails.dpdk.org [217.70.189.124])
	by inbox.dpdk.org (Postfix) with ESMTP id 0DF0743DE9
	for <public@inbox.dpdk.org>; Tue,  9 Apr 2024 10:22:42 +0200 (CEST)
Received: from mails.dpdk.org (localhost [127.0.0.1])
	by mails.dpdk.org (Postfix) with ESMTP id 0A487402C0;
	Tue,  9 Apr 2024 10:22:42 +0200 (CEST)
Received: from mail-yb1-f225.google.com (mail-yb1-f225.google.com
 [209.85.219.225])
 by mails.dpdk.org (Postfix) with ESMTP id 0214F402B9
 for <test-report@dpdk.org>; Tue,  9 Apr 2024 10:22:41 +0200 (CEST)
Received: by mail-yb1-f225.google.com with SMTP id
 3f1490d57ef6-dcc84ae94c1so5590397276.1
 for <test-report@dpdk.org>; Tue, 09 Apr 2024 01:22:40 -0700 (PDT)
DKIM-Signature: v=1; a=rsa-sha256; c=relaxed/relaxed;
 d=iol.unh.edu; s=unh-iol; t=1712650960; x=1713255760; darn=dpdk.org;
 h=references:in-reply-to:cc:to:from:subject:message-id:date:from:to
 :cc:subject:date:message-id:reply-to;
 bh=0HxjUjscM7lgoAitVawvovKRAm+oDplwV0jTuYsPUio=;
 b=WY/slLzs+DjdpIx+bbcc0l2VDqu34fogwNsTKFbIDBwjVj8Nh5v7+MqO+D7CHb8Nvv
 WdHeCR/awlrm1Ypvn52Tr+7nCQVy7Nl084UVXlFTWw1vPLyliScZ9d/wJIEDjaYvX2K9
 CN5ZMItj0nUwV5+hkeMFJvmED0RsBSMCF8laI=
X-Google-DKIM-Signature: v=1; a=rsa-sha256; c=relaxed/relaxed;
 d=1e100.net; s=20230601; t=1712650960; x=1713255760;
 h=references:in-reply-to:cc:to:from:subject:message-id:date
 :x-gm-message-state:from:to:cc:subject:date:message-id:reply-to;
 bh=0HxjUjscM7lgoAitVawvovKRAm+oDplwV0jTuYsPUio=;
 b=K1wkrmEhHHn9L1CD0yxp2Bug8gWCOkC3eIeyURijb1K1C2Ja0rpBdPKwpZjvMHQ2hB
 eSVpMz8LeXDPr6+rEngXz7CMQRyM+XL3k5w8eNYZ4hg5Sd6+IbGpru/fhgWQhhohGHnU
 8X9v++4UyEPHgPhgyJgpfXhOsWB8jVJhMTZALlvHMcCTg+H4THsZ3Qd/tPR+kXBYgJ2Q
 bCLgTYPso6wJ9uFk331YUG3ysmpSpQitCcBWNrarI/uJLBFGN59lnbeSYcdPqocdAXPy
 mimOcQ4gIj1hyOgvhPZLMWYWZ5Fi0oydQS+wy61a9WBDmp0ouc6ML/esr2DsPagvPWFm
 +pdQ==
X-Gm-Message-State: AOJu0Yz/fFqrlcTcxt7Ook/+dZnJwW1TOA7kuF0cX+kunHZbn8AoNhXM
 W8tAqMLnd5A0KHYxKiJt5zbOArzWvh+9+A9QFFTOHokgDO3Lhwx4Gm0xhBqdB5sji77XlkUi+ex
 zJee9EkW4oCZLZpMRWDkbvS2b50HWa6PtArtt3U91
X-Google-Smtp-Source: AGHT+IEY/GB5y3+kBoGnYS5L+lHJXdPOOFFksvM4FqQ9G97rtQJfs9se5qRI+nP0fFwfHv+v4+hFdWha/qkM
X-Received: by 2002:a25:e20e:0:b0:dcb:b0f0:23fc with SMTP id
 h14-20020a25e20e000000b00dcbb0f023fcmr8473997ybe.22.1712650959513; 
 Tue, 09 Apr 2024 01:22:39 -0700 (PDT)
Received: from postal.iol.unh.edu (postal.iol.unh.edu. [132.177.123.84])
 by smtp-relay.gmail.com with ESMTPS id
 n12-20020a05690211cc00b00dc6bd45d9c0sm442576ybu.27.2024.04.09.01.22.39
 (version=TLS1_2 cipher=ECDHE-ECDSA-AES128-GCM-SHA256 bits=128/128);
 Tue, 09 Apr 2024 01:22:39 -0700 (PDT)
X-Relaying-Domain: iol.unh.edu
Date: Tue, 09 Apr 2024 01:22:39 -0700 (PDT)
Message-ID: <6614facf.050a0220.7ba6c.e118SMTPIN_ADDED_MISSING@mx.google.com>
Received: from [172.17.0.2] (unknown [172.18.0.217])
 by postal.iol.unh.edu (Postfix) with ESMTP id 291766052514;
 Tue,  9 Apr 2024 04:22:39 -0400 (EDT)
Subject: |SUCCESS| pw139191-139198 [PATCH] [v7,8/8] doc: update documentation
From: dpdklab@iol.unh.edu
To: Test Report <test-report@dpdk.org>
Cc: dpdk-test-reports@iol.unh.edu
In-Reply-To: <20240408212438.414099-9-stephen@networkplumber.org>
References: <20240408212438.414099-9-stephen@networkplumber.org>
Content-Type: text/plain
X-BeenThere: test-report@dpdk.org
X-Mailman-Version: 2.1.29
Precedence: list
List-Id: automatic DPDK test reports <test-report.dpdk.org>
List-Unsubscribe: <https://mails.dpdk.org/options/test-report>,
 <mailto:test-report-request@dpdk.org?subject=unsubscribe>
List-Archive: <http://mails.dpdk.org/archives/test-report/>
List-Post: <mailto:test-report@dpdk.org>
List-Help: <mailto:test-report-request@dpdk.org?subject=help>
List-Subscribe: <https://mails.dpdk.org/listinfo/test-report>,
 <mailto:test-report-request@dpdk.org?subject=subscribe>
Errors-To: test-report-bounces@dpdk.org

Test-Label: iol-compile-amd64-testing
Test-Status: SUCCESS
http://dpdk.org/patch/139198

_Testing PASS_

Submitter: Stephen Hemminger <stephen@networkplumber.org>
Date: Monday, April 08 2024 21:18:39 
DPDK git baseline: Repo:dpdk
  Branch: master
  CommitID:e2e546ab5bf5e024986ccb5310ab43982f3bb40c

139191-139198 --> testing pass

Test environment and result as below:

+---------------------+--------------------+----------------------+-------------------+
|     Environment     | dpdk_meson_compile | dpdk_mingw64_compile | dpdk_msvc_compile |
+=====================+====================+======================+===================+
| Windows Server 2019 | PASS               | PASS                 | SKIPPED           |
+---------------------+--------------------+----------------------+-------------------+
| FreeBSD 13.2        | PASS               | SKIPPED              | SKIPPED           |
+---------------------+--------------------+----------------------+-------------------+
| Windows Server 2022 | PASS               | PASS                 | PASS              |
+---------------------+--------------------+----------------------+-------------------+


Windows Server 2019
	Kernel: 10.0.17763
	Compiler: clang 14.0 and gcc 8.1.0 (MinGW)

FreeBSD 13.2
	Kernel: 13.2
	Compiler: clang 14.0.5

Windows Server 2022
	Kernel: 10.0.20348.2031
	Compiler: clang 15.0.7, gcc 8.1.0 (MinGW), and MSVC VS 17.9

To view detailed results, visit:
https://lab.dpdk.org/results/dashboard/patchsets/29743/

UNH-IOL DPDK Community Lab

To manage your email subscriptions, visit: 
https://lab.dpdk.org/results/dashboard/preferences/subscriptions/