From mboxrd@z Thu Jan  1 00:00:00 1970
Return-Path: <test-report-bounces@dpdk.org>
Received: from mails.dpdk.org (mails.dpdk.org [217.70.189.124])
	by inbox.dpdk.org (Postfix) with ESMTP id D1EFD43DE9
	for <public@inbox.dpdk.org>; Tue,  9 Apr 2024 10:25:20 +0200 (CEST)
Received: from mails.dpdk.org (localhost [127.0.0.1])
	by mails.dpdk.org (Postfix) with ESMTP id CE386402C0;
	Tue,  9 Apr 2024 10:25:20 +0200 (CEST)
Received: from mail-yw1-f227.google.com (mail-yw1-f227.google.com
 [209.85.128.227])
 by mails.dpdk.org (Postfix) with ESMTP id B7ACF402B9
 for <test-report@dpdk.org>; Tue,  9 Apr 2024 10:25:18 +0200 (CEST)
Received: by mail-yw1-f227.google.com with SMTP id
 00721157ae682-6154a3df493so43629117b3.1
 for <test-report@dpdk.org>; Tue, 09 Apr 2024 01:25:18 -0700 (PDT)
DKIM-Signature: v=1; a=rsa-sha256; c=relaxed/relaxed;
 d=iol.unh.edu; s=unh-iol; t=1712651118; x=1713255918; darn=dpdk.org;
 h=references:in-reply-to:cc:to:from:subject:message-id:date:from:to
 :cc:subject:date:message-id:reply-to;
 bh=0HxjUjscM7lgoAitVawvovKRAm+oDplwV0jTuYsPUio=;
 b=NxRzAk1lMdEvA97DuEB8UJXOPmDogfZk3kQxog7/uOx5cXxK7QZyxvGxEpcybRjczb
 6aWYlFTTqexzhCsGzcd32YL208iGuDZWBLooKw8MGz8fGdTHNBVa03+6Txb103qBrczS
 sdv6SFaq9ETeyJbCg8JgfLjZnfdT+NUUcjy3g=
X-Google-DKIM-Signature: v=1; a=rsa-sha256; c=relaxed/relaxed;
 d=1e100.net; s=20230601; t=1712651118; x=1713255918;
 h=references:in-reply-to:cc:to:from:subject:message-id:date
 :x-gm-message-state:from:to:cc:subject:date:message-id:reply-to;
 bh=0HxjUjscM7lgoAitVawvovKRAm+oDplwV0jTuYsPUio=;
 b=MDgMOId85t4oRuvLOUcP2d2Y1yb5buOFkfzT1ZlwzgqMLJOTBUYl6sxbhFeO63FEgf
 01YCxQyz+BDm81q4+0l/DzfanKie/rnlMYLjBRFaJ7FNJWlZDaY+1ZIFVEUlR+Pg/daU
 T+iAcClmc7rhfZ0YRnMFF+h8rrAgQ91QIOlCbsOu6aBeIgPHFLfKsyz9QmcTvagu2/l4
 EDsIliX2s8i9yQeAkf35kuSDYA7ya7kTDaTxr6liraGMKcDuYFJt2uYDnvxQPQ75Zif4
 PqF0mh1tI+XsjeBSXdxrEoy4nj9BnqzJDKh+GlPbQWA+uJQb4HG3rZYRkcbSRa4QDFAV
 ESxQ==
X-Gm-Message-State: AOJu0YxBo74GbZ5dz8YPLNGAFOHVehy9K5it43Q7DzNGmhtI6fDqvdir
 OhC4IGtmGd4B1VxV5aMy1SfX01fCzANHBpp3IQG/qrKbAcOektRfqqBjRGMH4kU2qyXIsjXymcU
 4GDC6JKzUm2bkqPz+3aJM1DTqQq2pBJNyNtnCgrC0DRSo5VbqjizAX/Aj
X-Google-Smtp-Source: AGHT+IEGCAMT0ONZLZddmBhmJIfmZ5dcdO19ietfco6XJfMHAMcpid3al3UOC5ud6XTno1TNV3O6FXyvQcF0
X-Received: by 2002:a25:d8d7:0:b0:dcd:b806:7446 with SMTP id
 p206-20020a25d8d7000000b00dcdb8067446mr1358596ybg.1.1712651118196; 
 Tue, 09 Apr 2024 01:25:18 -0700 (PDT)
Received: from postal.iol.unh.edu (postal.iol.unh.edu.
 [2606:4100:3880:1234::84]) by smtp-relay.gmail.com with ESMTPS id
 dl2-20020a056902218200b00dcd2db7ad30sm444283ybb.29.2024.04.09.01.25.18
 (version=TLS1_2 cipher=ECDHE-ECDSA-AES128-GCM-SHA256 bits=128/128);
 Tue, 09 Apr 2024 01:25:18 -0700 (PDT)
X-Relaying-Domain: iol.unh.edu
Date: Tue, 09 Apr 2024 01:25:18 -0700 (PDT)
Message-ID: <6614fb6e.050a0220.db5ed.e68aSMTPIN_ADDED_MISSING@mx.google.com>
Received: from [172.17.0.3] (unknown [172.18.0.217])
 by postal.iol.unh.edu (Postfix) with ESMTP id CE4EA6052514;
 Tue,  9 Apr 2024 04:25:17 -0400 (EDT)
Subject: |SUCCESS| pw139191-139198 [PATCH] [v7,8/8] doc: update documentation
From: dpdklab@iol.unh.edu
To: Test Report <test-report@dpdk.org>
Cc: dpdk-test-reports@iol.unh.edu
In-Reply-To: <20240408212438.414099-9-stephen@networkplumber.org>
References: <20240408212438.414099-9-stephen@networkplumber.org>
Content-Type: text/plain
X-BeenThere: test-report@dpdk.org
X-Mailman-Version: 2.1.29
Precedence: list
List-Id: automatic DPDK test reports <test-report.dpdk.org>
List-Unsubscribe: <https://mails.dpdk.org/options/test-report>,
 <mailto:test-report-request@dpdk.org?subject=unsubscribe>
List-Archive: <http://mails.dpdk.org/archives/test-report/>
List-Post: <mailto:test-report@dpdk.org>
List-Help: <mailto:test-report-request@dpdk.org?subject=help>
List-Subscribe: <https://mails.dpdk.org/listinfo/test-report>,
 <mailto:test-report-request@dpdk.org?subject=subscribe>
Errors-To: test-report-bounces@dpdk.org

Test-Label: iol-compile-amd64-testing
Test-Status: SUCCESS
http://dpdk.org/patch/139198

_Testing PASS_

Submitter: Stephen Hemminger <stephen@networkplumber.org>
Date: Monday, April 08 2024 21:18:39 
DPDK git baseline: Repo:dpdk
  Branch: master
  CommitID:e2e546ab5bf5e024986ccb5310ab43982f3bb40c

139191-139198 --> testing pass

Test environment and result as below:

+---------------------+--------------------+----------------------+-------------------+
|     Environment     | dpdk_meson_compile | dpdk_mingw64_compile | dpdk_msvc_compile |
+=====================+====================+======================+===================+
| Windows Server 2019 | PASS               | PASS                 | SKIPPED           |
+---------------------+--------------------+----------------------+-------------------+
| FreeBSD 13.2        | PASS               | SKIPPED              | SKIPPED           |
+---------------------+--------------------+----------------------+-------------------+
| Windows Server 2022 | PASS               | PASS                 | PASS              |
+---------------------+--------------------+----------------------+-------------------+


Windows Server 2019
	Kernel: 10.0.17763
	Compiler: clang 14.0 and gcc 8.1.0 (MinGW)

FreeBSD 13.2
	Kernel: 13.2
	Compiler: clang 14.0.5

Windows Server 2022
	Kernel: 10.0.20348.2031
	Compiler: clang 15.0.7, gcc 8.1.0 (MinGW), and MSVC VS 17.9

To view detailed results, visit:
https://lab.dpdk.org/results/dashboard/patchsets/29743/

UNH-IOL DPDK Community Lab

To manage your email subscriptions, visit: 
https://lab.dpdk.org/results/dashboard/preferences/subscriptions/