From mboxrd@z Thu Jan  1 00:00:00 1970
Return-Path: <test-report-bounces@dpdk.org>
Received: from mails.dpdk.org (mails.dpdk.org [217.70.189.124])
	by inbox.dpdk.org (Postfix) with ESMTP id DECFE43DE9
	for <public@inbox.dpdk.org>; Tue,  9 Apr 2024 10:43:13 +0200 (CEST)
Received: from mails.dpdk.org (localhost [127.0.0.1])
	by mails.dpdk.org (Postfix) with ESMTP id DA23D402C0;
	Tue,  9 Apr 2024 10:43:13 +0200 (CEST)
Received: from mail-yb1-f227.google.com (mail-yb1-f227.google.com
 [209.85.219.227])
 by mails.dpdk.org (Postfix) with ESMTP id 485E0402B9
 for <test-report@dpdk.org>; Tue,  9 Apr 2024 10:43:13 +0200 (CEST)
Received: by mail-yb1-f227.google.com with SMTP id
 3f1490d57ef6-dc6d8bd618eso5003171276.3
 for <test-report@dpdk.org>; Tue, 09 Apr 2024 01:43:13 -0700 (PDT)
DKIM-Signature: v=1; a=rsa-sha256; c=relaxed/relaxed;
 d=iol.unh.edu; s=unh-iol; t=1712652192; x=1713256992; darn=dpdk.org;
 h=references:in-reply-to:cc:to:from:subject:message-id:date:from:to
 :cc:subject:date:message-id:reply-to;
 bh=T484Bs04S9Mbpl1ZOYaa36AyRf04HA+CkXpfsl22Gxg=;
 b=gTAK0RANuP7H778LlZGiBvm8NFpCN2YEAFCp3EBAqkep1KCcNvgvuYpWDFq63rk2o8
 juRUE/l99WFWmqc2SpxEsAeM0sIbc0dQWlVvO8j14plUe2klwAhIwTCjnSxPzam37Roy
 J191HSSef1j2Rs79cA/OsYXAgebIF+/282Dt4=
X-Google-DKIM-Signature: v=1; a=rsa-sha256; c=relaxed/relaxed;
 d=1e100.net; s=20230601; t=1712652192; x=1713256992;
 h=references:in-reply-to:cc:to:from:subject:message-id:date
 :x-gm-message-state:from:to:cc:subject:date:message-id:reply-to;
 bh=T484Bs04S9Mbpl1ZOYaa36AyRf04HA+CkXpfsl22Gxg=;
 b=JguHCCd5N80jP9NNGf3DvdQI4u4NSMXtU44qIlDT0bpx6glHQZBUg76PJacv76Ksm/
 8NjvJmHiGEscfuBB6M1a7mnajQT6FHEHfETOATHogHlgwkydq5k2hGDQFWRGlU5KrOWt
 nUi9kXBWJK/pLf1rDNAgx1cYmJcGcMZ1Z1qMRCl1IZxpy07VDIus8tiIkqU5tBtsfz6m
 Jm47vW7lxpDAAHduaWV/PJAwiJaVB8QyZa6w1YeXC/O83I0UTjMdGrVWBKd/f5+UjhwJ
 uQtQhYb6a6JYOSlyxDubDs2hpKLdmscmcU49RnosENrTUE7YScI0jngYs1GKWwdUNIa5
 8/2w==
X-Gm-Message-State: AOJu0YzHzVGDFO0+lTeBx8KkdFJoykd1Q8xU3u3gKsBeyIfnrv/c/NH9
 Ewks01mL4hpL7xjYjGq1kpVYb3BO4OlrnJns5YX8jWCW7VFivTBa4llH1sWu3TcEYS79KUuIEme
 2aoZCaxeoZNlNbQhe2BgYeVm1EGDpA9QRXDxKXQhH
X-Google-Smtp-Source: AGHT+IGFHZmEqrz0rYq+RwHIUGrWk7ojM1BWOP29sRMQJTb5ffi0FrOYn60UtcR9g1ItYtq8MSXrbWwEpBMR
X-Received: by 2002:a25:8144:0:b0:dcb:ccf3:b69 with SMTP id
 j4-20020a258144000000b00dcbccf30b69mr7793877ybm.35.1712652192675; 
 Tue, 09 Apr 2024 01:43:12 -0700 (PDT)
Received: from postal.iol.unh.edu (postal.iol.unh.edu. [132.177.123.84])
 by smtp-relay.gmail.com with ESMTPS id
 o12-20020a056902110c00b00ddad28227a8sm406939ybu.14.2024.04.09.01.43.12
 (version=TLS1_2 cipher=ECDHE-ECDSA-AES128-GCM-SHA256 bits=128/128);
 Tue, 09 Apr 2024 01:43:12 -0700 (PDT)
X-Relaying-Domain: iol.unh.edu
Date: Tue, 09 Apr 2024 01:43:12 -0700 (PDT)
Message-ID: <6614ffa0.050a0220.fbb47.c5fdSMTPIN_ADDED_MISSING@mx.google.com>
Received: from [172.17.0.4] (unknown [172.18.0.217])
 by postal.iol.unh.edu (Postfix) with ESMTP id 4EF926052514;
 Tue,  9 Apr 2024 04:43:12 -0400 (EDT)
Subject: |SUCCESS| pw139199 [PATCH] [v2] latencystats: performance overhaul
From: dpdklab@iol.unh.edu
To: Test Report <test-report@dpdk.org>
Cc: dpdk-test-reports@iol.unh.edu
In-Reply-To: <20240408212615.416813-1-stephen@networkplumber.org>
References: <20240408212615.416813-1-stephen@networkplumber.org>
Content-Type: text/plain
X-BeenThere: test-report@dpdk.org
X-Mailman-Version: 2.1.29
Precedence: list
List-Id: automatic DPDK test reports <test-report.dpdk.org>
List-Unsubscribe: <https://mails.dpdk.org/options/test-report>,
 <mailto:test-report-request@dpdk.org?subject=unsubscribe>
List-Archive: <http://mails.dpdk.org/archives/test-report/>
List-Post: <mailto:test-report@dpdk.org>
List-Help: <mailto:test-report-request@dpdk.org?subject=help>
List-Subscribe: <https://mails.dpdk.org/listinfo/test-report>,
 <mailto:test-report-request@dpdk.org?subject=subscribe>
Errors-To: test-report-bounces@dpdk.org

Test-Label: iol-unit-arm64-testing
Test-Status: SUCCESS
http://dpdk.org/patch/139199

_Testing PASS_

Submitter: Stephen Hemminger <stephen@networkplumber.org>
Date: Monday, April 08 2024 21:26:15 
DPDK git baseline: Repo:dpdk
  Branch: master
  CommitID:e2e546ab5bf5e024986ccb5310ab43982f3bb40c

139199 --> testing pass

Test environment and result as below:

+-----------------------------+----------------+---------------------------+------------------------------+--------------+
|         Environment         | dpdk_unit_test | cryptodev_sw_zuc_autotest | cryptodev_sw_snow3g_autotest | lpm_autotest |
+=============================+================+===========================+==============================+==============+
| CentOS Stream 9 (ARM)       | PASS           | SKIPPED                   | SKIPPED                      | SKIPPED      |
+-----------------------------+----------------+---------------------------+------------------------------+--------------+
| Fedora 38 (ARM)             | PASS           | SKIPPED                   | SKIPPED                      | SKIPPED      |
+-----------------------------+----------------+---------------------------+------------------------------+--------------+
| Debian 11 (Buster) (ARM)    | PASS           | SKIPPED                   | SKIPPED                      | SKIPPED      |
+-----------------------------+----------------+---------------------------+------------------------------+--------------+
| Debian 12 (arm)             | PASS           | PASS                      | PASS                         | SKIPPED      |
+-----------------------------+----------------+---------------------------+------------------------------+--------------+
| Fedora 37 (ARM)             | PASS           | SKIPPED                   | SKIPPED                      | SKIPPED      |
+-----------------------------+----------------+---------------------------+------------------------------+--------------+
| Fedora 39 (ARM)             | PASS           | SKIPPED                   | SKIPPED                      | SKIPPED      |
+-----------------------------+----------------+---------------------------+------------------------------+--------------+
| Ubuntu 20.04 (ARM)          | PASS           | SKIPPED                   | SKIPPED                      | SKIPPED      |
+-----------------------------+----------------+---------------------------+------------------------------+--------------+
| 32-bit Ubuntu 20.04.4 (ARM) | PASS           | SKIPPED                   | SKIPPED                      | SKIPPED      |
+-----------------------------+----------------+---------------------------+------------------------------+--------------+
| Fedora 39 (ARM Clang)       | PASS           | SKIPPED                   | SKIPPED                      | SKIPPED      |
+-----------------------------+----------------+---------------------------+------------------------------+--------------+
| Fedora 38 (ARM Clang)       | PASS           | SKIPPED                   | SKIPPED                      | SKIPPED      |
+-----------------------------+----------------+---------------------------+------------------------------+--------------+
| Ubuntu 20.04 ARM SVE        | SKIPPED        | SKIPPED                   | SKIPPED                      | PASS         |
+-----------------------------+----------------+---------------------------+------------------------------+--------------+


CentOS Stream 9 (ARM)
	Kernel: Container Host Kernel
	Compiler: gcc 11.4.1

Fedora 38 (ARM)
	Kernel: Depends on container host
	Compiler: gcc 13.2.1

Debian 11 (Buster) (ARM)
	Kernel: Container Host Kernel
	Compiler: gcc 10.2.1

Debian 12 (arm)
	Kernel: Container Host Kernel
	Compiler: gcc 12.2.0

Fedora 37 (ARM)
	Kernel: Depends on container host
	Compiler: gcc 12.3.1

Fedora 39 (ARM)
	Kernel: Depends on container host
	Compiler: gcc 13.2.1

Ubuntu 20.04 (ARM)
	Kernel: Container Host Kernel
	Compiler: gcc 9.4.0

32-bit Ubuntu 20.04.4 (ARM)
	Kernel: 5.4.0-155-generic aarch64
	Compiler: gcc 9.4

Fedora 39 (ARM Clang)
	Kernel: Depends on container host
	Compiler: clang 17.0.6

Fedora 38 (ARM Clang)
	Kernel: Depends on container host
	Compiler: clang 16.0.6

Ubuntu 20.04 ARM SVE
	Kernel: 5.4.0-167-generic
	Compiler: gcc (Ubuntu 10.5.0-1ubuntu1~20.04) 10.5.0

To view detailed results, visit:
https://lab.dpdk.org/results/dashboard/patchsets/29744/

UNH-IOL DPDK Community Lab

To manage your email subscriptions, visit: 
https://lab.dpdk.org/results/dashboard/preferences/subscriptions/