From mboxrd@z Thu Jan  1 00:00:00 1970
Return-Path: <test-report-bounces@dpdk.org>
Received: from mails.dpdk.org (mails.dpdk.org [217.70.189.124])
	by inbox.dpdk.org (Postfix) with ESMTP id B8A5343E26
	for <public@inbox.dpdk.org>; Tue,  9 Apr 2024 10:46:34 +0200 (CEST)
Received: from mails.dpdk.org (localhost [127.0.0.1])
	by mails.dpdk.org (Postfix) with ESMTP id B2D37402C0;
	Tue,  9 Apr 2024 10:46:34 +0200 (CEST)
Received: from mail-yw1-f226.google.com (mail-yw1-f226.google.com
 [209.85.128.226])
 by mails.dpdk.org (Postfix) with ESMTP id C8323402B9
 for <test-report@dpdk.org>; Tue,  9 Apr 2024 10:46:33 +0200 (CEST)
Received: by mail-yw1-f226.google.com with SMTP id
 00721157ae682-617dfcf80aeso37356847b3.3
 for <test-report@dpdk.org>; Tue, 09 Apr 2024 01:46:33 -0700 (PDT)
DKIM-Signature: v=1; a=rsa-sha256; c=relaxed/relaxed;
 d=iol.unh.edu; s=unh-iol; t=1712652393; x=1713257193; darn=dpdk.org;
 h=references:in-reply-to:cc:to:from:subject:message-id:date:from:to
 :cc:subject:date:message-id:reply-to;
 bh=cFIYIE7YdlS37RXtuahfZ0IobFnDaJ/hA+/TRnPwGIE=;
 b=ZtcirMtOReMiBir8YrT26pQh2XG50Bj6L9oQAZudufGol1yP7wF9sx5uggyqWSjTC1
 g2R6Ucn8OgTHsaiGAXicJi4Gzun9hZrbsjaFeOfT3C/xIHD9IMUzZhzeuzzTLdIaC+rs
 cEZ2IPhMRLaq5ZjL7O8E9ogMRItYZ5Yi9+e9I=
X-Google-DKIM-Signature: v=1; a=rsa-sha256; c=relaxed/relaxed;
 d=1e100.net; s=20230601; t=1712652393; x=1713257193;
 h=references:in-reply-to:cc:to:from:subject:message-id:date
 :x-gm-message-state:from:to:cc:subject:date:message-id:reply-to;
 bh=cFIYIE7YdlS37RXtuahfZ0IobFnDaJ/hA+/TRnPwGIE=;
 b=QjzE57nUqmcJdK1C/5pnocbTP4NOWlGj62Z7toT1bLPMAKxyZtdTFA/+WDh2fv0Aat
 /wAiwrp+tiBAAMt7k7iZshJdA2/tetrJo8IkRTpM6LQ5pkZwlalxp6p2VqNzGC+RUvsi
 y/5aQAxvgzOYiZV7nBPTLXS+Ff7s4IgNrstndBTl/8zUe+DFvcNqRA2ZiyJRzHjUKAFR
 bxQnfWwrfuSa1jjMN0kg5qePlgZgfoqoS8mdz6juZSnoJprq9Oq9vATWI71nP9SMxF0g
 ot4JYIgNprBzep+M8dMfM2DtPciIagjkcwy5vx/CvvGNtTlmUMbmG0nYND028ldqO3WX
 yvGg==
X-Gm-Message-State: AOJu0YzjQLZyhNY4PImglcrnDKH1VMGmCsHTtI+fxKKkYk7Cl4hpgEf7
 oothPf6Fkeox8cE8Vs/K9dLk4U+uQIARmyrIzWqIjIhPn/lgyyWiZdKh0d48DgcsGyMy2N4hwZD
 LhLE7IMunEXgEDTAxb/ongHAVDuVX4G1vLcfjYsQ0
X-Google-Smtp-Source: AGHT+IHDX7vY2SB2bhPctcoSeAB0JXgqhOmByKjxBbu7VtVgEsGk85X5wDc8SpNQydNnZpe/s/p7E+bIM5/L
X-Received: by 2002:a81:b604:0:b0:617:fbaa:1d91 with SMTP id
 u4-20020a81b604000000b00617fbaa1d91mr5935770ywh.11.1712652393209; 
 Tue, 09 Apr 2024 01:46:33 -0700 (PDT)
Received: from postal.iol.unh.edu (postal.iol.unh.edu. [132.177.123.84])
 by smtp-relay.gmail.com with ESMTPS id
 bg20-20020a05690c031400b0061577675e70sm433722ywb.11.2024.04.09.01.46.33
 (version=TLS1_2 cipher=ECDHE-ECDSA-AES128-GCM-SHA256 bits=128/128);
 Tue, 09 Apr 2024 01:46:33 -0700 (PDT)
X-Relaying-Domain: iol.unh.edu
Date: Tue, 09 Apr 2024 01:46:33 -0700 (PDT)
Message-ID: <66150069.050a0220.4215e.f384SMTPIN_ADDED_MISSING@mx.google.com>
Received: from [172.17.0.4] (unknown [172.18.0.217])
 by postal.iol.unh.edu (Postfix) with ESMTP id CCE126052514;
 Tue,  9 Apr 2024 04:46:32 -0400 (EDT)
Subject: |SUCCESS| pw139191-139198 [PATCH] [v7,8/8] doc: update documentation
From: dpdklab@iol.unh.edu
To: Test Report <test-report@dpdk.org>
Cc: dpdk-test-reports@iol.unh.edu
In-Reply-To: <20240408212438.414099-9-stephen@networkplumber.org>
References: <20240408212438.414099-9-stephen@networkplumber.org>
Content-Type: text/plain
X-BeenThere: test-report@dpdk.org
X-Mailman-Version: 2.1.29
Precedence: list
List-Id: automatic DPDK test reports <test-report.dpdk.org>
List-Unsubscribe: <https://mails.dpdk.org/options/test-report>,
 <mailto:test-report-request@dpdk.org?subject=unsubscribe>
List-Archive: <http://mails.dpdk.org/archives/test-report/>
List-Post: <mailto:test-report@dpdk.org>
List-Help: <mailto:test-report-request@dpdk.org?subject=help>
List-Subscribe: <https://mails.dpdk.org/listinfo/test-report>,
 <mailto:test-report-request@dpdk.org?subject=subscribe>
Errors-To: test-report-bounces@dpdk.org

Test-Label: iol-unit-arm64-testing
Test-Status: SUCCESS
http://dpdk.org/patch/139198

_Testing PASS_

Submitter: Stephen Hemminger <stephen@networkplumber.org>
Date: Monday, April 08 2024 21:18:39 
DPDK git baseline: Repo:dpdk
  Branch: master
  CommitID:e2e546ab5bf5e024986ccb5310ab43982f3bb40c

139191-139198 --> testing pass

Test environment and result as below:

+-----------------------------+------------------------------+---------------------------+----------------+--------------+
|         Environment         | cryptodev_sw_snow3g_autotest | cryptodev_sw_zuc_autotest | dpdk_unit_test | lpm_autotest |
+=============================+==============================+===========================+================+==============+
| Debian 12 (arm)             | PASS                         | PASS                      | PASS           | SKIPPED      |
+-----------------------------+------------------------------+---------------------------+----------------+--------------+
| CentOS Stream 9 (ARM)       | SKIPPED                      | SKIPPED                   | PASS           | SKIPPED      |
+-----------------------------+------------------------------+---------------------------+----------------+--------------+
| Debian 11 (Buster) (ARM)    | SKIPPED                      | SKIPPED                   | PASS           | SKIPPED      |
+-----------------------------+------------------------------+---------------------------+----------------+--------------+
| Fedora 37 (ARM)             | SKIPPED                      | SKIPPED                   | PASS           | SKIPPED      |
+-----------------------------+------------------------------+---------------------------+----------------+--------------+
| Fedora 38 (ARM)             | SKIPPED                      | SKIPPED                   | PASS           | SKIPPED      |
+-----------------------------+------------------------------+---------------------------+----------------+--------------+
| Fedora 39 (ARM)             | SKIPPED                      | SKIPPED                   | PASS           | SKIPPED      |
+-----------------------------+------------------------------+---------------------------+----------------+--------------+
| Ubuntu 20.04 (ARM)          | SKIPPED                      | SKIPPED                   | PASS           | SKIPPED      |
+-----------------------------+------------------------------+---------------------------+----------------+--------------+
| 32-bit Ubuntu 20.04.4 (ARM) | SKIPPED                      | SKIPPED                   | PASS           | SKIPPED      |
+-----------------------------+------------------------------+---------------------------+----------------+--------------+
| Fedora 38 (ARM Clang)       | SKIPPED                      | SKIPPED                   | PASS           | SKIPPED      |
+-----------------------------+------------------------------+---------------------------+----------------+--------------+
| Ubuntu 20.04 ARM SVE        | SKIPPED                      | SKIPPED                   | SKIPPED        | PASS         |
+-----------------------------+------------------------------+---------------------------+----------------+--------------+


Debian 12 (arm)
	Kernel: Container Host Kernel
	Compiler: gcc 12.2.0

CentOS Stream 9 (ARM)
	Kernel: Container Host Kernel
	Compiler: gcc 11.4.1

Debian 11 (Buster) (ARM)
	Kernel: Container Host Kernel
	Compiler: gcc 10.2.1

Fedora 37 (ARM)
	Kernel: Depends on container host
	Compiler: gcc 12.3.1

Fedora 38 (ARM)
	Kernel: Depends on container host
	Compiler: gcc 13.2.1

Fedora 39 (ARM)
	Kernel: Depends on container host
	Compiler: gcc 13.2.1

Ubuntu 20.04 (ARM)
	Kernel: Container Host Kernel
	Compiler: gcc 9.4.0

32-bit Ubuntu 20.04.4 (ARM)
	Kernel: 5.4.0-155-generic aarch64
	Compiler: gcc 9.4

Fedora 38 (ARM Clang)
	Kernel: Depends on container host
	Compiler: clang 16.0.6

Ubuntu 20.04 ARM SVE
	Kernel: 5.4.0-167-generic
	Compiler: gcc (Ubuntu 10.5.0-1ubuntu1~20.04) 10.5.0

To view detailed results, visit:
https://lab.dpdk.org/results/dashboard/patchsets/29743/

UNH-IOL DPDK Community Lab

To manage your email subscriptions, visit: 
https://lab.dpdk.org/results/dashboard/preferences/subscriptions/