From mboxrd@z Thu Jan  1 00:00:00 1970
Return-Path: <test-report-bounces@dpdk.org>
Received: from mails.dpdk.org (mails.dpdk.org [217.70.189.124])
	by inbox.dpdk.org (Postfix) with ESMTP id 2900843E26
	for <public@inbox.dpdk.org>; Tue,  9 Apr 2024 11:06:13 +0200 (CEST)
Received: from mails.dpdk.org (localhost [127.0.0.1])
	by mails.dpdk.org (Postfix) with ESMTP id 2467B402C0;
	Tue,  9 Apr 2024 11:06:13 +0200 (CEST)
Received: from mail-yb1-f226.google.com (mail-yb1-f226.google.com
 [209.85.219.226])
 by mails.dpdk.org (Postfix) with ESMTP id 1202F402B9
 for <test-report@dpdk.org>; Tue,  9 Apr 2024 11:06:11 +0200 (CEST)
Received: by mail-yb1-f226.google.com with SMTP id
 3f1490d57ef6-dde0b30ebe2so4535701276.0
 for <test-report@dpdk.org>; Tue, 09 Apr 2024 02:06:11 -0700 (PDT)
DKIM-Signature: v=1; a=rsa-sha256; c=relaxed/relaxed;
 d=iol.unh.edu; s=unh-iol; t=1712653570; x=1713258370; darn=dpdk.org;
 h=references:in-reply-to:cc:to:from:subject:message-id:date:from:to
 :cc:subject:date:message-id:reply-to;
 bh=XzJMlln7X+48fmMl5jyGUz5XRXwYlNlglW9vU9YPaiM=;
 b=Bq7VEa6e63JHC5D7q7xa2+3W6lzvNmxGn6qdWTyXKxmBwkbwyCQ3HJX6H0C5uFfq43
 0PYVoNSMC87LnZPrakogDk8YgcZoPWBoxiSBPC19YlFutbtm9WKAXOhXRcfQRP16fUbf
 H6GIhWWgl0uJn6cxn1GN6IvcR6kudr7Q9ZYnk=
X-Google-DKIM-Signature: v=1; a=rsa-sha256; c=relaxed/relaxed;
 d=1e100.net; s=20230601; t=1712653570; x=1713258370;
 h=references:in-reply-to:cc:to:from:subject:message-id:date
 :x-gm-message-state:from:to:cc:subject:date:message-id:reply-to;
 bh=XzJMlln7X+48fmMl5jyGUz5XRXwYlNlglW9vU9YPaiM=;
 b=p+SAU3tDsYmNlhLCLovdpPoyKhuqxBr5Og5AY/9MKH22URgdl8uFkyqnEtMNrTvNXV
 rd5JicalKmC+g/6LMIjxuWUEuC0lWaQDogIJRZ0NdWHKnrOBBuFxq7nNN5o1ur2HeWsB
 TT6F/KuxXnuFKkaENcRRSrgrpnSMlBU/cpS1BH4+lQPNMH9WAC/luMtOnCVU5wP1zAxK
 ZBxryxm5aBCx3Ohsb8GER2pKwn1MFT8HXW6axCC+YlXe23F9VYtStvFm6g2wPN+MTzDO
 dPGmrVOHJmjQ6KHkKAczBhppnGuyXYkDory4Umygnpex26j6wrnfce2FyuK7zsN75q+H
 R91w==
X-Gm-Message-State: AOJu0YzAgosnkir0ix+wK1UJVjpBycasGgPnlB1x5Kxjx30HOXnwXZBu
 CsFuwa4XfbBJ24wh/5FNMks4h7OGXYErS2+RW+S3+Wn5blkDF9MW0XMz8FyM4ruAgvzc11cIM5J
 qb+J5x5eQz98Y0mdlB2K/bBy3sww5sMUYXsVU2d1lmh2FYH+tqtlQ65+X
X-Google-Smtp-Source: AGHT+IEGozFv5OPQAZU1cGqVgSUw1ofWI+eEvjHjNjUvJ31UhnyMCoWWC2rIFZC9czhfUHzdbxaxiN+fg/M6
X-Received: by 2002:a25:b8d:0:b0:dc6:ff66:87a8 with SMTP id
 135-20020a250b8d000000b00dc6ff6687a8mr8442585ybl.51.1712653570461; 
 Tue, 09 Apr 2024 02:06:10 -0700 (PDT)
Received: from postal.iol.unh.edu (postal.iol.unh.edu.
 [2606:4100:3880:1234::84]) by smtp-relay.gmail.com with ESMTPS id
 x11-20020a056902138b00b00dce07d31891sm442866ybu.7.2024.04.09.02.06.10
 (version=TLS1_2 cipher=ECDHE-ECDSA-AES128-GCM-SHA256 bits=128/128);
 Tue, 09 Apr 2024 02:06:10 -0700 (PDT)
X-Relaying-Domain: iol.unh.edu
Date: Tue, 09 Apr 2024 02:06:10 -0700 (PDT)
Message-ID: <66150502.050a0220.a22dd.dc66SMTPIN_ADDED_MISSING@mx.google.com>
Received: from [172.17.0.4] (unknown [172.18.0.217])
 by postal.iol.unh.edu (Postfix) with ESMTP id 161A96052514;
 Tue,  9 Apr 2024 05:06:10 -0400 (EDT)
Subject: |SUCCESS| pw139191-139198 [PATCH] [v7,8/8] doc: update documentation
From: dpdklab@iol.unh.edu
To: Test Report <test-report@dpdk.org>
Cc: dpdk-test-reports@iol.unh.edu
In-Reply-To: <20240408212438.414099-9-stephen@networkplumber.org>
References: <20240408212438.414099-9-stephen@networkplumber.org>
Content-Type: text/plain
X-BeenThere: test-report@dpdk.org
X-Mailman-Version: 2.1.29
Precedence: list
List-Id: automatic DPDK test reports <test-report.dpdk.org>
List-Unsubscribe: <https://mails.dpdk.org/options/test-report>,
 <mailto:test-report-request@dpdk.org?subject=unsubscribe>
List-Archive: <http://mails.dpdk.org/archives/test-report/>
List-Post: <mailto:test-report@dpdk.org>
List-Help: <mailto:test-report-request@dpdk.org?subject=help>
List-Subscribe: <https://mails.dpdk.org/listinfo/test-report>,
 <mailto:test-report-request@dpdk.org?subject=subscribe>
Errors-To: test-report-bounces@dpdk.org

Test-Label: iol-unit-amd64-testing
Test-Status: SUCCESS
http://dpdk.org/patch/139198

_Testing PASS_

Submitter: Stephen Hemminger <stephen@networkplumber.org>
Date: Monday, April 08 2024 21:18:39 
DPDK git baseline: Repo:dpdk
  Branch: master
  CommitID:e2e546ab5bf5e024986ccb5310ab43982f3bb40c

139191-139198 --> testing pass

Test environment and result as below:

+------------------+----------------+
|   Environment    | dpdk_unit_test |
+==================+================+
| CentOS Stream 8  | PASS           |
+------------------+----------------+
| Debian Bullseye  | PASS           |
+------------------+----------------+
| CentOS Stream 9  | PASS           |
+------------------+----------------+
| Debian 12        | PASS           |
+------------------+----------------+
| Fedora 37        | PASS           |
+------------------+----------------+
| Fedora 38        | PASS           |
+------------------+----------------+
| Fedora 39        | PASS           |
+------------------+----------------+
| RHEL8            | PASS           |
+------------------+----------------+
| Ubuntu 20.04     | PASS           |
+------------------+----------------+
| openSUSE Leap 15 | PASS           |
+------------------+----------------+
| Ubuntu 22.04     | PASS           |
+------------------+----------------+


CentOS Stream 8
	Kernel: 5.4.0-167-generic
	Compiler: gcc 8.5.0 20210514

Debian Bullseye
	Kernel: 5.4.0-167-generic
	Compiler: gcc 10.2.1-6

CentOS Stream 9
	Kernel: 5.4.0-167-generic
	Compiler: gcc 11.4.1 20230605

Debian 12
	Kernel: Container Host Kernel
	Compiler: gcc 10.2.1

Fedora 37
	Kernel: Depends on container host system
	Compiler: gcc 12.3.1

Fedora 38
	Kernel: Depends on container host
	Compiler: gcc 13.2.1

Fedora 39
	Kernel: Depends on container host
	Compiler: gcc 13.2.1

RHEL8
	Kernel: 5.4.0-167-generic
	Compiler: gcc 8.5.0 20210514 (Red Hat 8.5.0-20)

Ubuntu 20.04
	Kernel: 5.4.0-167-generic
	Compiler: gcc 9.4.0-1ubuntu1~20.04.1

openSUSE Leap 15
	Kernel: 5.4.0-167-generic
	Compiler: gcc 7.5.0

Ubuntu 22.04
	Kernel: 5.4.0-167-generic
	Compiler: gcc 11.4.0

To view detailed results, visit:
https://lab.dpdk.org/results/dashboard/patchsets/29743/

UNH-IOL DPDK Community Lab

To manage your email subscriptions, visit: 
https://lab.dpdk.org/results/dashboard/preferences/subscriptions/