From mboxrd@z Thu Jan  1 00:00:00 1970
Return-Path: <test-report-bounces@dpdk.org>
Received: from mails.dpdk.org (mails.dpdk.org [217.70.189.124])
	by inbox.dpdk.org (Postfix) with ESMTP id AFE5643E26
	for <public@inbox.dpdk.org>; Tue,  9 Apr 2024 11:07:22 +0200 (CEST)
Received: from mails.dpdk.org (localhost [127.0.0.1])
	by mails.dpdk.org (Postfix) with ESMTP id ABFD7402C0;
	Tue,  9 Apr 2024 11:07:22 +0200 (CEST)
Received: from mail-io1-f97.google.com (mail-io1-f97.google.com
 [209.85.166.97]) by mails.dpdk.org (Postfix) with ESMTP id 643B4402B9
 for <test-report@dpdk.org>; Tue,  9 Apr 2024 11:07:21 +0200 (CEST)
Received: by mail-io1-f97.google.com with SMTP id
 ca18e2360f4ac-7c8ad87b2acso106650639f.3
 for <test-report@dpdk.org>; Tue, 09 Apr 2024 02:07:21 -0700 (PDT)
DKIM-Signature: v=1; a=rsa-sha256; c=relaxed/relaxed;
 d=iol.unh.edu; s=unh-iol; t=1712653641; x=1713258441; darn=dpdk.org;
 h=references:in-reply-to:cc:to:from:subject:message-id:date:from:to
 :cc:subject:date:message-id:reply-to;
 bh=XzJMlln7X+48fmMl5jyGUz5XRXwYlNlglW9vU9YPaiM=;
 b=KfEp1gYOLXii517pgMg4puFCT6Uuowbff3pNCsVTGJlP2Bdpslr+ZIQVYlu0eXbHBH
 sUodCVp2ymjWM6SOYVyydWHw+Qm52XjeYu/p7dGnpiJR7SvMg04J4Xwa+mlitzfWG5d8
 32ZXyiJ+VDxaE5bYW0O3yje2r0uCijcn/DgvU=
X-Google-DKIM-Signature: v=1; a=rsa-sha256; c=relaxed/relaxed;
 d=1e100.net; s=20230601; t=1712653641; x=1713258441;
 h=references:in-reply-to:cc:to:from:subject:message-id:date
 :x-gm-message-state:from:to:cc:subject:date:message-id:reply-to;
 bh=XzJMlln7X+48fmMl5jyGUz5XRXwYlNlglW9vU9YPaiM=;
 b=oNQtJU2Zs9WCuSmm3IdH1YabpCvuiMGGHMWIwX1qntncW4CP166BKxGNtWKRp/wnPx
 5s1SblfDBE2+xbutxcvw9lkmEKtZLLgQYcwhTofh1U+LuGLvET75nsN0yCYz0plfruyr
 JOXFaNJoF4zMtnCLSRD4ZcEF/HXU8sYPgvJXiXaYjvDd9BuCRKpv2VZeAEVEHEAgB1bg
 581noSKF3Weklg0KL6gT4/YLYfYLc99/ZZQxSO5CU+h8lWagTg4G2z75PB31TNJLCtm6
 5gPpoBuN9I+q8b++bFgZ3LAgO/kHWNxB1VT4+B3heQuQ7fUkDUObJrKKs3On9DJY3jcS
 ht2g==
X-Gm-Message-State: AOJu0Yyt1+dzEbBRAnIry9plIOAI6mAXuG0HRmYG+/+lLl0OpGCDHlXS
 EMq4EqsM2PuaR1b7xcvwR7oPIo7OZw0ij0TnbhtX4NZFYI5lF48z2ZvG5/C7EfOHgr2/JZI4nIt
 Zj88X+f1bLgu26ImgBrXsmZ3UDqX6XAQEcGMMDYeB
X-Google-Smtp-Source: AGHT+IGrapn7OBpizRrjZUD67GXAOAojHIvZtH8CKqGq3xDQ6OuVpA1fun56JT8Ur4wYG2U2MGtLm7qs4MHP
X-Received: by 2002:a6b:6c02:0:b0:7cc:aba:f0be with SMTP id
 a2-20020a6b6c02000000b007cc0abaf0bemr12292118ioh.11.1712653640793; 
 Tue, 09 Apr 2024 02:07:20 -0700 (PDT)
Received: from postal.iol.unh.edu (postal.iol.unh.edu. [132.177.123.84])
 by smtp-relay.gmail.com with ESMTPS id
 iq19-20020a056638841300b00482af63998fsm4793jab.41.2024.04.09.02.07.20
 (version=TLS1_2 cipher=ECDHE-ECDSA-AES128-GCM-SHA256 bits=128/128);
 Tue, 09 Apr 2024 02:07:20 -0700 (PDT)
X-Relaying-Domain: iol.unh.edu
Date: Tue, 09 Apr 2024 02:07:20 -0700 (PDT)
Message-ID: <66150548.050a0220.f3e9.058bSMTPIN_ADDED_MISSING@mx.google.com>
Received: from [172.21.0.6] (unknown [172.18.0.240])
 by postal.iol.unh.edu (Postfix) with ESMTP id 693646052514;
 Tue,  9 Apr 2024 05:07:20 -0400 (EDT)
Subject: |SUCCESS| pw139191-139198 [PATCH] [v7,8/8] doc: update documentation
From: dpdklab@iol.unh.edu
To: Test Report <test-report@dpdk.org>
Cc: dpdk-test-reports@iol.unh.edu
In-Reply-To: <20240408212438.414099-9-stephen@networkplumber.org>
References: <20240408212438.414099-9-stephen@networkplumber.org>
Content-Type: text/plain
X-BeenThere: test-report@dpdk.org
X-Mailman-Version: 2.1.29
Precedence: list
List-Id: automatic DPDK test reports <test-report.dpdk.org>
List-Unsubscribe: <https://mails.dpdk.org/options/test-report>,
 <mailto:test-report-request@dpdk.org?subject=unsubscribe>
List-Archive: <http://mails.dpdk.org/archives/test-report/>
List-Post: <mailto:test-report@dpdk.org>
List-Help: <mailto:test-report-request@dpdk.org?subject=help>
List-Subscribe: <https://mails.dpdk.org/listinfo/test-report>,
 <mailto:test-report-request@dpdk.org?subject=subscribe>
Errors-To: test-report-bounces@dpdk.org

Test-Label: iol-unit-amd64-testing
Test-Status: SUCCESS
http://dpdk.org/patch/139198

_Testing PASS_

Submitter: Stephen Hemminger <stephen@networkplumber.org>
Date: Monday, April 08 2024 21:18:39 
DPDK git baseline: Repo:dpdk
  Branch: master
  CommitID:e2e546ab5bf5e024986ccb5310ab43982f3bb40c

139191-139198 --> testing pass

Test environment and result as below:

+------------------+----------------+
|   Environment    | dpdk_unit_test |
+==================+================+
| CentOS Stream 8  | PASS           |
+------------------+----------------+
| Debian Bullseye  | PASS           |
+------------------+----------------+
| CentOS Stream 9  | PASS           |
+------------------+----------------+
| Debian 12        | PASS           |
+------------------+----------------+
| Fedora 37        | PASS           |
+------------------+----------------+
| Fedora 38        | PASS           |
+------------------+----------------+
| Fedora 39        | PASS           |
+------------------+----------------+
| RHEL8            | PASS           |
+------------------+----------------+
| Ubuntu 20.04     | PASS           |
+------------------+----------------+
| openSUSE Leap 15 | PASS           |
+------------------+----------------+
| Ubuntu 22.04     | PASS           |
+------------------+----------------+


CentOS Stream 8
	Kernel: 5.4.0-167-generic
	Compiler: gcc 8.5.0 20210514

Debian Bullseye
	Kernel: 5.4.0-167-generic
	Compiler: gcc 10.2.1-6

CentOS Stream 9
	Kernel: 5.4.0-167-generic
	Compiler: gcc 11.4.1 20230605

Debian 12
	Kernel: Container Host Kernel
	Compiler: gcc 10.2.1

Fedora 37
	Kernel: Depends on container host system
	Compiler: gcc 12.3.1

Fedora 38
	Kernel: Depends on container host
	Compiler: gcc 13.2.1

Fedora 39
	Kernel: Depends on container host
	Compiler: gcc 13.2.1

RHEL8
	Kernel: 5.4.0-167-generic
	Compiler: gcc 8.5.0 20210514 (Red Hat 8.5.0-20)

Ubuntu 20.04
	Kernel: 5.4.0-167-generic
	Compiler: gcc 9.4.0-1ubuntu1~20.04.1

openSUSE Leap 15
	Kernel: 5.4.0-167-generic
	Compiler: gcc 7.5.0

Ubuntu 22.04
	Kernel: 5.4.0-167-generic
	Compiler: gcc 11.4.0

To view detailed results, visit:
https://lab.dpdk.org/results/dashboard/patchsets/29743/

UNH-IOL DPDK Community Lab

To manage your email subscriptions, visit: 
https://lab.dpdk.org/results/dashboard/preferences/subscriptions/