From mboxrd@z Thu Jan  1 00:00:00 1970
Return-Path: <test-report-bounces@dpdk.org>
Received: from mails.dpdk.org (mails.dpdk.org [217.70.189.124])
	by inbox.dpdk.org (Postfix) with ESMTP id 0164A43E26
	for <public@inbox.dpdk.org>; Tue,  9 Apr 2024 11:31:02 +0200 (CEST)
Received: from mails.dpdk.org (localhost [127.0.0.1])
	by mails.dpdk.org (Postfix) with ESMTP id ECB53402C0;
	Tue,  9 Apr 2024 11:31:01 +0200 (CEST)
Received: from mail-yb1-f228.google.com (mail-yb1-f228.google.com
 [209.85.219.228])
 by mails.dpdk.org (Postfix) with ESMTP id 89193402B9
 for <test-report@dpdk.org>; Tue,  9 Apr 2024 11:31:00 +0200 (CEST)
Received: by mail-yb1-f228.google.com with SMTP id
 3f1490d57ef6-dd045349d42so4872894276.2
 for <test-report@dpdk.org>; Tue, 09 Apr 2024 02:31:00 -0700 (PDT)
DKIM-Signature: v=1; a=rsa-sha256; c=relaxed/relaxed;
 d=iol.unh.edu; s=unh-iol; t=1712655060; x=1713259860; darn=dpdk.org;
 h=references:in-reply-to:cc:to:from:subject:message-id:date:from:to
 :cc:subject:date:message-id:reply-to;
 bh=7642MGYiYbmkh+Py9erXw86+fJHkPO7w1Gc8L+yOPho=;
 b=DlJMq4CqRwKSh9XnJFjE68GmodqPzWQGy1b7nWInu49AH9OK2yBpA9rYjDaDNzLl3/
 j9UobRHdxrQI2Y1Otbj10xZER7c/OhECJ+P+yjglpMKGqy1s1tXsOSP3uDnoIrLTSH/q
 EymJxaHvqqi7RDsxwb2Txsvt8aoCWluI+LgjE=
X-Google-DKIM-Signature: v=1; a=rsa-sha256; c=relaxed/relaxed;
 d=1e100.net; s=20230601; t=1712655060; x=1713259860;
 h=references:in-reply-to:cc:to:from:subject:message-id:date
 :x-gm-message-state:from:to:cc:subject:date:message-id:reply-to;
 bh=7642MGYiYbmkh+Py9erXw86+fJHkPO7w1Gc8L+yOPho=;
 b=CDxomOxZmhW6b3j7QSLcWWNpy0FHBxrgld7lGnv9x6tkWVMn4mbVudfeTI+j+MtzF0
 H2Anxjn8HXkU7n8f4ga3Vw8JtT8T47waw16p/MJaAsPv0ehIZO03ZA/q98GYUIAdf68V
 Dy4r2Y2A3MIS89K/vae1a6U4qR62kwVXDWTHR08n/giWeMHYgXgtTd/PLKOJXtj819KA
 78R+/OfPJBqb+m4sF2rFNFOorz9neuf3pELvkJid5WD00ntNPwVjvnQ0qzDF8jmmcOgy
 IDMRfg0BScj2Lajw10wIhXOiY6aT7ma4Ub10fSN2tc76XS/HjDZNywtsS8/wzK10nj8a
 Na+A==
X-Gm-Message-State: AOJu0YzPsJN+TZsXUJkSPQlSZgD3IQuss4LpBraUYczuVTWnVnO5pTej
 TfgDS6UJmrE7sP795o1yOvEYAdmJGkkr5+hQh5+CcONoNFgENExi1P34rgWhHN5c4b3rk5ChxYQ
 VhAqeShrY15o8J3/S6yomwBYgPkD0JF/5Od6nQViU71yqcfFpq0L78upL
X-Google-Smtp-Source: AGHT+IG7FFvRTG6iL8atM+UA4yoh0r/yChrc9jRamexk//4SmdcrdGyvjBdoYJ6ES/Ohgy63r6AEXVyPyVnP
X-Received: by 2002:a25:df4e:0:b0:dcd:5f08:3666 with SMTP id
 w75-20020a25df4e000000b00dcd5f083666mr9967542ybg.29.1712655060002; 
 Tue, 09 Apr 2024 02:31:00 -0700 (PDT)
Received: from postal.iol.unh.edu (postal.iol.unh.edu.
 [2606:4100:3880:1234::84]) by smtp-relay.gmail.com with ESMTPS id
 ee1-20020a056902284100b00dc6dfd9d422sm444966ybb.30.2024.04.09.02.30.59
 (version=TLS1_2 cipher=ECDHE-ECDSA-AES128-GCM-SHA256 bits=128/128);
 Tue, 09 Apr 2024 02:30:59 -0700 (PDT)
X-Relaying-Domain: iol.unh.edu
Date: Tue, 09 Apr 2024 02:30:59 -0700 (PDT)
Message-ID: <66150ad3.050a0220.4777c.e61bSMTPIN_ADDED_MISSING@mx.google.com>
Received: from [172.21.0.6] (unknown [172.18.0.240])
 by postal.iol.unh.edu (Postfix) with ESMTP id AE5AC6052514;
 Tue,  9 Apr 2024 05:30:59 -0400 (EDT)
Subject: |SUCCESS| pw139209-139208 [PATCH] [v2,2/2] net/ngbe: add vectorized 
From: dpdklab@iol.unh.edu
To: Test Report <test-report@dpdk.org>
Cc: dpdk-test-reports@iol.unh.edu
In-Reply-To: <20240409063135.21780-3-jiawenwu@trustnetic.com>
References: <20240409063135.21780-3-jiawenwu@trustnetic.com>
Content-Type: text/plain
X-BeenThere: test-report@dpdk.org
X-Mailman-Version: 2.1.29
Precedence: list
List-Id: automatic DPDK test reports <test-report.dpdk.org>
List-Unsubscribe: <https://mails.dpdk.org/options/test-report>,
 <mailto:test-report-request@dpdk.org?subject=unsubscribe>
List-Archive: <http://mails.dpdk.org/archives/test-report/>
List-Post: <mailto:test-report@dpdk.org>
List-Help: <mailto:test-report-request@dpdk.org?subject=help>
List-Subscribe: <https://mails.dpdk.org/listinfo/test-report>,
 <mailto:test-report-request@dpdk.org?subject=subscribe>
Errors-To: test-report-bounces@dpdk.org

Test-Label: iol-compile-amd64-testing
Test-Status: SUCCESS
http://dpdk.org/patch/139208

_Testing PASS_

Submitter: Jiawen Wu <jiawenwu@trustnetic.com>
Date: Tuesday, April 09 2024 06:31:35 
DPDK git baseline: Repo:dpdk
  Branch: master
  CommitID:e2e546ab5bf5e024986ccb5310ab43982f3bb40c

139209-139208 --> testing pass

Test environment and result as below:

+---------------------+--------------------+----------------------+-------------------+
|     Environment     | dpdk_meson_compile | dpdk_mingw64_compile | dpdk_msvc_compile |
+=====================+====================+======================+===================+
| FreeBSD 13.2        | PASS               | SKIPPED              | SKIPPED           |
+---------------------+--------------------+----------------------+-------------------+
| Fedora 38           | PASS               | SKIPPED              | SKIPPED           |
+---------------------+--------------------+----------------------+-------------------+
| Fedora 37           | PASS               | SKIPPED              | SKIPPED           |
+---------------------+--------------------+----------------------+-------------------+
| CentOS Stream 9     | PASS               | SKIPPED              | SKIPPED           |
+---------------------+--------------------+----------------------+-------------------+
| CentOS Stream 8     | PASS               | SKIPPED              | SKIPPED           |
+---------------------+--------------------+----------------------+-------------------+
| Windows Server 2022 | PASS               | PASS                 | PASS              |
+---------------------+--------------------+----------------------+-------------------+
| RHEL8               | PASS               | SKIPPED              | SKIPPED           |
+---------------------+--------------------+----------------------+-------------------+
| Ubuntu 22.04        | PASS               | SKIPPED              | SKIPPED           |
+---------------------+--------------------+----------------------+-------------------+
| Alpine              | PASS               | SKIPPED              | SKIPPED           |
+---------------------+--------------------+----------------------+-------------------+


FreeBSD 13.2
	Kernel: 13.2
	Compiler: clang 14.0.5

Fedora 38
	Kernel: Depends on container host
	Compiler: gcc 13.2.1

Fedora 37
	Kernel: Depends on container host system
	Compiler: gcc 12.3.1

CentOS Stream 9
	Kernel: 5.4.0-167-generic
	Compiler: gcc 11.4.1 20230605

CentOS Stream 8
	Kernel: 5.4.0-167-generic
	Compiler: gcc 8.5.0 20210514

Windows Server 2022
	Kernel: 10.0.20348.2031
	Compiler: clang 15.0.7, gcc 8.1.0 (MinGW), and MSVC VS 17.9

RHEL8
	Kernel: 5.4.0-167-generic
	Compiler: gcc 8.5.0 20210514 (Red Hat 8.5.0-20)

Ubuntu 22.04
	Kernel: 5.4.0-167-generic
	Compiler: gcc 11.4.0

Alpine
	Kernel: 5.4.0-167-generic
	Compiler: gcc (Alpine 12.2.1_git20220924-r10) 12.2.1 20220924

To view detailed results, visit:
https://lab.dpdk.org/results/dashboard/patchsets/29746/

UNH-IOL DPDK Community Lab

To manage your email subscriptions, visit: 
https://lab.dpdk.org/results/dashboard/preferences/subscriptions/