From mboxrd@z Thu Jan  1 00:00:00 1970
Return-Path: <test-report-bounces@dpdk.org>
Received: from mails.dpdk.org (mails.dpdk.org [217.70.189.124])
	by inbox.dpdk.org (Postfix) with ESMTP id B099843E26
	for <public@inbox.dpdk.org>; Tue,  9 Apr 2024 11:38:36 +0200 (CEST)
Received: from mails.dpdk.org (localhost [127.0.0.1])
	by mails.dpdk.org (Postfix) with ESMTP id AA2D4402C0;
	Tue,  9 Apr 2024 11:38:36 +0200 (CEST)
Received: from mail-yw1-f228.google.com (mail-yw1-f228.google.com
 [209.85.128.228])
 by mails.dpdk.org (Postfix) with ESMTP id 14C2F402B9
 for <test-report@dpdk.org>; Tue,  9 Apr 2024 11:38:35 +0200 (CEST)
Received: by mail-yw1-f228.google.com with SMTP id
 00721157ae682-617ddc988f5so41342957b3.2
 for <test-report@dpdk.org>; Tue, 09 Apr 2024 02:38:35 -0700 (PDT)
DKIM-Signature: v=1; a=rsa-sha256; c=relaxed/relaxed;
 d=iol.unh.edu; s=unh-iol; t=1712655514; x=1713260314; darn=dpdk.org;
 h=references:in-reply-to:cc:to:from:subject:message-id:date:from:to
 :cc:subject:date:message-id:reply-to;
 bh=5VfMv4Sot+OAZostvy5/pDkte3vX3X2QQ04f0AA/RVE=;
 b=DhL+njVxzFkkq8PaPm1ILvjpswm5CygZjZ78+hyY63SZH6vt5fV7pSBUZnXZf7rEzo
 q61odnJibto5Pm+/hOFIIA5LG5FBRFW9pHK5spRWBsPq8IYMPmk81bPBBZuQCg3jsUAJ
 y9hXwkjCoE919MjQjDT8oDktKrRMxjliYb36o=
X-Google-DKIM-Signature: v=1; a=rsa-sha256; c=relaxed/relaxed;
 d=1e100.net; s=20230601; t=1712655514; x=1713260314;
 h=references:in-reply-to:cc:to:from:subject:message-id:date
 :x-gm-message-state:from:to:cc:subject:date:message-id:reply-to;
 bh=5VfMv4Sot+OAZostvy5/pDkte3vX3X2QQ04f0AA/RVE=;
 b=ZT0VEgGP9e4MwcUQxlZh0V4C2SBvjUfwGPB5d4mWelTKhcw2Se2mI5E09NmpNRePa9
 h830S/IANgAZi7mNvorU4Wcm/9hElKlz+QNXC1xTbxCyX2P52fh6VEvMJupw74wqY/xC
 kedToH5sHMuzqk//6gxNCfsVW2zKaBUwujCt4R/9mEXnkJ/KIT84WVAVmmIcLZIaV60l
 VMg4mzvVcMrZEPy4fozDt2Kv+fHqMxSi7l1VfT0JTvtSfPE4GV4AXODbSu7sXwqY+6cw
 HJQP+7jB44ECipptFg4qHpcM0gCCinbXpyjs5MNPuYM83I62QTJUB/CH4+6iwKjHIeYc
 Hcsg==
X-Gm-Message-State: AOJu0Ywaf842eAfAMns2HuKCP1Ga7gUAlRE96tifrJa9wVjKlWtPW/VK
 5Dwpdf7YZN/Z6PPhXLPVjzKdkhx8pEHw3Sc7UYC2mQcDHP49LmBk3JC0L20vRud6zvuIuF9ifqh
 TCoxp5ydoDhy520apSWt58VJZxClvFjuSc87muZ3/
X-Google-Smtp-Source: AGHT+IENTK/O5gcdhg5ZgEBS3jeWQIVJqIVN1wvKyKdSAW+SD77/PvGC1hcOPZYRSRDiU5SSv334LpIxdx2i
X-Received: by 2002:a0d:d40b:0:b0:611:2eb4:2402 with SMTP id
 w11-20020a0dd40b000000b006112eb42402mr11488056ywd.21.1712655513051; 
 Tue, 09 Apr 2024 02:38:33 -0700 (PDT)
Received: from postal.iol.unh.edu (postal.iol.unh.edu. [132.177.123.84])
 by smtp-relay.gmail.com with ESMTPS id
 jb6-20020a05690c6e0600b006156392a12dsm411963ywb.63.2024.04.09.02.38.32
 (version=TLS1_2 cipher=ECDHE-ECDSA-AES128-GCM-SHA256 bits=128/128);
 Tue, 09 Apr 2024 02:38:33 -0700 (PDT)
X-Relaying-Domain: iol.unh.edu
Date: Tue, 09 Apr 2024 02:38:33 -0700 (PDT)
Message-ID: <66150c99.050a0220.42b6d.c92eSMTPIN_ADDED_MISSING@mx.google.com>
Received: from [172.17.0.2] (unknown [172.18.0.217])
 by postal.iol.unh.edu (Postfix) with ESMTP id A7F276052514;
 Tue,  9 Apr 2024 05:38:31 -0400 (EDT)
Subject: |SUCCESS| pw139209-139208 [PATCH] [v2,2/2] net/ngbe: add vectorized 
From: dpdklab@iol.unh.edu
To: Test Report <test-report@dpdk.org>
Cc: dpdk-test-reports@iol.unh.edu
In-Reply-To: <20240409063135.21780-3-jiawenwu@trustnetic.com>
References: <20240409063135.21780-3-jiawenwu@trustnetic.com>
Content-Type: text/plain
X-BeenThere: test-report@dpdk.org
X-Mailman-Version: 2.1.29
Precedence: list
List-Id: automatic DPDK test reports <test-report.dpdk.org>
List-Unsubscribe: <https://mails.dpdk.org/options/test-report>,
 <mailto:test-report-request@dpdk.org?subject=unsubscribe>
List-Archive: <http://mails.dpdk.org/archives/test-report/>
List-Post: <mailto:test-report@dpdk.org>
List-Help: <mailto:test-report-request@dpdk.org?subject=help>
List-Subscribe: <https://mails.dpdk.org/listinfo/test-report>,
 <mailto:test-report-request@dpdk.org?subject=subscribe>
Errors-To: test-report-bounces@dpdk.org

Test-Label: iol-unit-amd64-testing
Test-Status: SUCCESS
http://dpdk.org/patch/139208

_Testing PASS_

Submitter: Jiawen Wu <jiawenwu@trustnetic.com>
Date: Tuesday, April 09 2024 06:31:35 
DPDK git baseline: Repo:dpdk
  Branch: master
  CommitID:e2e546ab5bf5e024986ccb5310ab43982f3bb40c

139209-139208 --> testing pass

Test environment and result as below:

+-----------------+----------------+
|   Environment   | dpdk_unit_test |
+=================+================+
| CentOS Stream 8 | PASS           |
+-----------------+----------------+
| CentOS Stream 9 | PASS           |
+-----------------+----------------+
| Fedora 37       | PASS           |
+-----------------+----------------+
| Fedora 38       | PASS           |
+-----------------+----------------+
| Fedora 39       | PASS           |
+-----------------+----------------+
| Debian Bullseye | PASS           |
+-----------------+----------------+
| Debian 12       | PASS           |
+-----------------+----------------+


CentOS Stream 8
	Kernel: 5.4.0-167-generic
	Compiler: gcc 8.5.0 20210514

CentOS Stream 9
	Kernel: 5.4.0-167-generic
	Compiler: gcc 11.4.1 20230605

Fedora 37
	Kernel: Depends on container host system
	Compiler: gcc 12.3.1

Fedora 38
	Kernel: Depends on container host
	Compiler: gcc 13.2.1

Fedora 39
	Kernel: Depends on container host
	Compiler: gcc 13.2.1

Debian Bullseye
	Kernel: 5.4.0-167-generic
	Compiler: gcc 10.2.1-6

Debian 12
	Kernel: Container Host Kernel
	Compiler: gcc 10.2.1

To view detailed results, visit:
https://lab.dpdk.org/results/dashboard/patchsets/29746/

UNH-IOL DPDK Community Lab

To manage your email subscriptions, visit: 
https://lab.dpdk.org/results/dashboard/preferences/subscriptions/