From mboxrd@z Thu Jan  1 00:00:00 1970
Return-Path: <test-report-bounces@dpdk.org>
Received: from mails.dpdk.org (mails.dpdk.org [217.70.189.124])
	by inbox.dpdk.org (Postfix) with ESMTP id 028FC43E26
	for <public@inbox.dpdk.org>; Tue,  9 Apr 2024 11:49:56 +0200 (CEST)
Received: from mails.dpdk.org (localhost [127.0.0.1])
	by mails.dpdk.org (Postfix) with ESMTP id ED56D402C0;
	Tue,  9 Apr 2024 11:49:55 +0200 (CEST)
Received: from mail-pl1-f226.google.com (mail-pl1-f226.google.com
 [209.85.214.226])
 by mails.dpdk.org (Postfix) with ESMTP id EB479402B9
 for <test-report@dpdk.org>; Tue,  9 Apr 2024 11:49:54 +0200 (CEST)
Received: by mail-pl1-f226.google.com with SMTP id
 d9443c01a7336-1e424bd30fbso13634205ad.0
 for <test-report@dpdk.org>; Tue, 09 Apr 2024 02:49:54 -0700 (PDT)
DKIM-Signature: v=1; a=rsa-sha256; c=relaxed/relaxed;
 d=iol.unh.edu; s=unh-iol; t=1712656194; x=1713260994; darn=dpdk.org;
 h=references:in-reply-to:cc:to:from:subject:message-id:date:from:to
 :cc:subject:date:message-id:reply-to;
 bh=tJwt5mCbiHBDFNQ9InaHCAch4aUh9Oc6Bn3PhcB23vE=;
 b=L4a6vU1F8WBrZ/q/l7S5tJhQXUwNF9p2/Wj4buZPangr3nLABFnoN6klkhdbdJ0ANf
 Q+7fbn/kVRrVAJ33bbwz8ASQ3Fc9UtVxWtLquDfmBx53rp2/O6klkrQY0k00A6CdCfiQ
 LswnutpXQlac8TqdcNDP2ZBYz3yDswbq4ZVQQ=
X-Google-DKIM-Signature: v=1; a=rsa-sha256; c=relaxed/relaxed;
 d=1e100.net; s=20230601; t=1712656194; x=1713260994;
 h=references:in-reply-to:cc:to:from:subject:message-id:date
 :x-gm-message-state:from:to:cc:subject:date:message-id:reply-to;
 bh=tJwt5mCbiHBDFNQ9InaHCAch4aUh9Oc6Bn3PhcB23vE=;
 b=JqvbfBxVFbYPr/FYPORLMnRXjrBUFcoGWxjgafuOs/9I74D7c25xguTMXgAUTovNJW
 eaV6Etxcj3rAf9dC0lb7hQQ5yqFZieAjdnEuIZETPMeNPp4LINvr3fvgQLPOnorkaVil
 E1YjDJsZ/SgzSGfugr8+3PpcCxxWc50aO43JqMOpY0IrfkH/bxpMaW07+dr5TmzWUVUi
 0nQhgDSU2W7AX45BZoFF/SdD7yEg8Ev2zV8BCo08FXtVZ1lP8hr7WQplcaOtAvOTqJUr
 kCx1fPM4BLoFb7XU7ztvZ9JpSupsAwPp+wPJTYQql3k0iUYkmulfvOKw4u+EONJ4kSVJ
 htOA==
X-Gm-Message-State: AOJu0YyiwMX6hxXNLM4HXGPyNQZCDMFPmVx2dvVNzNVUxSJuNpTYpceK
 mA5htHxOi8hv2FR6XrttT2KURdOhsGRlMA/EBjRPo3irSPzzh6XunQrBiLNqmqIKk0ziII1fvQM
 kA6S4PqfU6ltFuSsbJ3Wj6PgxjJ7+zuIyNVhJVNaq
X-Google-Smtp-Source: AGHT+IGkZS+7qIp1/pao7jE1fRdH0nQdovw3a1QOzIgiBCiyIXm7Hww3s1lD/rC6c8TMQvt1q3u8jmTTQyT9
X-Received: by 2002:a17:903:2001:b0:1e0:62bc:68d4 with SMTP id
 s1-20020a170903200100b001e062bc68d4mr10589182pla.14.1712656194258; 
 Tue, 09 Apr 2024 02:49:54 -0700 (PDT)
Received: from postal.iol.unh.edu (postal.iol.unh.edu. [132.177.123.84])
 by smtp-relay.gmail.com with ESMTPS id
 q9-20020a170902b10900b001e42c322fc0sm76435plr.117.2024.04.09.02.49.54
 (version=TLS1_2 cipher=ECDHE-ECDSA-AES128-GCM-SHA256 bits=128/128);
 Tue, 09 Apr 2024 02:49:54 -0700 (PDT)
X-Relaying-Domain: iol.unh.edu
Date: Tue, 09 Apr 2024 02:49:54 -0700 (PDT)
Message-ID: <66150f42.170a0220.ee396.4f63SMTPIN_ADDED_MISSING@mx.google.com>
Received: from [172.17.0.2] (unknown [172.18.0.217])
 by postal.iol.unh.edu (Postfix) with ESMTP id 5B79A6052514;
 Tue,  9 Apr 2024 05:49:53 -0400 (EDT)
Subject: |SUCCESS| pw139209-139208 [PATCH] [v2,2/2] net/ngbe: add vectorized 
From: dpdklab@iol.unh.edu
To: Test Report <test-report@dpdk.org>
Cc: dpdk-test-reports@iol.unh.edu
In-Reply-To: <20240409063135.21780-3-jiawenwu@trustnetic.com>
References: <20240409063135.21780-3-jiawenwu@trustnetic.com>
Content-Type: text/plain
X-BeenThere: test-report@dpdk.org
X-Mailman-Version: 2.1.29
Precedence: list
List-Id: automatic DPDK test reports <test-report.dpdk.org>
List-Unsubscribe: <https://mails.dpdk.org/options/test-report>,
 <mailto:test-report-request@dpdk.org?subject=unsubscribe>
List-Archive: <http://mails.dpdk.org/archives/test-report/>
List-Post: <mailto:test-report@dpdk.org>
List-Help: <mailto:test-report-request@dpdk.org?subject=help>
List-Subscribe: <https://mails.dpdk.org/listinfo/test-report>,
 <mailto:test-report-request@dpdk.org?subject=subscribe>
Errors-To: test-report-bounces@dpdk.org

Test-Label: iol-unit-amd64-testing
Test-Status: SUCCESS
http://dpdk.org/patch/139208

_Testing PASS_

Submitter: Jiawen Wu <jiawenwu@trustnetic.com>
Date: Tuesday, April 09 2024 06:31:35 
DPDK git baseline: Repo:dpdk
  Branch: master
  CommitID:e2e546ab5bf5e024986ccb5310ab43982f3bb40c

139209-139208 --> testing pass

Test environment and result as below:

+-----------------+----------------+
|   Environment   | dpdk_unit_test |
+=================+================+
| CentOS Stream 8 | PASS           |
+-----------------+----------------+
| CentOS Stream 9 | PASS           |
+-----------------+----------------+
| Fedora 37       | PASS           |
+-----------------+----------------+
| Fedora 38       | PASS           |
+-----------------+----------------+
| Fedora 39       | PASS           |
+-----------------+----------------+
| Debian Bullseye | PASS           |
+-----------------+----------------+
| Debian 12       | PASS           |
+-----------------+----------------+
| RHEL8           | PASS           |
+-----------------+----------------+
| Ubuntu 20.04    | PASS           |
+-----------------+----------------+


CentOS Stream 8
	Kernel: 5.4.0-167-generic
	Compiler: gcc 8.5.0 20210514

CentOS Stream 9
	Kernel: 5.4.0-167-generic
	Compiler: gcc 11.4.1 20230605

Fedora 37
	Kernel: Depends on container host system
	Compiler: gcc 12.3.1

Fedora 38
	Kernel: Depends on container host
	Compiler: gcc 13.2.1

Fedora 39
	Kernel: Depends on container host
	Compiler: gcc 13.2.1

Debian Bullseye
	Kernel: 5.4.0-167-generic
	Compiler: gcc 10.2.1-6

Debian 12
	Kernel: Container Host Kernel
	Compiler: gcc 10.2.1

RHEL8
	Kernel: 5.4.0-167-generic
	Compiler: gcc 8.5.0 20210514 (Red Hat 8.5.0-20)

Ubuntu 20.04
	Kernel: 5.4.0-167-generic
	Compiler: gcc 9.4.0-1ubuntu1~20.04.1

To view detailed results, visit:
https://lab.dpdk.org/results/dashboard/patchsets/29746/

UNH-IOL DPDK Community Lab

To manage your email subscriptions, visit: 
https://lab.dpdk.org/results/dashboard/preferences/subscriptions/