From mboxrd@z Thu Jan  1 00:00:00 1970
Return-Path: <test-report-bounces@dpdk.org>
Received: from mails.dpdk.org (mails.dpdk.org [217.70.189.124])
	by inbox.dpdk.org (Postfix) with ESMTP id E8E7243DE1
	for <public@inbox.dpdk.org>; Tue,  9 Apr 2024 12:05:03 +0200 (CEST)
Received: from mails.dpdk.org (localhost [127.0.0.1])
	by mails.dpdk.org (Postfix) with ESMTP id CA619402C0;
	Tue,  9 Apr 2024 12:05:03 +0200 (CEST)
Received: from mail-oo1-f100.google.com (mail-oo1-f100.google.com
 [209.85.161.100])
 by mails.dpdk.org (Postfix) with ESMTP id CCE4E402B9
 for <test-report@dpdk.org>; Tue,  9 Apr 2024 12:05:02 +0200 (CEST)
Received: by mail-oo1-f100.google.com with SMTP id
 006d021491bc7-5a9c875ceecso3007467eaf.2
 for <test-report@dpdk.org>; Tue, 09 Apr 2024 03:05:02 -0700 (PDT)
DKIM-Signature: v=1; a=rsa-sha256; c=relaxed/relaxed;
 d=iol.unh.edu; s=unh-iol; t=1712657102; x=1713261902; darn=dpdk.org;
 h=references:in-reply-to:cc:to:from:subject:message-id:date:from:to
 :cc:subject:date:message-id:reply-to;
 bh=7c8WIYGqhrIKnsVSHekTYEPWLoe9oGeRBI2RcLk3Q/4=;
 b=XjpMhmRoFl8qA98Ucwefb6WPOGppPJyGSMA4n7ucboVlXoeY8EwzXzeKglhxDWmX1F
 JvVIJR6hMZrUVNcm0TfUO5GpHKkgNps1DklZayZ7SmtqMa7t41y5bTOeL/OEtt7zxdjd
 fpudde3eZlqidLNNnV78j9O1AQRHVbo6mrnNs=
X-Google-DKIM-Signature: v=1; a=rsa-sha256; c=relaxed/relaxed;
 d=1e100.net; s=20230601; t=1712657102; x=1713261902;
 h=references:in-reply-to:cc:to:from:subject:message-id:date
 :x-gm-message-state:from:to:cc:subject:date:message-id:reply-to;
 bh=7c8WIYGqhrIKnsVSHekTYEPWLoe9oGeRBI2RcLk3Q/4=;
 b=IJzMIJHP7C7+mClglm0gf1O5jfQJOUlFJGINEKCqkmMIp6Rvx/1H/jNu/flRZ1bDXF
 jYDCllDDH/nK7arJmsJfEaB7lLRxlrbr2uGUslCSKITKEKXZPHIU2qW9lxcvfLosnC5t
 Fhm1BE7q33gN6NGRuVoah4qPC2Ok6TG7NsbZpCoCgwMmWO+4T1ckK8are2adBrzr1y3X
 7pGIuLwDMaFimLCEWqaV1rWMP1LiCbuuXzf0U71C9t9H/CgLoAsAsD1RmQvWMImKq1iW
 kn/SAXyvLDj5y3EqpK/GoJA0kivuWmHLYBKWK2g/BbEJMIsAnxJ9TXYB11h9UuU90fBe
 5xNA==
X-Gm-Message-State: AOJu0YyzG+9fDz3QHJp/GnJqB+vEoU/Dq4C2ZypDCqtBQSV+n6koHHjd
 O0tthRHNt/qAH4mrDMED7+n37YN7qw4T/qiWeY3Q5rMSmDvoHXAqZ8fwZvi9TzbiMgOqWrCly8x
 UKHv/BfRsTMrUYBgH+q7HKLOd2+spCI2S0NdJ7fX3
X-Google-Smtp-Source: AGHT+IHimZJgOjBmIFzJY36H4Lg2+TqyXFihExwMHl6+d3+60fZE04hwcq77/FBiXwahNifn7RPyKRTlLoGE
X-Received: by 2002:a05:6820:994:b0:5a5:21df:7eef with SMTP id
 cg20-20020a056820099400b005a521df7eefmr1573722oob.2.1712657102060; 
 Tue, 09 Apr 2024 03:05:02 -0700 (PDT)
Received: from postal.iol.unh.edu (postal.iol.unh.edu. [132.177.123.84])
 by smtp-relay.gmail.com with ESMTPS id
 o185-20020a4a44c2000000b005a14df6b365sm405702ooa.27.2024.04.09.03.05.01
 (version=TLS1_2 cipher=ECDHE-ECDSA-AES128-GCM-SHA256 bits=128/128);
 Tue, 09 Apr 2024 03:05:02 -0700 (PDT)
X-Relaying-Domain: iol.unh.edu
Date: Tue, 09 Apr 2024 03:05:02 -0700 (PDT)
Message-ID: <661512ce.4a0a0220.932e0.b1b8SMTPIN_ADDED_MISSING@mx.google.com>
Received: from [172.17.0.2] (unknown [172.18.0.217])
 by postal.iol.unh.edu (Postfix) with ESMTP id 4E64E6052514;
 Tue,  9 Apr 2024 06:05:01 -0400 (EDT)
Subject: |SUCCESS| pw139191-139198 [PATCH] [v7,8/8] doc: update documentation
From: dpdklab@iol.unh.edu
To: Test Report <test-report@dpdk.org>
Cc: dpdk-test-reports@iol.unh.edu
In-Reply-To: <20240408212438.414099-9-stephen@networkplumber.org>
References: <20240408212438.414099-9-stephen@networkplumber.org>
Content-Type: text/plain
X-BeenThere: test-report@dpdk.org
X-Mailman-Version: 2.1.29
Precedence: list
List-Id: automatic DPDK test reports <test-report.dpdk.org>
List-Unsubscribe: <https://mails.dpdk.org/options/test-report>,
 <mailto:test-report-request@dpdk.org?subject=unsubscribe>
List-Archive: <http://mails.dpdk.org/archives/test-report/>
List-Post: <mailto:test-report@dpdk.org>
List-Help: <mailto:test-report-request@dpdk.org?subject=help>
List-Subscribe: <https://mails.dpdk.org/listinfo/test-report>,
 <mailto:test-report-request@dpdk.org?subject=subscribe>
Errors-To: test-report-bounces@dpdk.org

Test-Label: iol-compile-arm64-testing
Test-Status: SUCCESS
http://dpdk.org/patch/139198

_Testing PASS_

Submitter: Stephen Hemminger <stephen@networkplumber.org>
Date: Monday, April 08 2024 21:18:39 
DPDK git baseline: Repo:dpdk
  Branch: master
  CommitID:e2e546ab5bf5e024986ccb5310ab43982f3bb40c

139191-139198 --> testing pass

Test environment and result as below:

+----------------------------------------+--------------------+
|              Environment               | dpdk_meson_compile |
+========================================+====================+
| Ubuntu 20.04 ARM SVE                   | PASS               |
+----------------------------------------+--------------------+
| Debian 12 with MUSDK                   | PASS               |
+----------------------------------------+--------------------+
| Ubuntu 20.04 ARM GCC Cross Compile     | PASS               |
+----------------------------------------+--------------------+
| Fedora 38 (ARM)                        | PASS               |
+----------------------------------------+--------------------+
| Fedora 37 (ARM)                        | PASS               |
+----------------------------------------+--------------------+
| Fedora 39 (ARM)                        | PASS               |
+----------------------------------------+--------------------+
| Ubuntu 20.04 aarch32 GCC Cross Compile | PASS               |
+----------------------------------------+--------------------+
| Ubuntu 20.04 (ARM)                     | PASS               |
+----------------------------------------+--------------------+
| Debian 11 (Buster) (ARM)               | PASS               |
+----------------------------------------+--------------------+
| Debian 12 (arm)                        | PASS               |
+----------------------------------------+--------------------+
| CentOS Stream 9 (ARM)                  | PASS               |
+----------------------------------------+--------------------+
| Ubuntu 20.04 ARM Clang Cross Compile   | PASS               |
+----------------------------------------+--------------------+
| Fedora 39 (ARM Clang)                  | PASS               |
+----------------------------------------+--------------------+


Ubuntu 20.04 ARM SVE
	Kernel: 5.4.0-167-generic
	Compiler: gcc (Ubuntu 10.5.0-1ubuntu1~20.04) 10.5.0

Debian 12 with MUSDK
	Kernel: Container Host Kernel
	Compiler: gcc 12.2.0

Ubuntu 20.04 ARM GCC Cross Compile
	Kernel: 5.4.0-167-generic
	Compiler: aarch64-linux-gnu-gcc (Ubuntu 9.4.0-1ubuntu1~20.04.2) 9.4.0

Fedora 38 (ARM)
	Kernel: Depends on container host
	Compiler: gcc 13.2.1

Fedora 37 (ARM)
	Kernel: Depends on container host
	Compiler: gcc 12.3.1

Fedora 39 (ARM)
	Kernel: Depends on container host
	Compiler: gcc 13.2.1

Ubuntu 20.04 aarch32 GCC Cross Compile
	Kernel: 5.4.0-167-generic
	Compiler: gcc 9.4.0

Ubuntu 20.04 (ARM)
	Kernel: Container Host Kernel
	Compiler: gcc 9.4.0

Debian 11 (Buster) (ARM)
	Kernel: Container Host Kernel
	Compiler: gcc 10.2.1

Debian 12 (arm)
	Kernel: Container Host Kernel
	Compiler: gcc 12.2.0

CentOS Stream 9 (ARM)
	Kernel: Container Host Kernel
	Compiler: gcc 11.4.1

Ubuntu 20.04 ARM Clang Cross Compile
	Kernel: 5.4.0-72-generic
	Compiler: clang 10.0.0-4ubuntu1

Fedora 39 (ARM Clang)
	Kernel: Depends on container host
	Compiler: clang 17.0.6

To view detailed results, visit:
https://lab.dpdk.org/results/dashboard/patchsets/29743/

UNH-IOL DPDK Community Lab

To manage your email subscriptions, visit: 
https://lab.dpdk.org/results/dashboard/preferences/subscriptions/