From mboxrd@z Thu Jan  1 00:00:00 1970
Return-Path: <test-report-bounces@dpdk.org>
Received: from mails.dpdk.org (mails.dpdk.org [217.70.189.124])
	by inbox.dpdk.org (Postfix) with ESMTP id 537C843E2A
	for <public@inbox.dpdk.org>; Tue,  9 Apr 2024 14:38:36 +0200 (CEST)
Received: from mails.dpdk.org (localhost [127.0.0.1])
	by mails.dpdk.org (Postfix) with ESMTP id 4B594402C6;
	Tue,  9 Apr 2024 14:38:36 +0200 (CEST)
Received: from mail-pf1-f228.google.com (mail-pf1-f228.google.com
 [209.85.210.228])
 by mails.dpdk.org (Postfix) with ESMTP id 4A81D402C0
 for <test-report@dpdk.org>; Tue,  9 Apr 2024 14:38:35 +0200 (CEST)
Received: by mail-pf1-f228.google.com with SMTP id
 d2e1a72fcca58-6ed11782727so2414671b3a.1
 for <test-report@dpdk.org>; Tue, 09 Apr 2024 05:38:35 -0700 (PDT)
DKIM-Signature: v=1; a=rsa-sha256; c=relaxed/relaxed;
 d=iol.unh.edu; s=unh-iol; t=1712666314; x=1713271114; darn=dpdk.org;
 h=references:in-reply-to:cc:to:from:subject:message-id:date:from:to
 :cc:subject:date:message-id:reply-to;
 bh=l9NgtVQ/Pfo2qfUNnpX61VlkfUp6dx303tGgt3p4LbY=;
 b=O7CY4Vi1g6saQyMUfI2kc+j5MwznFHMRPgvumKYN0uYXb/aeJDRggGVGOSTTW//Vd0
 W7eVbdXfrD93Oh6HL7sllqKTJSM/cyUeLNH4p4C9TeuDJXm4DgFjx67KWFmIdE1sTVF1
 tCFMRy+wU9117ZIAFmnwHF/Y38kk5Wmh95eF0=
X-Google-DKIM-Signature: v=1; a=rsa-sha256; c=relaxed/relaxed;
 d=1e100.net; s=20230601; t=1712666314; x=1713271114;
 h=references:in-reply-to:cc:to:from:subject:message-id:date
 :x-gm-message-state:from:to:cc:subject:date:message-id:reply-to;
 bh=l9NgtVQ/Pfo2qfUNnpX61VlkfUp6dx303tGgt3p4LbY=;
 b=CaMvF40XgfvHzMlTQPNBBjG5ZbYDq15hktrOZKhmdTHsd/TrRMzwp9agEiEtcgOKz7
 d5kaiTSdkFAuL/eAIsNxc6V4hEc6cUgcu8EUrptBdxfNL5k96NyKau1rBfZBGFe/7uaJ
 51fGWfvmhngGS3jCvXHcYcXY6UImlxhDGeDf+iOdE8fm5rr71HxHdCAPGLj928t76Ku1
 +gjbp84XE6aOU0Q0ZPKz0a/WroctyDrgDnMqcJhfgIVx6HC9vrF4UQ6jO2JI50dnYoaV
 sOqLw1rmgbwQAGjo3chOzAyN3zJEJzKVX+/slLO7VioxUtVbt3B4Rq3BccOHqqQLJies
 iw8Q==
X-Gm-Message-State: AOJu0Yxhs0r17DYTypb2mV8DBXf4z36NXxday5zB2h8olhmrCGAHjg4x
 x8JsXPIReg5y9pESCPXPa6kzNv8qg5GloKswddsW0T4djyR0M3k5YhRU4FEaqIjVvk30whIBQn3
 nDJWSkWSzd1Pdbc7vwbjOtRvxs9sUjrjYO+/oky8CzNg5L3uSvUelZipd
X-Google-Smtp-Source: AGHT+IFhXBJE32w67h1k/VrpVmPasYq8qAJYg1G7B0tmDlCFFCBySZEr7OvFHYc3d1jvXvi9ub5c+QTLpKQh
X-Received: by 2002:a05:6a20:c916:b0:1a7:4887:771e with SMTP id
 gx22-20020a056a20c91600b001a74887771emr10711777pzb.44.1712666314462; 
 Tue, 09 Apr 2024 05:38:34 -0700 (PDT)
Received: from postal.iol.unh.edu (postal.iol.unh.edu.
 [2606:4100:3880:1234::84]) by smtp-relay.gmail.com with ESMTPS id
 kr12-20020a170903080c00b001dd88d5bf02sm186127plb.141.2024.04.09.05.38.34
 (version=TLS1_2 cipher=ECDHE-ECDSA-AES128-GCM-SHA256 bits=128/128);
 Tue, 09 Apr 2024 05:38:34 -0700 (PDT)
X-Relaying-Domain: iol.unh.edu
Date: Tue, 09 Apr 2024 05:38:34 -0700 (PDT)
Message-ID: <661536ca.170a0220.cd52.d416SMTPIN_ADDED_MISSING@mx.google.com>
Received: from [172.21.0.6] (unknown [172.18.0.240])
 by postal.iol.unh.edu (Postfix) with ESMTP id 7C4676052514;
 Tue,  9 Apr 2024 08:38:33 -0400 (EDT)
Subject: |SUCCESS| pw139210-139214 [PATCH] [v3,5/5] vhost: manage FD with epo
From: dpdklab@iol.unh.edu
To: Test Report <test-report@dpdk.org>
Cc: Maxime Coquelin <maxime.coquelin@redhat.com>
In-Reply-To: <20240409114845.1336403-6-maxime.coquelin@redhat.com>
References: <20240409114845.1336403-6-maxime.coquelin@redhat.com>
Content-Type: text/plain
X-BeenThere: test-report@dpdk.org
X-Mailman-Version: 2.1.29
Precedence: list
List-Id: automatic DPDK test reports <test-report.dpdk.org>
List-Unsubscribe: <https://mails.dpdk.org/options/test-report>,
 <mailto:test-report-request@dpdk.org?subject=unsubscribe>
List-Archive: <http://mails.dpdk.org/archives/test-report/>
List-Post: <mailto:test-report@dpdk.org>
List-Help: <mailto:test-report-request@dpdk.org?subject=help>
List-Subscribe: <https://mails.dpdk.org/listinfo/test-report>,
 <mailto:test-report-request@dpdk.org?subject=subscribe>
Errors-To: test-report-bounces@dpdk.org

Test-Label: iol-abi-testing
Test-Status: SUCCESS
http://dpdk.org/patch/139214

_Testing PASS_

Submitter: Maxime Coquelin <maxime.coquelin@redhat.com>
Date: Tuesday, April 09 2024 11:48:45 
DPDK git baseline: Repo:dpdk
  Branch: master
  CommitID:deedfb86a7a6e10064d3cccd593f62072de96e36

139210-139214 --> testing pass

Test environment and result as below:

+------------------+----------+
|   Environment    | abi_test |
+==================+==========+
| Fedora 38        | PASS     |
+------------------+----------+
| openSUSE Leap 15 | PASS     |
+------------------+----------+
| CentOS Stream 9  | PASS     |
+------------------+----------+
| Debian Bullseye  | PASS     |
+------------------+----------+


Fedora 38
	Kernel: Depends on container host
	Compiler: clang 16.0.6

openSUSE Leap 15
	Kernel: 5.4.0-167-generic
	Compiler: gcc 7.5.0

CentOS Stream 9
	Kernel: 5.4.0-167-generic
	Compiler: gcc 11.4.1 20230605

Debian Bullseye
	Kernel: 5.4.0-167-generic
	Compiler: gcc 10.2.1-6

To view detailed results, visit:
https://lab.dpdk.org/results/dashboard/patchsets/29747/

UNH-IOL DPDK Community Lab

To manage your email subscriptions, visit: 
https://lab.dpdk.org/results/dashboard/preferences/subscriptions/