From mboxrd@z Thu Jan  1 00:00:00 1970
Return-Path: <test-report-bounces@dpdk.org>
Received: from mails.dpdk.org (mails.dpdk.org [217.70.189.124])
	by inbox.dpdk.org (Postfix) with ESMTP id 386CE43E2A
	for <public@inbox.dpdk.org>; Tue,  9 Apr 2024 15:03:58 +0200 (CEST)
Received: from mails.dpdk.org (localhost [127.0.0.1])
	by mails.dpdk.org (Postfix) with ESMTP id 346E7402C6;
	Tue,  9 Apr 2024 15:03:58 +0200 (CEST)
Received: from mail-oo1-f98.google.com (mail-oo1-f98.google.com
 [209.85.161.98]) by mails.dpdk.org (Postfix) with ESMTP id 51754402C0
 for <test-report@dpdk.org>; Tue,  9 Apr 2024 15:03:56 +0200 (CEST)
Received: by mail-oo1-f98.google.com with SMTP id
 006d021491bc7-5aa362cc2ccso1910068eaf.3
 for <test-report@dpdk.org>; Tue, 09 Apr 2024 06:03:56 -0700 (PDT)
DKIM-Signature: v=1; a=rsa-sha256; c=relaxed/relaxed;
 d=iol.unh.edu; s=unh-iol; t=1712667835; x=1713272635; darn=dpdk.org;
 h=references:in-reply-to:cc:to:from:subject:message-id:date:from:to
 :cc:subject:date:message-id:reply-to;
 bh=eGaA8DBF+9lmdl/Oe+gJeYPMys++0YleSQhZm+1bKo8=;
 b=ICukz1O8d9piJhboavwuAObGQ26/DiCtx336zS5miyOOtZyDbUfAGlh4x7GBH1P1kJ
 Q36VT76VS0bUssVf8Uq2oD9aqyUUcZq4HnzEpxCSRmbxj0qnfaA/mgzO9fBCQGaNAxqT
 sohMSFYC5tQq52VNZPnrZhX20qz5mMnKjgWTA=
X-Google-DKIM-Signature: v=1; a=rsa-sha256; c=relaxed/relaxed;
 d=1e100.net; s=20230601; t=1712667835; x=1713272635;
 h=references:in-reply-to:cc:to:from:subject:message-id:date
 :x-gm-message-state:from:to:cc:subject:date:message-id:reply-to;
 bh=eGaA8DBF+9lmdl/Oe+gJeYPMys++0YleSQhZm+1bKo8=;
 b=ZCC5ww1ubzNucL+Ce0duACxci/SFfSsjdPW1lFgp29SYgClfOtoncw1WJ7z6RFcN6g
 1PC0fkwNmQnwuvFSzhl5WNGAZGRcOV04LcAceXLvSpb0ugpOz9Zq9nj3b06ZYsqz5tsW
 k42ciHhhbAkSqRjG/R2tfGp5mOsOy1FtP97km/cmcS9SsejeDMEraHUS3A8Cr6TzSbjx
 hfmtOxOP7+Nn/yG3lH1NGhSu8MKQnVk+c3AawaBSz9AG17om3ernBl8SZQIH8pT2zWqN
 4ZZJLXwClngHwVHrQ9GM7epEmUU+qAwmoUTO5HkhkxzflWMWeYX+DegfD1P7U3sVP7O5
 AOSw==
X-Gm-Message-State: AOJu0YwYRLYhe2BMO5Wxe2GArKZfSZ+IqCW/va91+hgwZuQzxH2pQ/Zj
 Ej9dYyKmfRlndQ/dGYatUktrAFy4Sgtq2kWVMsruLSXWpzmpf2s3CghiJ8j2sLgS/ltj24EKd7j
 f/xqIl+XMj4VprRYub2X/HfhWi2Yq8wqFHC+6SQsy
X-Google-Smtp-Source: AGHT+IGPDLL9bvwY8hiMs79CRLAusYFh7wULmQ8jXDZohuKOhjDMemnHcMzHD8IF8XgorvfP52Ocqd2LTxRo
X-Received: by 2002:a05:6820:2b03:b0:5aa:3860:11f8 with SMTP id
 dt3-20020a0568202b0300b005aa386011f8mr4968422oob.9.1712667811555; 
 Tue, 09 Apr 2024 06:03:31 -0700 (PDT)
Received: from postal.iol.unh.edu (postal.iol.unh.edu. [132.177.123.84])
 by smtp-relay.gmail.com with ESMTPS id
 q67-20020a4a4b46000000b005a9c98d32d4sm560024ooa.16.2024.04.09.06.03.31
 (version=TLS1_2 cipher=ECDHE-ECDSA-AES128-GCM-SHA256 bits=128/128);
 Tue, 09 Apr 2024 06:03:31 -0700 (PDT)
X-Relaying-Domain: iol.unh.edu
Date: Tue, 09 Apr 2024 06:03:31 -0700 (PDT)
Message-ID: <66153ca3.4a0a0220.edc3b.87c7SMTPIN_ADDED_MISSING@mx.google.com>
Received: from [172.17.0.2] (unknown [172.18.0.217])
 by postal.iol.unh.edu (Postfix) with ESMTP id 0FA676052514;
 Tue,  9 Apr 2024 09:03:30 -0400 (EDT)
Subject: |SUCCESS| pw139210-139214 [PATCH] [v3,5/5] vhost: manage FD with epo
From: dpdklab@iol.unh.edu
To: Test Report <test-report@dpdk.org>
Cc: dpdk-test-reports@iol.unh.edu
In-Reply-To: <20240409114845.1336403-6-maxime.coquelin@redhat.com>
References: <20240409114845.1336403-6-maxime.coquelin@redhat.com>
Content-Type: text/plain
X-BeenThere: test-report@dpdk.org
X-Mailman-Version: 2.1.29
Precedence: list
List-Id: automatic DPDK test reports <test-report.dpdk.org>
List-Unsubscribe: <https://mails.dpdk.org/options/test-report>,
 <mailto:test-report-request@dpdk.org?subject=unsubscribe>
List-Archive: <http://mails.dpdk.org/archives/test-report/>
List-Post: <mailto:test-report@dpdk.org>
List-Help: <mailto:test-report-request@dpdk.org?subject=help>
List-Subscribe: <https://mails.dpdk.org/listinfo/test-report>,
 <mailto:test-report-request@dpdk.org?subject=subscribe>
Errors-To: test-report-bounces@dpdk.org

Test-Label: iol-unit-arm64-testing
Test-Status: SUCCESS
http://dpdk.org/patch/139214

_Testing PASS_

Submitter: Maxime Coquelin <maxime.coquelin@redhat.com>
Date: Tuesday, April 09 2024 11:48:45 
DPDK git baseline: Repo:dpdk
  Branch: master
  CommitID:deedfb86a7a6e10064d3cccd593f62072de96e36

139210-139214 --> testing pass

Test environment and result as below:

+-----------------------------+---------------------------+------------------------------+----------------+
|         Environment         | cryptodev_sw_zuc_autotest | cryptodev_sw_snow3g_autotest | dpdk_unit_test |
+=============================+===========================+==============================+================+
| Debian 12 (arm)             | PASS                      | PASS                         | PASS           |
+-----------------------------+---------------------------+------------------------------+----------------+
| Debian 11 (Buster) (ARM)    | SKIPPED                   | SKIPPED                      | PASS           |
+-----------------------------+---------------------------+------------------------------+----------------+
| CentOS Stream 9 (ARM)       | SKIPPED                   | SKIPPED                      | PASS           |
+-----------------------------+---------------------------+------------------------------+----------------+
| Fedora 37 (ARM)             | SKIPPED                   | SKIPPED                      | PASS           |
+-----------------------------+---------------------------+------------------------------+----------------+
| Fedora 38 (ARM)             | SKIPPED                   | SKIPPED                      | PASS           |
+-----------------------------+---------------------------+------------------------------+----------------+
| Fedora 39 (ARM)             | SKIPPED                   | SKIPPED                      | PASS           |
+-----------------------------+---------------------------+------------------------------+----------------+
| 32-bit Ubuntu 20.04.4 (ARM) | SKIPPED                   | SKIPPED                      | PASS           |
+-----------------------------+---------------------------+------------------------------+----------------+
| Ubuntu 20.04 (ARM)          | SKIPPED                   | SKIPPED                      | PASS           |
+-----------------------------+---------------------------+------------------------------+----------------+
| Fedora 38 (ARM Clang)       | SKIPPED                   | SKIPPED                      | PASS           |
+-----------------------------+---------------------------+------------------------------+----------------+


Debian 12 (arm)
	Kernel: Container Host Kernel
	Compiler: gcc 12.2.0

Debian 11 (Buster) (ARM)
	Kernel: Container Host Kernel
	Compiler: gcc 10.2.1

CentOS Stream 9 (ARM)
	Kernel: Container Host Kernel
	Compiler: gcc 11.4.1

Fedora 37 (ARM)
	Kernel: Depends on container host
	Compiler: gcc 12.3.1

Fedora 38 (ARM)
	Kernel: Depends on container host
	Compiler: gcc 13.2.1

Fedora 39 (ARM)
	Kernel: Depends on container host
	Compiler: gcc 13.2.1

32-bit Ubuntu 20.04.4 (ARM)
	Kernel: 5.4.0-155-generic aarch64
	Compiler: gcc 9.4

Ubuntu 20.04 (ARM)
	Kernel: Container Host Kernel
	Compiler: gcc 9.4.0

Fedora 38 (ARM Clang)
	Kernel: Depends on container host
	Compiler: clang 16.0.6

To view detailed results, visit:
https://lab.dpdk.org/results/dashboard/patchsets/29747/

UNH-IOL DPDK Community Lab

To manage your email subscriptions, visit: 
https://lab.dpdk.org/results/dashboard/preferences/subscriptions/