From mboxrd@z Thu Jan  1 00:00:00 1970
Return-Path: <test-report-bounces@dpdk.org>
Received: from mails.dpdk.org (mails.dpdk.org [217.70.189.124])
	by inbox.dpdk.org (Postfix) with ESMTP id A2F0A43E2D
	for <public@inbox.dpdk.org>; Tue,  9 Apr 2024 20:01:59 +0200 (CEST)
Received: from mails.dpdk.org (localhost [127.0.0.1])
	by mails.dpdk.org (Postfix) with ESMTP id 9EA7C402CC;
	Tue,  9 Apr 2024 20:01:59 +0200 (CEST)
Received: from mail-io1-f100.google.com (mail-io1-f100.google.com
 [209.85.166.100])
 by mails.dpdk.org (Postfix) with ESMTP id 823F8402C7
 for <test-report@dpdk.org>; Tue,  9 Apr 2024 20:01:58 +0200 (CEST)
Received: by mail-io1-f100.google.com with SMTP id
 ca18e2360f4ac-7d0845e992aso305356839f.1
 for <test-report@dpdk.org>; Tue, 09 Apr 2024 11:01:58 -0700 (PDT)
DKIM-Signature: v=1; a=rsa-sha256; c=relaxed/relaxed;
 d=iol.unh.edu; s=unh-iol; t=1712685718; x=1713290518; darn=dpdk.org;
 h=references:in-reply-to:cc:to:from:subject:message-id:date:from:to
 :cc:subject:date:message-id:reply-to;
 bh=OVyNg/vGMZh7kOK1aJmGsswQF3TytDgTN5EXB/NeVtY=;
 b=XTDX4GIiEe/oAcaDFz3gdDGvoo7/blJ5o+yBxMfXSnhOE7ieSvUUASnfJzfr6wED4U
 C+ntNihjZgheU4FNkhrvkaFi1gE5bFIHxULTAQ3HmlmlAoeN3vuOfoKk3oMDJxxaL+Qd
 dvkcJubmumt2D+2hF1IpVHhwRXI/ZHYZ/rNpc=
X-Google-DKIM-Signature: v=1; a=rsa-sha256; c=relaxed/relaxed;
 d=1e100.net; s=20230601; t=1712685718; x=1713290518;
 h=references:in-reply-to:cc:to:from:subject:message-id:date
 :x-gm-message-state:from:to:cc:subject:date:message-id:reply-to;
 bh=OVyNg/vGMZh7kOK1aJmGsswQF3TytDgTN5EXB/NeVtY=;
 b=il6pyD8m311tOsQY6ISFkZClcnDtpjcMxGROZUCdGTAU9JWAw4E/i+u6d00Xl0TNYj
 CAJX5V20upUPtjBretpV8xBKuP4+VicrutODJb20WYF610BTZ5phYJEJlfw44RbtByWu
 0Sv74bE6RIPZRiyNL7uTYdZZRfr9majpsDUTamFhqtS+mYggLfmP5ZsqtGJ2KyoqWwi+
 d5WdZi51SubC5YNsvoVzMSjO1LTMktqmObtFiqV/1I9iolA/osnM4vbor4kOv/Qq6gho
 P2pt5Qx+vzLB/f91QMFdd1u7NO4IPQABTFKpu+3WqvlgfBHToevAK2H7DDknKx1l3/hx
 6Nbw==
X-Gm-Message-State: AOJu0YwVJCZzUXKZSJV0L211Samki0J2Y5iAuBvp6OeIOZA70Tg1sMHl
 LhpX7rBMQFj8Oxl0SJcCJsxZqOYzOT+CvS+XarJ2SmYMMtqAVBSbTpvvcGrxqcUe7hGoSyTZy0P
 s7bE4YvyugGa9btz+/F7qLe3FDu6Bf3nkWtDw/U1/
X-Google-Smtp-Source: AGHT+IG+LmLDyt1kci0MLxh/xhUA0y/5JrvJx544W0aCEzIxDp9DQo0L1bzZkO3SFY3E9BWKLTks1Tj00z4Z
X-Received: by 2002:a05:6602:4a04:b0:7d5:ffb8:8230 with SMTP id
 eh4-20020a0566024a0400b007d5ffb88230mr668556iob.7.1712685717780; 
 Tue, 09 Apr 2024 11:01:57 -0700 (PDT)
Received: from postal.iol.unh.edu (postal.iol.unh.edu. [132.177.123.84])
 by smtp-relay.gmail.com with ESMTPS id
 p7-20020a0566022b0700b007cc058ebae9sm403483iov.13.2024.04.09.11.01.57
 (version=TLS1_2 cipher=ECDHE-ECDSA-AES128-GCM-SHA256 bits=128/128);
 Tue, 09 Apr 2024 11:01:57 -0700 (PDT)
X-Relaying-Domain: iol.unh.edu
Date: Tue, 09 Apr 2024 11:01:57 -0700 (PDT)
Message-ID: <66158295.050a0220.c0f51.bef1SMTPIN_ADDED_MISSING@mx.google.com>
Received: from [172.21.0.7] (unknown [172.18.0.240])
 by postal.iol.unh.edu (Postfix) with ESMTP id 4678B6052514;
 Tue,  9 Apr 2024 14:01:57 -0400 (EDT)
Subject: |SUCCESS| pw139215-139216 [PATCH] [v4,2/2] test: add functional test
From: dpdklab@iol.unh.edu
To: Test Report <test-report@dpdk.org>
Cc: dpdk-test-reports@iol.unh.edu
In-Reply-To: <20240409170602.541658-3-stephen@networkplumber.org>
References: <20240409170602.541658-3-stephen@networkplumber.org>
Content-Type: text/plain
X-BeenThere: test-report@dpdk.org
X-Mailman-Version: 2.1.29
Precedence: list
List-Id: automatic DPDK test reports <test-report.dpdk.org>
List-Unsubscribe: <https://mails.dpdk.org/options/test-report>,
 <mailto:test-report-request@dpdk.org?subject=unsubscribe>
List-Archive: <http://mails.dpdk.org/archives/test-report/>
List-Post: <mailto:test-report@dpdk.org>
List-Help: <mailto:test-report-request@dpdk.org?subject=help>
List-Subscribe: <https://mails.dpdk.org/listinfo/test-report>,
 <mailto:test-report-request@dpdk.org?subject=subscribe>
Errors-To: test-report-bounces@dpdk.org

Test-Label: iol-abi-testing
Test-Status: SUCCESS
http://dpdk.org/patch/139216

_Testing PASS_

Submitter: Stephen Hemminger <stephen@networkplumber.org>
Date: Tuesday, April 09 2024 17:05:03 
DPDK git baseline: Repo:dpdk
  Branch: master
  CommitID:e2e546ab5bf5e024986ccb5310ab43982f3bb40c

139215-139216 --> testing pass

Test environment and result as below:

+------------------+----------+
|   Environment    | abi_test |
+==================+==========+
| Ubuntu 22.04     | PASS     |
+------------------+----------+
| openSUSE Leap 15 | PASS     |
+------------------+----------+
| CentOS Stream 8  | PASS     |
+------------------+----------+
| Debian Bullseye  | PASS     |
+------------------+----------+
| Fedora 37        | PASS     |
+------------------+----------+
| Fedora 38        | PASS     |
+------------------+----------+
| Fedora 39        | PASS     |
+------------------+----------+


Ubuntu 22.04
	Kernel: 5.4.0-167-generic
	Compiler: gcc 11.4.0

openSUSE Leap 15
	Kernel: 5.4.0-167-generic
	Compiler: gcc 7.5.0

CentOS Stream 8
	Kernel: 5.4.0-167-generic
	Compiler: gcc 8.5.0 20210514

Debian Bullseye
	Kernel: 5.4.0-167-generic
	Compiler: gcc 10.2.1-6

Fedora 37
	Kernel: Depends on container host system
	Compiler: gcc 12.3.1

Fedora 38
	Kernel: Depends on container host
	Compiler: clang 16.0.6

Fedora 39
	Kernel: Depends on container host
	Compiler: clang 17.0.6

To view detailed results, visit:
https://lab.dpdk.org/results/dashboard/patchsets/29748/

UNH-IOL DPDK Community Lab

To manage your email subscriptions, visit: 
https://lab.dpdk.org/results/dashboard/preferences/subscriptions/