From mboxrd@z Thu Jan  1 00:00:00 1970
Return-Path: <test-report-bounces@dpdk.org>
Received: from mails.dpdk.org (mails.dpdk.org [217.70.189.124])
	by inbox.dpdk.org (Postfix) with ESMTP id 2396043E2D
	for <public@inbox.dpdk.org>; Tue,  9 Apr 2024 20:37:04 +0200 (CEST)
Received: from mails.dpdk.org (localhost [127.0.0.1])
	by mails.dpdk.org (Postfix) with ESMTP id 1E323402C7;
	Tue,  9 Apr 2024 20:37:04 +0200 (CEST)
Received: from mail-qk1-f228.google.com (mail-qk1-f228.google.com
 [209.85.222.228])
 by mails.dpdk.org (Postfix) with ESMTP id 086BA402C6
 for <test-report@dpdk.org>; Tue,  9 Apr 2024 20:37:03 +0200 (CEST)
Received: by mail-qk1-f228.google.com with SMTP id
 af79cd13be357-78a26aaefc8so326582785a.1
 for <test-report@dpdk.org>; Tue, 09 Apr 2024 11:37:02 -0700 (PDT)
DKIM-Signature: v=1; a=rsa-sha256; c=relaxed/relaxed;
 d=iol.unh.edu; s=unh-iol; t=1712687822; x=1713292622; darn=dpdk.org;
 h=references:in-reply-to:cc:to:from:subject:message-id:date:from:to
 :cc:subject:date:message-id:reply-to;
 bh=2me3S7ynU0MVC4FPIX19L0vxt7QmZTH4mlEVLWY2GhA=;
 b=NQ/HaIez7Iw/UBkuhvbPG38c1utjNWlxpv5w/2jgorlO4xUUynYDKtyrdNxerVKBZy
 HqQd81ja9PD0BGuOmfKceqxDeVDo4Ght5O4v5l7J+Lp+fyyz8R8Cs+ZkAy/yvrfXyfmT
 hAM8Paju3LR5ez01aEa0pg+/Fh67l38M81U30=
X-Google-DKIM-Signature: v=1; a=rsa-sha256; c=relaxed/relaxed;
 d=1e100.net; s=20230601; t=1712687822; x=1713292622;
 h=references:in-reply-to:cc:to:from:subject:message-id:date
 :x-gm-message-state:from:to:cc:subject:date:message-id:reply-to;
 bh=2me3S7ynU0MVC4FPIX19L0vxt7QmZTH4mlEVLWY2GhA=;
 b=sk3p4Zqjqn9+2bRNr1K2CN76a2hdcJUTN3RL4h7ceZ+b0sX/eyHbyijt70SJdILc5y
 a7DzrJst6/tUAPE0qe0iU7OjMbUGqhAhGKgiAo7TPoPbpQVvHfXJnmdIaMTS4nzZ3ww4
 HneDE6YY0nqXdc7/7ij1U6GKtLg+a1cKq9JBjqPZ9VQV1ZXpZfCx8RiQeDEre7Da/wg3
 BFH5Qi+KPcMDtqf3H4TxEXWN7OB0/NgCqbSlFrAdRoyt17lT9+C/JzSr2RZn6hpZdk7p
 aceC1YEXblz8VNkXt+iPnY4i19/13UoSDfstIlcq9N6D9EVbNS8t7TuZP2qXwZdgY8Cf
 jhTg==
X-Gm-Message-State: AOJu0Yx56NDnmK7DVm1RaIb78H9pKTrX5svMoLC7deogX76dd+0lukix
 8JkcV05aswCt/zaYIMoiR2VYxZtS7ZekZElT0WG88/BfBL0hGvpjLf7ocRjD/NDm1DbhpqnM28n
 Yq6gFA1TuJEI8pd4rlIH1wrpY5AFAqN+Du7AyPFnOd96gmiZhvuNHPIXs
X-Google-Smtp-Source: AGHT+IH3yx+1wb5S1k+T/vx2u3gu/dMzKXI6Iqlhil7zHNDQzjcJSMIkc92SMhJO4RyQ6UOZTqIOMLFWMeii
X-Received: by 2002:a05:6214:246e:b0:69b:2f64:6240 with SMTP id
 im14-20020a056214246e00b0069b2f646240mr377252qvb.45.1712687822412; 
 Tue, 09 Apr 2024 11:37:02 -0700 (PDT)
Received: from postal.iol.unh.edu (postal.iol.unh.edu.
 [2606:4100:3880:1234::84]) by smtp-relay.gmail.com with ESMTPS id
 hf13-20020a0562140e8d00b0068ce579c96fsm598152qvb.54.2024.04.09.11.37.02
 (version=TLS1_2 cipher=ECDHE-ECDSA-AES128-GCM-SHA256 bits=128/128);
 Tue, 09 Apr 2024 11:37:02 -0700 (PDT)
X-Relaying-Domain: iol.unh.edu
Date: Tue, 09 Apr 2024 11:37:02 -0700 (PDT)
Message-ID: <66158ace.050a0220.35ff9.bcc1SMTPIN_ADDED_MISSING@mx.google.com>
Received: from [172.17.0.3] (unknown [172.18.0.217])
 by postal.iol.unh.edu (Postfix) with ESMTP id 1FF426052514;
 Tue,  9 Apr 2024 14:37:02 -0400 (EDT)
Subject: |SUCCESS| pw139215-139216 [PATCH] [v4,2/2] test: add functional test
From: dpdklab@iol.unh.edu
To: Test Report <test-report@dpdk.org>
Cc: dpdk-test-reports@iol.unh.edu
In-Reply-To: <20240409170602.541658-3-stephen@networkplumber.org>
References: <20240409170602.541658-3-stephen@networkplumber.org>
Content-Type: text/plain
X-BeenThere: test-report@dpdk.org
X-Mailman-Version: 2.1.29
Precedence: list
List-Id: automatic DPDK test reports <test-report.dpdk.org>
List-Unsubscribe: <https://mails.dpdk.org/options/test-report>,
 <mailto:test-report-request@dpdk.org?subject=unsubscribe>
List-Archive: <http://mails.dpdk.org/archives/test-report/>
List-Post: <mailto:test-report@dpdk.org>
List-Help: <mailto:test-report-request@dpdk.org?subject=help>
List-Subscribe: <https://mails.dpdk.org/listinfo/test-report>,
 <mailto:test-report-request@dpdk.org?subject=subscribe>
Errors-To: test-report-bounces@dpdk.org

Test-Label: iol-compile-amd64-testing
Test-Status: SUCCESS
http://dpdk.org/patch/139216

_Testing PASS_

Submitter: Stephen Hemminger <stephen@networkplumber.org>
Date: Tuesday, April 09 2024 17:05:03 
DPDK git baseline: Repo:dpdk
  Branch: master
  CommitID:e2e546ab5bf5e024986ccb5310ab43982f3bb40c

139215-139216 --> testing pass

Test environment and result as below:

+---------------------+--------------------+-------------------+----------------------+
|     Environment     | dpdk_meson_compile | dpdk_msvc_compile | dpdk_mingw64_compile |
+=====================+====================+===================+======================+
| FreeBSD 13.2        | PASS               | SKIPPED           | SKIPPED              |
+---------------------+--------------------+-------------------+----------------------+
| Windows Server 2022 | PASS               | PASS              | PASS                 |
+---------------------+--------------------+-------------------+----------------------+
| Windows Server 2019 | PASS               | SKIPPED           | PASS                 |
+---------------------+--------------------+-------------------+----------------------+
| Debian Bullseye     | PASS               | SKIPPED           | SKIPPED              |
+---------------------+--------------------+-------------------+----------------------+
| CentOS Stream 8     | PASS               | SKIPPED           | SKIPPED              |
+---------------------+--------------------+-------------------+----------------------+
| CentOS Stream 9     | PASS               | SKIPPED           | SKIPPED              |
+---------------------+--------------------+-------------------+----------------------+
| Fedora 37           | PASS               | SKIPPED           | SKIPPED              |
+---------------------+--------------------+-------------------+----------------------+
| Fedora 39           | PASS               | SKIPPED           | SKIPPED              |
+---------------------+--------------------+-------------------+----------------------+
| Debian 12           | PASS               | SKIPPED           | SKIPPED              |
+---------------------+--------------------+-------------------+----------------------+
| RHEL8               | PASS               | SKIPPED           | SKIPPED              |
+---------------------+--------------------+-------------------+----------------------+
| openSUSE Leap 15    | PASS               | SKIPPED           | SKIPPED              |
+---------------------+--------------------+-------------------+----------------------+
| Ubuntu 20.04        | PASS               | SKIPPED           | SKIPPED              |
+---------------------+--------------------+-------------------+----------------------+
| Ubuntu 22.04        | PASS               | SKIPPED           | SKIPPED              |
+---------------------+--------------------+-------------------+----------------------+
| Fedora 38           | PASS               | SKIPPED           | SKIPPED              |
+---------------------+--------------------+-------------------+----------------------+
| Alpine              | PASS               | SKIPPED           | SKIPPED              |
+---------------------+--------------------+-------------------+----------------------+


FreeBSD 13.2
	Kernel: 13.2
	Compiler: clang 14.0.5

Windows Server 2022
	Kernel: 10.0.20348.2031
	Compiler: clang 15.0.7, gcc 8.1.0 (MinGW), and MSVC VS 17.9

Windows Server 2019
	Kernel: 10.0.17763
	Compiler: clang 14.0 and gcc 8.1.0 (MinGW)

Debian Bullseye
	Kernel: 5.4.0-167-generic
	Compiler: gcc 10.2.1-6

CentOS Stream 8
	Kernel: 5.4.0-167-generic
	Compiler: gcc 8.5.0 20210514

CentOS Stream 9
	Kernel: 5.4.0-167-generic
	Compiler: gcc 11.4.1 20230605

Fedora 37
	Kernel: Depends on container host system
	Compiler: gcc 12.3.1

Fedora 39
	Kernel: Depends on container host
	Compiler: clang 17.0.6

Debian 12
	Kernel: Container Host Kernel
	Compiler: gcc 10.2.1

RHEL8
	Kernel: 5.4.0-167-generic
	Compiler: gcc 8.5.0 20210514 (Red Hat 8.5.0-20)

openSUSE Leap 15
	Kernel: 5.4.0-167-generic
	Compiler: gcc 7.5.0

Ubuntu 20.04
	Kernel: 5.4.0-167-generic
	Compiler: gcc 9.4.0-1ubuntu1~20.04.1

Ubuntu 22.04
	Kernel: 5.4.0-167-generic
	Compiler: gcc 11.4.0

Fedora 38
	Kernel: Depends on container host
	Compiler: gcc 13.2.1

Alpine
	Kernel: 5.4.0-167-generic
	Compiler: gcc (Alpine 12.2.1_git20220924-r10) 12.2.1 20220924

To view detailed results, visit:
https://lab.dpdk.org/results/dashboard/patchsets/29748/

UNH-IOL DPDK Community Lab

To manage your email subscriptions, visit: 
https://lab.dpdk.org/results/dashboard/preferences/subscriptions/