From mboxrd@z Thu Jan  1 00:00:00 1970
Return-Path: <test-report-bounces@dpdk.org>
Received: from mails.dpdk.org (mails.dpdk.org [217.70.189.124])
	by inbox.dpdk.org (Postfix) with ESMTP id C28A243E39
	for <public@inbox.dpdk.org>; Thu, 11 Apr 2024 05:46:51 +0200 (CEST)
Received: from mails.dpdk.org (localhost [127.0.0.1])
	by mails.dpdk.org (Postfix) with ESMTP id B4586402A8;
	Thu, 11 Apr 2024 05:46:51 +0200 (CEST)
Received: from mail-qt1-f228.google.com (mail-qt1-f228.google.com
 [209.85.160.228])
 by mails.dpdk.org (Postfix) with ESMTP id 37EC6402A7
 for <test-report@dpdk.org>; Thu, 11 Apr 2024 05:46:50 +0200 (CEST)
Received: by mail-qt1-f228.google.com with SMTP id
 d75a77b69052e-432c947e92eso3712831cf.0
 for <test-report@dpdk.org>; Wed, 10 Apr 2024 20:46:50 -0700 (PDT)
DKIM-Signature: v=1; a=rsa-sha256; c=relaxed/relaxed;
 d=iol.unh.edu; s=unh-iol; t=1712807209; x=1713412009; darn=dpdk.org;
 h=references:in-reply-to:cc:to:from:subject:message-id:date:from:to
 :cc:subject:date:message-id:reply-to;
 bh=MK8uQVBNP09lnvJRvPRU0IDttfSAhHJ8mrR/BKtjZFQ=;
 b=TU8Z9hNoBVUa3B/TsA3SymeA+PPGUzsYI3PtYaD/Ab/XtA9AAht4rK4uDlbzNFqbW6
 lkvY3UdMJ/eP7hsEdsL4BiQrZn8Qbb1DKrL9eWr39dzW9Kjq2PgRLxSnTAI7DzMl7YxO
 uypENTst5uPc7y45QLwZg9Ta0KF/TvXmxbyvA=
X-Google-DKIM-Signature: v=1; a=rsa-sha256; c=relaxed/relaxed;
 d=1e100.net; s=20230601; t=1712807209; x=1713412009;
 h=references:in-reply-to:cc:to:from:subject:message-id:date
 :x-gm-message-state:from:to:cc:subject:date:message-id:reply-to;
 bh=MK8uQVBNP09lnvJRvPRU0IDttfSAhHJ8mrR/BKtjZFQ=;
 b=l/spjXk3b0GEOyVy4Tvao4mKxhZ3nX7aLP55ds4eIX/ozfzA43BQ5p9O7dPVGYTt3I
 BtDUffGJPOs4qJPFmINodRCYL9Qc7ZTUr1rmBnqy55sO5FicbRJ416xRuf7G+su99oY1
 JL8mrliguL4tQyLHtH9xae3wmKrEm28M0u4u2oOGPfXxo0QNB74oUn1EUaZtfv2iz2Ym
 6XnHeo+kZCbeH1RopY59KMbW2qy/s44Uj3cqLkLjpfO7qwNYB6irJt/EUnwJrJfga4i8
 LJA0LTwGv7+lgXXz5/bjaj/2XBPjppuiAUKTdgsoZoiL6Jk+fksTJkFBLk6pgSlhlLW/
 j7tw==
X-Gm-Message-State: AOJu0YxBak97vWI6V307o+eis/B4cJOFE13al9x8B49CHkQe9FUW1Ci2
 u/asbOJlAPkNG5AUPwDfgK30NOYt5zq+M6fIk3+QwcyTwR5iHwLAoaAmJK/LDuxwPsImwxIHi77
 zZh3aa0icyqHyEK5lJXiGSzZhHk1ke9XSgl0unvFA
X-Google-Smtp-Source: AGHT+IE5KYgmSfzu6j/jHSuD6uoT/eEBCLdqlSSR3IX+frdkTMfQNZKglnMNBYyuwqzDnPl2foZhtNwzENJk
X-Received: by 2002:ac8:7f46:0:b0:435:ccff:f906 with SMTP id
 g6-20020ac87f46000000b00435ccfff906mr2939015qtk.18.1712807209587; 
 Wed, 10 Apr 2024 20:46:49 -0700 (PDT)
Received: from postal.iol.unh.edu (postal.iol.unh.edu. [132.177.123.84])
 by smtp-relay.gmail.com with ESMTPS id
 js7-20020a05622a808700b004346fe72394sm40283qtb.23.2024.04.10.20.46.49
 (version=TLS1_2 cipher=ECDHE-ECDSA-AES128-GCM-SHA256 bits=128/128);
 Wed, 10 Apr 2024 20:46:49 -0700 (PDT)
X-Relaying-Domain: iol.unh.edu
Date: Wed, 10 Apr 2024 20:46:49 -0700 (PDT)
Message-ID: <66175d29.050a0220.a4da1.25ccSMTPIN_ADDED_MISSING@mx.google.com>
Received: from [172.21.0.6] (unknown [172.18.0.240])
 by postal.iol.unh.edu (Postfix) with ESMTP id 243576052514;
 Wed, 10 Apr 2024 23:46:49 -0400 (EDT)
Subject: |SUCCESS| pw139220 [PATCH] ethdev: fix strict aliasing lead to link 
From: dpdklab@iol.unh.edu
To: Test Report <test-report@dpdk.org>
Cc: dpdk-test-reports@iol.unh.edu
In-Reply-To: <20240411030749.41874-1-fengchengwen@huawei.com>
References: <20240411030749.41874-1-fengchengwen@huawei.com>
Content-Type: text/plain
X-BeenThere: test-report@dpdk.org
X-Mailman-Version: 2.1.29
Precedence: list
List-Id: automatic DPDK test reports <test-report.dpdk.org>
List-Unsubscribe: <https://mails.dpdk.org/options/test-report>,
 <mailto:test-report-request@dpdk.org?subject=unsubscribe>
List-Archive: <http://mails.dpdk.org/archives/test-report/>
List-Post: <mailto:test-report@dpdk.org>
List-Help: <mailto:test-report-request@dpdk.org?subject=help>
List-Subscribe: <https://mails.dpdk.org/listinfo/test-report>,
 <mailto:test-report-request@dpdk.org?subject=subscribe>
Errors-To: test-report-bounces@dpdk.org

Test-Label: iol-compile-amd64-testing
Test-Status: SUCCESS
http://dpdk.org/patch/139220

_Testing PASS_

Submitter: Chengwen Feng <fengchengwen@huawei.com>
Date: Thursday, April 11 2024 03:07:49 
DPDK git baseline: Repo:dpdk
  Branch: master
  CommitID:e2e546ab5bf5e024986ccb5310ab43982f3bb40c

139220 --> testing pass

Test environment and result as below:

+---------------------+--------------------+
|     Environment     | dpdk_meson_compile |
+=====================+====================+
| FreeBSD 13.2        | PASS               |
+---------------------+--------------------+
| Windows Server 2022 | PASS               |
+---------------------+--------------------+
| CentOS Stream 8     | PASS               |
+---------------------+--------------------+


FreeBSD 13.2
	Kernel: 13.2
	Compiler: clang 14.0.5

Windows Server 2022
	Kernel: 10.0.20348.2031
	Compiler: clang 15.0.7, gcc 8.1.0 (MinGW), and MSVC VS 17.9

CentOS Stream 8
	Kernel: 5.4.0-167-generic
	Compiler: gcc 8.5.0 20210514

To view detailed results, visit:
https://lab.dpdk.org/results/dashboard/patchsets/29752/

UNH-IOL DPDK Community Lab

To manage your email subscriptions, visit: 
https://lab.dpdk.org/results/dashboard/preferences/subscriptions/