From mboxrd@z Thu Jan  1 00:00:00 1970
Return-Path: <test-report-bounces@dpdk.org>
Received: from mails.dpdk.org (mails.dpdk.org [217.70.189.124])
	by inbox.dpdk.org (Postfix) with ESMTP id 5645043E42
	for <public@inbox.dpdk.org>; Thu, 11 Apr 2024 11:59:37 +0200 (CEST)
Received: from mails.dpdk.org (localhost [127.0.0.1])
	by mails.dpdk.org (Postfix) with ESMTP id 51DA840268;
	Thu, 11 Apr 2024 11:59:37 +0200 (CEST)
Received: from mail-oa1-f100.google.com (mail-oa1-f100.google.com
 [209.85.160.100])
 by mails.dpdk.org (Postfix) with ESMTP id EC7D440262
 for <test-report@dpdk.org>; Thu, 11 Apr 2024 11:59:35 +0200 (CEST)
Received: by mail-oa1-f100.google.com with SMTP id
 586e51a60fabf-22ed075a629so3294615fac.3
 for <test-report@dpdk.org>; Thu, 11 Apr 2024 02:59:35 -0700 (PDT)
DKIM-Signature: v=1; a=rsa-sha256; c=relaxed/relaxed;
 d=iol.unh.edu; s=unh-iol; t=1712829575; x=1713434375; darn=dpdk.org;
 h=references:in-reply-to:cc:to:from:subject:message-id:date:from:to
 :cc:subject:date:message-id:reply-to;
 bh=j4uPQ6sDI+nTW3xkRVn6Z6OAy5w4/tBE1MUPsrsAWMg=;
 b=PsCpK09zRy8iEM6ZdyPakQ0cuVVHgu0oe4jonsJbey9YKBj55tx6+btUYoK9J+SI3J
 kSYONmwavLa83SkRvGvYhMicmLqF/Q6onVZp/vhiF23Avlj+4W7mdG7s15lSzPytOZB1
 qT3AsMyKi5Kj5z9SVOVBqF6xebu6BYXL7aFgg=
X-Google-DKIM-Signature: v=1; a=rsa-sha256; c=relaxed/relaxed;
 d=1e100.net; s=20230601; t=1712829575; x=1713434375;
 h=references:in-reply-to:cc:to:from:subject:message-id:date
 :x-gm-message-state:from:to:cc:subject:date:message-id:reply-to;
 bh=j4uPQ6sDI+nTW3xkRVn6Z6OAy5w4/tBE1MUPsrsAWMg=;
 b=iXC4zkc0wRegPv7GbN9uceWq6GUo4K7y4dbtQYcV7ozqzKlZflm7KC9IDppQPwrVaW
 E9dJar6yJVkcQm3aFVv4P3Ok14JwlbFOLs+gEsVb3klR7gMAT8pl2aRjnuG2Vmy5bTJ+
 fm1X5QHcxlC/2LEq9j12SHeQFn7OUIpb893HlG2byaG+iVSI5TNRh5msfLvEKK+WrE//
 vL6WkQtSaDq4Lim+fEf7m8KvozDkn3Vc/mDmYVBikdzfzEVTv7vEqWCK+4I9GewtKqnm
 D0MWqKOZuW/jV88xX6t8IHUxmww9b9T0Wn15AX1bPbsxoQWGBp4+FZ2I4PRBWdtpiHqx
 Snsg==
X-Gm-Message-State: AOJu0YyZmZp2Tit63kgBukJ+AEg2wrE6Y3MBh2fReiNFi/9fRyWtBUI6
 2YBGs8DSOE+32bupjRsZEipxnFVh45bK1ao6sI91ulaAGbkCFEuc0RiAYYUyaEcVAl3MMoMwWTB
 oF5oIE4zt8YL/8fBeAIlYgRdhoxgRtIVq+qmh2w3P4KnoamRslbhCjrrj
X-Google-Smtp-Source: AGHT+IHogX9ZVyubnzp7jAws+PDshC1tM4oM288lu8N6VC83agp8+khGRZL4q2dXQc5C+mbcXPkHXz3TGL6w
X-Received: by 2002:a05:6870:114b:b0:222:b434:d388 with SMTP id
 11-20020a056870114b00b00222b434d388mr4404323oag.39.1712829575339; 
 Thu, 11 Apr 2024 02:59:35 -0700 (PDT)
Received: from postal.iol.unh.edu (postal.iol.unh.edu.
 [2606:4100:3880:1234::84]) by smtp-relay.gmail.com with ESMTPS id
 lb21-20020a05687c331500b0023333da02c7sm36566oac.16.2024.04.11.02.59.35
 (version=TLS1_2 cipher=ECDHE-ECDSA-AES128-GCM-SHA256 bits=128/128);
 Thu, 11 Apr 2024 02:59:35 -0700 (PDT)
X-Relaying-Domain: iol.unh.edu
Date: Thu, 11 Apr 2024 02:59:35 -0700 (PDT)
Message-ID: <6617b487.050a0220.f6303.166bSMTPIN_ADDED_MISSING@mx.google.com>
Received: from [172.21.0.7] (unknown [172.18.0.240])
 by postal.iol.unh.edu (Postfix) with ESMTP id C81646052514;
 Thu, 11 Apr 2024 05:59:34 -0400 (EDT)
Subject: |SUCCESS| pw139223-139225 [PATCH] [3/3] test/crypto: add QP depth us
From: dpdklab@iol.unh.edu
To: Test Report <test-report@dpdk.org>
Cc: dpdk-test-reports@iol.unh.edu
In-Reply-To: <20240411082232.3495883-4-gakhil@marvell.com>
References: <20240411082232.3495883-4-gakhil@marvell.com>
Content-Type: text/plain
X-BeenThere: test-report@dpdk.org
X-Mailman-Version: 2.1.29
Precedence: list
List-Id: automatic DPDK test reports <test-report.dpdk.org>
List-Unsubscribe: <https://mails.dpdk.org/options/test-report>,
 <mailto:test-report-request@dpdk.org?subject=unsubscribe>
List-Archive: <http://mails.dpdk.org/archives/test-report/>
List-Post: <mailto:test-report@dpdk.org>
List-Help: <mailto:test-report-request@dpdk.org?subject=help>
List-Subscribe: <https://mails.dpdk.org/listinfo/test-report>,
 <mailto:test-report-request@dpdk.org?subject=subscribe>
Errors-To: test-report-bounces@dpdk.org

Test-Label: iol-abi-testing
Test-Status: SUCCESS
http://dpdk.org/patch/139225

_Testing PASS_

Submitter: Akhil Goyal <gakhil@marvell.com>
Date: Thursday, April 11 2024 08:22:32 
DPDK git baseline: Repo:dpdk
  Branch: master
  CommitID:e2e546ab5bf5e024986ccb5310ab43982f3bb40c

139223-139225 --> testing pass

Test environment and result as below:

+-----------------+----------+
|   Environment   | abi_test |
+=================+==========+
| CentOS Stream 9 | PASS     |
+-----------------+----------+
| CentOS Stream 8 | PASS     |
+-----------------+----------+
| RHEL8           | PASS     |
+-----------------+----------+


CentOS Stream 9
	Kernel: 5.4.0-167-generic
	Compiler: gcc 11.4.1 20230605

CentOS Stream 8
	Kernel: 5.4.0-167-generic
	Compiler: gcc 8.5.0 20210514

RHEL8
	Kernel: 5.4.0-167-generic
	Compiler: gcc 8.5.0 20210514 (Red Hat 8.5.0-20)

To view detailed results, visit:
https://lab.dpdk.org/results/dashboard/patchsets/29755/

UNH-IOL DPDK Community Lab

To manage your email subscriptions, visit: 
https://lab.dpdk.org/results/dashboard/preferences/subscriptions/