From mboxrd@z Thu Jan  1 00:00:00 1970
Return-Path: <test-report-bounces@dpdk.org>
Received: from mails.dpdk.org (mails.dpdk.org [217.70.189.124])
	by inbox.dpdk.org (Postfix) with ESMTP id AC9C543E43
	for <public@inbox.dpdk.org>; Thu, 11 Apr 2024 12:11:39 +0200 (CEST)
Received: from mails.dpdk.org (localhost [127.0.0.1])
	by mails.dpdk.org (Postfix) with ESMTP id A7CF140268;
	Thu, 11 Apr 2024 12:11:39 +0200 (CEST)
Received: from mail-pg1-f227.google.com (mail-pg1-f227.google.com
 [209.85.215.227])
 by mails.dpdk.org (Postfix) with ESMTP id CAB5740262
 for <test-report@dpdk.org>; Thu, 11 Apr 2024 12:11:38 +0200 (CEST)
Received: by mail-pg1-f227.google.com with SMTP id
 41be03b00d2f7-5ce07cf1e5dso5271617a12.2
 for <test-report@dpdk.org>; Thu, 11 Apr 2024 03:11:38 -0700 (PDT)
DKIM-Signature: v=1; a=rsa-sha256; c=relaxed/relaxed;
 d=iol.unh.edu; s=unh-iol; t=1712830298; x=1713435098; darn=dpdk.org;
 h=references:in-reply-to:cc:to:from:subject:message-id:date:from:to
 :cc:subject:date:message-id:reply-to;
 bh=9ATLbd30nMwEzEqt5l+Run6It/cMSw+EHPIuGQ/Lkh8=;
 b=JW4V+vBx+GLy5g/1SFo+aaqVGPcp4Grtll+f0NCMKt+biThidNGqcAxx+34ByJDlnr
 CTHDOsUQzIlX2sIJg9NZuzspX9CA0fbF52kJvsdpqURN/tOljUvczsnL6iZY5EeFX7GH
 9+YhPB70giMgOkIqI+GYQiqd8ablEbPG8HsD0=
X-Google-DKIM-Signature: v=1; a=rsa-sha256; c=relaxed/relaxed;
 d=1e100.net; s=20230601; t=1712830298; x=1713435098;
 h=references:in-reply-to:cc:to:from:subject:message-id:date
 :x-gm-message-state:from:to:cc:subject:date:message-id:reply-to;
 bh=9ATLbd30nMwEzEqt5l+Run6It/cMSw+EHPIuGQ/Lkh8=;
 b=qSMjKo4FO5Hl7gUFK5cC32rEDFQYuN7u8bSBGMMzVTZ7I6/gMP2KDZ1a7Oc4WYnG4l
 nVvM336GVWZ0Qqaf3sF726LfqCsncnpulPZGxPFSo05B1/S/NoCtOQis4U+QwcEfJuma
 bI+5PMj5Jg+0CC3rRHu89qaS6UjrwLFG/0DXpaWUgOUlAjPNEFXav49TzR30quPFUGS3
 QWdvCPrH4VpmVH95QT77eHdecYuTWTkpfS0uV5WjokuzYm/spdTzbMjGB3Y4KMnIsi0K
 pPWExOKAff9bEO3NZWEPutAngox6+LsdHegyE6b6kWH7wAEDsJq2viTf5w6iMtOD2UBO
 4Xww==
X-Gm-Message-State: AOJu0YxyRuBBqZs4Mzbgt0ZihLg5GPO263uR9/aASujZGUxoWX128+g2
 tFo8fO8pQKUCh6lUChYpLpS+QylVHES7ljAsEll9tAcpoi7omYzdVNVxl1MYtWznIUlxCP4TrUD
 HOImuxOCy0ZDOu3bqPS7fl7Fl09XJ/Glt4Pwe+Qbi
X-Google-Smtp-Source: AGHT+IG1NRhKPXya9JfRqFy9Gq5mFG/52sEuMy6uMpISK4LzxjBWcMxXDpWSAiuGaJTds+OIUK16NpYGo5wk
X-Received: by 2002:a05:6a21:6d96:b0:1a9:5dfb:22a4 with SMTP id
 wl22-20020a056a216d9600b001a95dfb22a4mr4605394pzb.3.1712830297939; 
 Thu, 11 Apr 2024 03:11:37 -0700 (PDT)
Received: from postal.iol.unh.edu (postal.iol.unh.edu. [132.177.123.84])
 by smtp-relay.gmail.com with ESMTPS id
 f12-20020a056a00238c00b006eae2d6d242sm96735pfc.9.2024.04.11.03.11.37
 (version=TLS1_2 cipher=ECDHE-ECDSA-AES128-GCM-SHA256 bits=128/128);
 Thu, 11 Apr 2024 03:11:37 -0700 (PDT)
X-Relaying-Domain: iol.unh.edu
Date: Thu, 11 Apr 2024 03:11:37 -0700 (PDT)
Message-ID: <6617b759.050a0220.4e09d.4d30SMTPIN_ADDED_MISSING@mx.google.com>
Received: from [172.21.0.7] (unknown [172.18.0.240])
 by postal.iol.unh.edu (Postfix) with ESMTP id 2381C6052514;
 Thu, 11 Apr 2024 06:11:37 -0400 (EDT)
Subject: |SUCCESS| pw139223-139225 [PATCH] [3/3] test/crypto: add QP depth us
From: dpdklab@iol.unh.edu
To: Test Report <test-report@dpdk.org>
Cc: dpdk-test-reports@iol.unh.edu
In-Reply-To: <20240411082232.3495883-4-gakhil@marvell.com>
References: <20240411082232.3495883-4-gakhil@marvell.com>
Content-Type: text/plain
X-BeenThere: test-report@dpdk.org
X-Mailman-Version: 2.1.29
Precedence: list
List-Id: automatic DPDK test reports <test-report.dpdk.org>
List-Unsubscribe: <https://mails.dpdk.org/options/test-report>,
 <mailto:test-report-request@dpdk.org?subject=unsubscribe>
List-Archive: <http://mails.dpdk.org/archives/test-report/>
List-Post: <mailto:test-report@dpdk.org>
List-Help: <mailto:test-report-request@dpdk.org?subject=help>
List-Subscribe: <https://mails.dpdk.org/listinfo/test-report>,
 <mailto:test-report-request@dpdk.org?subject=subscribe>
Errors-To: test-report-bounces@dpdk.org

Test-Label: iol-unit-amd64-testing
Test-Status: SUCCESS
http://dpdk.org/patch/139225

_Testing PASS_

Submitter: Akhil Goyal <gakhil@marvell.com>
Date: Thursday, April 11 2024 08:22:32 
DPDK git baseline: Repo:dpdk
  Branch: master
  CommitID:e2e546ab5bf5e024986ccb5310ab43982f3bb40c

139223-139225 --> testing pass

Test environment and result as below:

+---------------------+----------------+
|     Environment     | dpdk_unit_test |
+=====================+================+
| Windows Server 2019 | PASS           |
+---------------------+----------------+
| Debian Bullseye     | PASS           |
+---------------------+----------------+
| CentOS Stream 9     | PASS           |
+---------------------+----------------+
| CentOS Stream 8     | PASS           |
+---------------------+----------------+
| Debian 12           | PASS           |
+---------------------+----------------+
| Fedora 38           | PASS           |
+---------------------+----------------+
| Fedora 39           | PASS           |
+---------------------+----------------+
| Windows Server 2022 | PASS           |
+---------------------+----------------+


Windows Server 2019
	Kernel: 10.0.17763
	Compiler: clang 14.0 and gcc 8.1.0 (MinGW)

Debian Bullseye
	Kernel: 5.4.0-167-generic
	Compiler: gcc 10.2.1-6

CentOS Stream 9
	Kernel: 5.4.0-167-generic
	Compiler: gcc 11.4.1 20230605

CentOS Stream 8
	Kernel: 5.4.0-167-generic
	Compiler: gcc 8.5.0 20210514

Debian 12
	Kernel: Container Host Kernel
	Compiler: gcc 10.2.1

Fedora 38
	Kernel: Depends on container host
	Compiler: gcc 13.2.1

Fedora 39
	Kernel: Depends on container host
	Compiler: gcc 13.2.1

Windows Server 2022
	Kernel: 10.0.20348.2031
	Compiler: clang 15.0.7, gcc 8.1.0 (MinGW), and MSVC VS 17.9

To view detailed results, visit:
https://lab.dpdk.org/results/dashboard/patchsets/29755/

UNH-IOL DPDK Community Lab

To manage your email subscriptions, visit: 
https://lab.dpdk.org/results/dashboard/preferences/subscriptions/