From mboxrd@z Thu Jan  1 00:00:00 1970
Return-Path: <test-report-bounces@dpdk.org>
Received: from mails.dpdk.org (mails.dpdk.org [217.70.189.124])
	by inbox.dpdk.org (Postfix) with ESMTP id 4FDA543E43
	for <public@inbox.dpdk.org>; Thu, 11 Apr 2024 12:23:08 +0200 (CEST)
Received: from mails.dpdk.org (localhost [127.0.0.1])
	by mails.dpdk.org (Postfix) with ESMTP id 4BB114029C;
	Thu, 11 Apr 2024 12:23:08 +0200 (CEST)
Received: from mail-il1-f225.google.com (mail-il1-f225.google.com
 [209.85.166.225])
 by mails.dpdk.org (Postfix) with ESMTP id 571B940268
 for <test-report@dpdk.org>; Thu, 11 Apr 2024 12:23:03 +0200 (CEST)
Received: by mail-il1-f225.google.com with SMTP id
 e9e14a558f8ab-36a0f64f5e0so25135915ab.3
 for <test-report@dpdk.org>; Thu, 11 Apr 2024 03:23:03 -0700 (PDT)
DKIM-Signature: v=1; a=rsa-sha256; c=relaxed/relaxed;
 d=iol.unh.edu; s=unh-iol; t=1712830982; x=1713435782; darn=dpdk.org;
 h=references:in-reply-to:cc:to:from:subject:message-id:date:from:to
 :cc:subject:date:message-id:reply-to;
 bh=W4TUiGKIeKS7RE2ds76b2QTRi0tcLP1CzQMiqEsOqdk=;
 b=Emlu4zNR6NDXjLUzVFcjx1gASyFAYdi6ow8UFHUNYI91Ka6ru3Y0LdOq08JfvumZXS
 Y2QWuOrlQJSHXcc5sRMBrPt/UiDTnlV2Gvv9Wvb5NJKfQI0nQVRIQ1zbVIRrbXptGpHj
 zUkKRv0E24EcuQWYcHdCLvaqgImy5ZrNTRDK8=
X-Google-DKIM-Signature: v=1; a=rsa-sha256; c=relaxed/relaxed;
 d=1e100.net; s=20230601; t=1712830982; x=1713435782;
 h=references:in-reply-to:cc:to:from:subject:message-id:date
 :x-gm-message-state:from:to:cc:subject:date:message-id:reply-to;
 bh=W4TUiGKIeKS7RE2ds76b2QTRi0tcLP1CzQMiqEsOqdk=;
 b=EoWakzkHm/Vn4GkQp5vML93qX3jjoyQtJqhZyQUpfCaTWhNXRu8ML4/OM1SoV6gsAv
 X5s+7ETo6yngGQBz61m4aF1VIl73E3AMMppzwHx+6FyHV8E3L1GL092MElGpiBa2qV4N
 QAx1qsCchpqgzzRJvo+StRDk95e/J31bIre002w2AAG+m52vQ1olmkj0CzaQq3e9M2Ci
 5TW2mkJRswVY0ioo6P3KvhWkvdYIhjhZG5pkIdhErktUOI/L1Y4NKHv+Ib8xrQVkMGOR
 iGRhN4iE/FuTF5ARO++kbCVimvLLKhnmmQsPfA6mfew+A/Ubn2C4WDWD6lVvULvc5T06
 YwuA==
X-Gm-Message-State: AOJu0YwfMWHtottPFq7s1AvJRF/8g19kEzkA1csDj39uV794g50cJ8lz
 B2oPDxXIuo2BpwndEJERk1MjFJLzbpISSP+LYrMl6u+8g6gK9O6b05XEEXbZ2yBiQCzXWPLGsw1
 m1tWeY9uQaEuntSugA3iVuyoI4TZIrsTpRoOEYgj6
X-Google-Smtp-Source: AGHT+IGf3jEnoxbzThBDY+3IZJ5o7r9CoqFqhRb1LlmZt4mJXk478MdqFCenBYxfV12qJXENJsGhAoAESrfL
X-Received: by 2002:a05:6e02:1fc7:b0:36a:2e14:5857 with SMTP id
 dj7-20020a056e021fc700b0036a2e145857mr6325647ilb.17.1712830982760; 
 Thu, 11 Apr 2024 03:23:02 -0700 (PDT)
Received: from postal.iol.unh.edu (postal.iol.unh.edu. [132.177.123.84])
 by smtp-relay.gmail.com with ESMTPS id
 13-20020a056e0220cd00b0036878398a46sm46421ilq.7.2024.04.11.03.23.02
 (version=TLS1_2 cipher=ECDHE-ECDSA-AES128-GCM-SHA256 bits=128/128);
 Thu, 11 Apr 2024 03:23:02 -0700 (PDT)
X-Relaying-Domain: iol.unh.edu
Date: Thu, 11 Apr 2024 03:23:02 -0700 (PDT)
Message-ID: <6617ba06.050a0220.fb8ef.3162SMTPIN_ADDED_MISSING@mx.google.com>
Received: from [172.17.0.5] (unknown [172.18.0.217])
 by postal.iol.unh.edu (Postfix) with ESMTP id 3A9C96052514;
 Thu, 11 Apr 2024 06:23:02 -0400 (EDT)
Subject: |SUCCESS| pw139223-139225 [PATCH] [3/3] test/crypto: add QP depth us
From: dpdklab@iol.unh.edu
To: Test Report <test-report@dpdk.org>
Cc: dpdk-test-reports@iol.unh.edu
In-Reply-To: <20240411082232.3495883-4-gakhil@marvell.com>
References: <20240411082232.3495883-4-gakhil@marvell.com>
Content-Type: text/plain
X-BeenThere: test-report@dpdk.org
X-Mailman-Version: 2.1.29
Precedence: list
List-Id: automatic DPDK test reports <test-report.dpdk.org>
List-Unsubscribe: <https://mails.dpdk.org/options/test-report>,
 <mailto:test-report-request@dpdk.org?subject=unsubscribe>
List-Archive: <http://mails.dpdk.org/archives/test-report/>
List-Post: <mailto:test-report@dpdk.org>
List-Help: <mailto:test-report-request@dpdk.org?subject=help>
List-Subscribe: <https://mails.dpdk.org/listinfo/test-report>,
 <mailto:test-report-request@dpdk.org?subject=subscribe>
Errors-To: test-report-bounces@dpdk.org

Test-Label: iol-abi-testing
Test-Status: SUCCESS
http://dpdk.org/patch/139225

_Testing PASS_

Submitter: Akhil Goyal <gakhil@marvell.com>
Date: Thursday, April 11 2024 08:22:32 
DPDK git baseline: Repo:dpdk
  Branch: master
  CommitID:e2e546ab5bf5e024986ccb5310ab43982f3bb40c

139223-139225 --> testing pass

Test environment and result as below:

+------------------+----------+
|   Environment    | abi_test |
+==================+==========+
| CentOS Stream 9  | PASS     |
+------------------+----------+
| CentOS Stream 8  | PASS     |
+------------------+----------+
| RHEL8            | PASS     |
+------------------+----------+
| Fedora 39        | PASS     |
+------------------+----------+
| openSUSE Leap 15 | PASS     |
+------------------+----------+
| Debian Bullseye  | PASS     |
+------------------+----------+
| Fedora 38        | PASS     |
+------------------+----------+
| Fedora 37        | PASS     |
+------------------+----------+
| Debian 12        | PASS     |
+------------------+----------+
| Ubuntu 22.04     | PASS     |
+------------------+----------+


CentOS Stream 9
	Kernel: 5.4.0-167-generic
	Compiler: gcc 11.4.1 20230605

CentOS Stream 8
	Kernel: 5.4.0-167-generic
	Compiler: gcc 8.5.0 20210514

RHEL8
	Kernel: 5.4.0-167-generic
	Compiler: gcc 8.5.0 20210514 (Red Hat 8.5.0-20)

Fedora 39
	Kernel: Depends on container host
	Compiler: clang 17.0.6

openSUSE Leap 15
	Kernel: 5.4.0-167-generic
	Compiler: gcc 7.5.0

Debian Bullseye
	Kernel: 5.4.0-167-generic
	Compiler: gcc 10.2.1-6

Fedora 38
	Kernel: Depends on container host
	Compiler: gcc 13.2.1

Fedora 37
	Kernel: Depends on container host system
	Compiler: gcc 12.3.1

Debian 12
	Kernel: Container Host Kernel
	Compiler: gcc 10.2.1

Ubuntu 22.04
	Kernel: 5.4.0-167-generic
	Compiler: gcc 11.4.0

To view detailed results, visit:
https://lab.dpdk.org/results/dashboard/patchsets/29755/

UNH-IOL DPDK Community Lab

To manage your email subscriptions, visit: 
https://lab.dpdk.org/results/dashboard/preferences/subscriptions/