From mboxrd@z Thu Jan  1 00:00:00 1970
Return-Path: <test-report-bounces@dpdk.org>
Received: from mails.dpdk.org (mails.dpdk.org [217.70.189.124])
	by inbox.dpdk.org (Postfix) with ESMTP id C320B43E43
	for <public@inbox.dpdk.org>; Thu, 11 Apr 2024 12:45:07 +0200 (CEST)
Received: from mails.dpdk.org (localhost [127.0.0.1])
	by mails.dpdk.org (Postfix) with ESMTP id 99B794029C;
	Thu, 11 Apr 2024 12:45:07 +0200 (CEST)
Received: from mail-io1-f97.google.com (mail-io1-f97.google.com
 [209.85.166.97]) by mails.dpdk.org (Postfix) with ESMTP id 6923140268
 for <test-report@dpdk.org>; Thu, 11 Apr 2024 12:45:06 +0200 (CEST)
Received: by mail-io1-f97.google.com with SMTP id
 ca18e2360f4ac-7c8ad87b2acso158416539f.3
 for <test-report@dpdk.org>; Thu, 11 Apr 2024 03:45:06 -0700 (PDT)
DKIM-Signature: v=1; a=rsa-sha256; c=relaxed/relaxed;
 d=iol.unh.edu; s=unh-iol; t=1712832306; x=1713437106; darn=dpdk.org;
 h=references:in-reply-to:cc:to:from:subject:message-id:date:from:to
 :cc:subject:date:message-id:reply-to;
 bh=VQbF7dVk6TcXvpWWqxpOdPYpJL2eemYle6yqK0Jn4oo=;
 b=RygVzkF40rhwL0k07sbORFgKf1ChheZZHRdN3DtFaMkVN0OwWZW2oYddr1lnGLyejQ
 3w8MJ4BvigxPTWh4wkoaMrW2xR/kkYZaEuS18P5sQE5zcLijMRS9d4CtU6OulriJmTBE
 WZT6xoHz2b1yv0FYwCM99/FNBtzTUmi5+TeHg=
X-Google-DKIM-Signature: v=1; a=rsa-sha256; c=relaxed/relaxed;
 d=1e100.net; s=20230601; t=1712832306; x=1713437106;
 h=references:in-reply-to:cc:to:from:subject:message-id:date
 :x-gm-message-state:from:to:cc:subject:date:message-id:reply-to;
 bh=VQbF7dVk6TcXvpWWqxpOdPYpJL2eemYle6yqK0Jn4oo=;
 b=luDu4CgM2UjC6zRHEN1pOgULsGv9zey/GFMGSd9LAkZExbH6tkZzXf3ouErXrMjtJh
 WpeN6mnLS/f69fjd19Gc/IrC/rPDSH8lJLEdOqbIOdiFF7o0QlH1OJtTFnvhjvN3QudM
 5EuTGU746zv570tCeldqBSrN//Pg7L6cCHPsGplOJUHBFv4nJRPfdZCiG96b4BRojvDR
 1yeFadeYAGJvFooma0vME8Y8eoqjdMa53SsHBd2cZBQkS+BJ9ntJ4hBk7tTRCKyaxpYs
 MFt5REoALQDEfzu4K4y21wbOpW2aNjrshPus4umZ1FCOxSK0Qe/4+zshicwukuz1tT8o
 WrTQ==
X-Gm-Message-State: AOJu0YzyJDUGGLIYVZRPdxROVPHupM+TH8YEWNqbNG3f5AIga+J/AcJl
 FwU21DErhiXBNUA/B5PbvoojkC6wLFUXL+pi5sYuqHHjtpOzBbeo59qcY0kbsax2cUhkBeV291o
 0agwukR2+oRomeBa65V6AKEdTYk1UpkylXAjQ67hC/ewZkJnzvzBSI5mZ
X-Google-Smtp-Source: AGHT+IGBCZ5Oh7B4KeuHKyF33tHTAqZN4j1BSauSlZPPAUHoHkg887DFUJv83qC19fmkhNpcgkchVNG226Uz
X-Received: by 2002:a6b:f60c:0:b0:7d6:3f52:2f27 with SMTP id
 n12-20020a6bf60c000000b007d63f522f27mr3946607ioh.0.1712832305824; 
 Thu, 11 Apr 2024 03:45:05 -0700 (PDT)
Received: from postal.iol.unh.edu (postal.iol.unh.edu.
 [2606:4100:3880:1234::84]) by smtp-relay.gmail.com with ESMTPS id
 x14-20020a056638160e00b004828d67c822sm26832jas.4.2024.04.11.03.45.05
 (version=TLS1_2 cipher=ECDHE-ECDSA-AES128-GCM-SHA256 bits=128/128);
 Thu, 11 Apr 2024 03:45:05 -0700 (PDT)
X-Relaying-Domain: iol.unh.edu
Date: Thu, 11 Apr 2024 03:45:05 -0700 (PDT)
Message-ID: <6617bf31.050a0220.7cdbc.1d79SMTPIN_ADDED_MISSING@mx.google.com>
Received: from [172.17.0.2] (unknown [172.18.0.217])
 by postal.iol.unh.edu (Postfix) with ESMTP id 479526052514;
 Thu, 11 Apr 2024 06:45:05 -0400 (EDT)
Subject: |SUCCESS| pw139223-139225 [PATCH] [3/3] test/crypto: add QP depth us
From: dpdklab@iol.unh.edu
To: Test Report <test-report@dpdk.org>
Cc: dpdk-test-reports@iol.unh.edu
In-Reply-To: <20240411082232.3495883-4-gakhil@marvell.com>
References: <20240411082232.3495883-4-gakhil@marvell.com>
Content-Type: text/plain
X-BeenThere: test-report@dpdk.org
X-Mailman-Version: 2.1.29
Precedence: list
List-Id: automatic DPDK test reports <test-report.dpdk.org>
List-Unsubscribe: <https://mails.dpdk.org/options/test-report>,
 <mailto:test-report-request@dpdk.org?subject=unsubscribe>
List-Archive: <http://mails.dpdk.org/archives/test-report/>
List-Post: <mailto:test-report@dpdk.org>
List-Help: <mailto:test-report-request@dpdk.org?subject=help>
List-Subscribe: <https://mails.dpdk.org/listinfo/test-report>,
 <mailto:test-report-request@dpdk.org?subject=subscribe>
Errors-To: test-report-bounces@dpdk.org

Test-Label: iol-compile-arm64-testing
Test-Status: SUCCESS
http://dpdk.org/patch/139225

_Testing PASS_

Submitter: Akhil Goyal <gakhil@marvell.com>
Date: Thursday, April 11 2024 08:22:32 
DPDK git baseline: Repo:dpdk
  Branch: master
  CommitID:e2e546ab5bf5e024986ccb5310ab43982f3bb40c

139223-139225 --> testing pass

Test environment and result as below:

+----------------------------------------+--------------------+
|              Environment               | dpdk_meson_compile |
+========================================+====================+
| Ubuntu 20.04 ARM SVE                   | PASS               |
+----------------------------------------+--------------------+
| Fedora 38 (ARM)                        | PASS               |
+----------------------------------------+--------------------+
| Debian 12 with MUSDK                   | PASS               |
+----------------------------------------+--------------------+
| Fedora 39 (ARM)                        | PASS               |
+----------------------------------------+--------------------+
| Ubuntu 20.04 (ARM)                     | PASS               |
+----------------------------------------+--------------------+
| Ubuntu 20.04 aarch32 GCC Cross Compile | PASS               |
+----------------------------------------+--------------------+
| Ubuntu 20.04 ARM GCC Cross Compile     | PASS               |
+----------------------------------------+--------------------+
| Debian 11 (Buster) (ARM)               | PASS               |
+----------------------------------------+--------------------+
| Fedora 37 (ARM)                        | PASS               |
+----------------------------------------+--------------------+
| CentOS Stream 9 (ARM)                  | PASS               |
+----------------------------------------+--------------------+
| Debian 12 (arm)                        | PASS               |
+----------------------------------------+--------------------+
| Ubuntu 20.04 ARM Clang Cross Compile   | PASS               |
+----------------------------------------+--------------------+


Ubuntu 20.04 ARM SVE
	Kernel: 5.4.0-167-generic
	Compiler: gcc (Ubuntu 10.5.0-1ubuntu1~20.04) 10.5.0

Fedora 38 (ARM)
	Kernel: Depends on container host
	Compiler: gcc 13.2.1

Debian 12 with MUSDK
	Kernel: Container Host Kernel
	Compiler: gcc 12.2.0

Fedora 39 (ARM)
	Kernel: Depends on container host
	Compiler: gcc 13.2.1

Ubuntu 20.04 (ARM)
	Kernel: Container Host Kernel
	Compiler: gcc 9.4.0

Ubuntu 20.04 aarch32 GCC Cross Compile
	Kernel: 5.4.0-167-generic
	Compiler: gcc 9.4.0

Ubuntu 20.04 ARM GCC Cross Compile
	Kernel: 5.4.0-167-generic
	Compiler: aarch64-linux-gnu-gcc (Ubuntu 9.4.0-1ubuntu1~20.04.2) 9.4.0

Debian 11 (Buster) (ARM)
	Kernel: Container Host Kernel
	Compiler: gcc 10.2.1

Fedora 37 (ARM)
	Kernel: Depends on container host
	Compiler: gcc 12.3.1

CentOS Stream 9 (ARM)
	Kernel: Container Host Kernel
	Compiler: gcc 11.4.1

Debian 12 (arm)
	Kernel: Container Host Kernel
	Compiler: gcc 12.2.0

Ubuntu 20.04 ARM Clang Cross Compile
	Kernel: 5.4.0-72-generic
	Compiler: clang 10.0.0-4ubuntu1

To view detailed results, visit:
https://lab.dpdk.org/results/dashboard/patchsets/29755/

UNH-IOL DPDK Community Lab

To manage your email subscriptions, visit: 
https://lab.dpdk.org/results/dashboard/preferences/subscriptions/