From mboxrd@z Thu Jan  1 00:00:00 1970
Return-Path: <test-report-bounces@dpdk.org>
Received: from mails.dpdk.org (mails.dpdk.org [217.70.189.124])
	by inbox.dpdk.org (Postfix) with ESMTP id CB19343E50
	for <public@inbox.dpdk.org>; Fri, 12 Apr 2024 11:05:35 +0200 (CEST)
Received: from mails.dpdk.org (localhost [127.0.0.1])
	by mails.dpdk.org (Postfix) with ESMTP id C79D840295;
	Fri, 12 Apr 2024 11:05:35 +0200 (CEST)
Received: from mail-pf1-f226.google.com (mail-pf1-f226.google.com
 [209.85.210.226])
 by mails.dpdk.org (Postfix) with ESMTP id 1B7634026A
 for <test-report@dpdk.org>; Fri, 12 Apr 2024 11:05:34 +0200 (CEST)
Received: by mail-pf1-f226.google.com with SMTP id
 d2e1a72fcca58-6ed04c91c46so747899b3a.0
 for <test-report@dpdk.org>; Fri, 12 Apr 2024 02:05:34 -0700 (PDT)
DKIM-Signature: v=1; a=rsa-sha256; c=relaxed/relaxed;
 d=iol.unh.edu; s=unh-iol; t=1712912733; x=1713517533; darn=dpdk.org;
 h=references:in-reply-to:cc:to:from:subject:message-id:date:from:to
 :cc:subject:date:message-id:reply-to;
 bh=ETNrpurLPskNwuvtpoLxorNKwZNH1esr/qcT0BNF5TY=;
 b=UcGX+MLI1SmchQjL2BhkbP8MglvKdgkQcspv3TlkKT97F+Xzi6nXDZbVsFDB0QZ/Ec
 O98A2VdGkkbABAumFO51WF0MtsrKc5+49iW3X/kff4En1y2IZ7TX5+ySpb9tRgN/D2gc
 UkECXXUXBdeD5/28ww7TRbHYT52/JAA8k3e5o=
X-Google-DKIM-Signature: v=1; a=rsa-sha256; c=relaxed/relaxed;
 d=1e100.net; s=20230601; t=1712912733; x=1713517533;
 h=references:in-reply-to:cc:to:from:subject:message-id:date
 :x-gm-message-state:from:to:cc:subject:date:message-id:reply-to;
 bh=ETNrpurLPskNwuvtpoLxorNKwZNH1esr/qcT0BNF5TY=;
 b=OVGdM2VwzQdaihoDelt8KupnX2VjcPCcdmrVw+BQj5/Rv06RwaSlxhBwGcH5LZObzM
 XLaRCJh5hFr9u+i9vIgNlRoZd4Zo7eps9sWrPssu7gVigcPUQvf3Ut1JtAgtjkrairvv
 Zh2TOVhg2/rw+lpPxy0UkDz4AOHWZI4DZ1/XAqbgUP1OepalC18/38xLLarGvj01hdSl
 sNz6L+DiA2QY2wHe6qOgOEhLUs0S+BSK+aqvX8RoJjqaLCQmRCnZxLkvtMxdBAqls1zj
 kuxjDDlTjxKFhyC4cMi/CHZbycgPlO1Nx2g6kNfSonAyQqipW3iiDDYswl1rnRFt94WI
 BNFQ==
X-Gm-Message-State: AOJu0Yw4IbMDQo6Bm+sRvOpENQtsNKL5GXGyznril4pxYwVmfoGBJug+
 RXEkOE8hWaohcUK6ziq+gWKqOg9bVRnw9r1r9W/p3Aryb7Ho4P/Pz2k5+v30y4xTfpfj1I4rEeH
 6bj+YFvu3SERKHVZlliZTOSSf6bneG1uSHjKAaJ35
X-Google-Smtp-Source: AGHT+IFDwQrT4UTaSEpzawWhqcGcnVzD58+ASdDiNpT3dWNieH2CPP8plEu3I/dllITQH5ixwXZVLK96HXJD
X-Received: by 2002:a05:6a20:c629:b0:1a9:5a2a:7e37 with SMTP id
 gp41-20020a056a20c62900b001a95a2a7e37mr1932347pzb.56.1712912733280; 
 Fri, 12 Apr 2024 02:05:33 -0700 (PDT)
Received: from postal.iol.unh.edu (postal.iol.unh.edu. [132.177.123.84])
 by smtp-relay.gmail.com with ESMTPS id
 b10-20020a056a000cca00b006ed4265a33asm330284pfv.20.2024.04.12.02.05.33
 (version=TLS1_2 cipher=ECDHE-ECDSA-AES128-GCM-SHA256 bits=128/128);
 Fri, 12 Apr 2024 02:05:33 -0700 (PDT)
X-Relaying-Domain: iol.unh.edu
Date: Fri, 12 Apr 2024 02:05:33 -0700 (PDT)
Message-ID: <6618f95d.050a0220.1534d.ca16SMTPIN_ADDED_MISSING@mx.google.com>
Received: from [172.21.0.6] (unknown [172.18.0.240])
 by postal.iol.unh.edu (Postfix) with ESMTP id 746E96052735;
 Fri, 12 Apr 2024 05:05:32 -0400 (EDT)
Subject: |SUCCESS| pw139232 [PATCH] [v2] config/arm: add Ampere AmpereOneX pl
From: dpdklab@iol.unh.edu
To: Test Report <test-report@dpdk.org>
Cc: dpdk-test-reports@iol.unh.edu
In-Reply-To: <20240411092332.237904-1-jiangyutang@os.amperecomputing.com>
References: <20240411092332.237904-1-jiangyutang@os.amperecomputing.com>
Content-Type: text/plain
X-BeenThere: test-report@dpdk.org
X-Mailman-Version: 2.1.29
Precedence: list
List-Id: automatic DPDK test reports <test-report.dpdk.org>
List-Unsubscribe: <https://mails.dpdk.org/options/test-report>,
 <mailto:test-report-request@dpdk.org?subject=unsubscribe>
List-Archive: <http://mails.dpdk.org/archives/test-report/>
List-Post: <mailto:test-report@dpdk.org>
List-Help: <mailto:test-report-request@dpdk.org?subject=help>
List-Subscribe: <https://mails.dpdk.org/listinfo/test-report>,
 <mailto:test-report-request@dpdk.org?subject=subscribe>
Errors-To: test-report-bounces@dpdk.org

Test-Label: iol-unit-arm64-testing
Test-Status: SUCCESS
http://dpdk.org/patch/139232

_Testing PASS_

Submitter: Yutang Jiang <jiangyutang@os.amperecomputing.com>
Date: Thursday, April 11 2024 09:23:32 
DPDK git baseline: Repo:dpdk
  Branch: master
  CommitID:e2e546ab5bf5e024986ccb5310ab43982f3bb40c

139232 --> testing pass

Test environment and result as below:

+-----------------------------+----------------+---------------------------+------------------------------+--------------+
|         Environment         | dpdk_unit_test | cryptodev_sw_zuc_autotest | cryptodev_sw_snow3g_autotest | lpm_autotest |
+=============================+================+===========================+==============================+==============+
| Debian 12 (arm)             | PASS           | PASS                      | PASS                         | SKIPPED      |
+-----------------------------+----------------+---------------------------+------------------------------+--------------+
| Debian 11 (Buster) (ARM)    | PASS           | SKIPPED                   | SKIPPED                      | SKIPPED      |
+-----------------------------+----------------+---------------------------+------------------------------+--------------+
| CentOS Stream 9 (ARM)       | PASS           | SKIPPED                   | SKIPPED                      | SKIPPED      |
+-----------------------------+----------------+---------------------------+------------------------------+--------------+
| Fedora 38 (ARM)             | PASS           | SKIPPED                   | SKIPPED                      | SKIPPED      |
+-----------------------------+----------------+---------------------------+------------------------------+--------------+
| Fedora 37 (ARM)             | PASS           | SKIPPED                   | SKIPPED                      | SKIPPED      |
+-----------------------------+----------------+---------------------------+------------------------------+--------------+
| Fedora 39 (ARM)             | PASS           | SKIPPED                   | SKIPPED                      | SKIPPED      |
+-----------------------------+----------------+---------------------------+------------------------------+--------------+
| Ubuntu 20.04 (ARM)          | PASS           | SKIPPED                   | SKIPPED                      | SKIPPED      |
+-----------------------------+----------------+---------------------------+------------------------------+--------------+
| 32-bit Ubuntu 20.04.4 (ARM) | PASS           | SKIPPED                   | SKIPPED                      | SKIPPED      |
+-----------------------------+----------------+---------------------------+------------------------------+--------------+
| Fedora 38 (ARM Clang)       | PASS           | SKIPPED                   | SKIPPED                      | SKIPPED      |
+-----------------------------+----------------+---------------------------+------------------------------+--------------+
| Ubuntu 20.04 ARM SVE        | SKIPPED        | SKIPPED                   | SKIPPED                      | PASS         |
+-----------------------------+----------------+---------------------------+------------------------------+--------------+


Debian 12 (arm)
	Kernel: Container Host Kernel
	Compiler: gcc 12.2.0

Debian 11 (Buster) (ARM)
	Kernel: Container Host Kernel
	Compiler: gcc 10.2.1

CentOS Stream 9 (ARM)
	Kernel: Container Host Kernel
	Compiler: gcc 11.4.1

Fedora 38 (ARM)
	Kernel: Depends on container host
	Compiler: gcc 13.2.1

Fedora 37 (ARM)
	Kernel: Depends on container host
	Compiler: gcc 12.3.1

Fedora 39 (ARM)
	Kernel: Depends on container host
	Compiler: gcc 13.2.1

Ubuntu 20.04 (ARM)
	Kernel: Container Host Kernel
	Compiler: gcc 9.4.0

32-bit Ubuntu 20.04.4 (ARM)
	Kernel: 5.4.0-155-generic aarch64
	Compiler: gcc 9.4

Fedora 38 (ARM Clang)
	Kernel: Depends on container host
	Compiler: clang 16.0.6

Ubuntu 20.04 ARM SVE
	Kernel: 5.4.0-167-generic
	Compiler: gcc (Ubuntu 10.5.0-1ubuntu1~20.04) 10.5.0

To view detailed results, visit:
https://lab.dpdk.org/results/dashboard/patchsets/29762/

UNH-IOL DPDK Community Lab

To manage your email subscriptions, visit: 
https://lab.dpdk.org/results/dashboard/preferences/subscriptions/