From mboxrd@z Thu Jan  1 00:00:00 1970
Return-Path: <test-report-bounces@dpdk.org>
Received: from mails.dpdk.org (mails.dpdk.org [217.70.189.124])
	by inbox.dpdk.org (Postfix) with ESMTP id BD48943E50
	for <public@inbox.dpdk.org>; Fri, 12 Apr 2024 11:14:04 +0200 (CEST)
Received: from mails.dpdk.org (localhost [127.0.0.1])
	by mails.dpdk.org (Postfix) with ESMTP id B593740295;
	Fri, 12 Apr 2024 11:14:04 +0200 (CEST)
Received: from mail-qk1-f226.google.com (mail-qk1-f226.google.com
 [209.85.222.226])
 by mails.dpdk.org (Postfix) with ESMTP id 2C3BE4026A
 for <test-report@dpdk.org>; Fri, 12 Apr 2024 11:14:03 +0200 (CEST)
Received: by mail-qk1-f226.google.com with SMTP id
 af79cd13be357-78d5f0440d3so39925085a.2
 for <test-report@dpdk.org>; Fri, 12 Apr 2024 02:14:03 -0700 (PDT)
DKIM-Signature: v=1; a=rsa-sha256; c=relaxed/relaxed;
 d=iol.unh.edu; s=unh-iol; t=1712913242; x=1713518042; darn=dpdk.org;
 h=references:in-reply-to:cc:to:from:subject:message-id:date:from:to
 :cc:subject:date:message-id:reply-to;
 bh=ETNrpurLPskNwuvtpoLxorNKwZNH1esr/qcT0BNF5TY=;
 b=a6SD4a5F/3a9pu+1lcOKvFC5vtRmUFFT8ueuVsFRR+qiwH6J1juJdxREgUxISgEVsD
 a6DXJSUW6gHDlfEIw+zQ8XZctOSP9GFnGcuI3GtNju1N52V6aionpFUC1XMIXxR7DyAo
 AfqjARE32bW3uamsofA7J6Tbo9cqvjt4LnZxw=
X-Google-DKIM-Signature: v=1; a=rsa-sha256; c=relaxed/relaxed;
 d=1e100.net; s=20230601; t=1712913242; x=1713518042;
 h=references:in-reply-to:cc:to:from:subject:message-id:date
 :x-gm-message-state:from:to:cc:subject:date:message-id:reply-to;
 bh=ETNrpurLPskNwuvtpoLxorNKwZNH1esr/qcT0BNF5TY=;
 b=jqwcT03j1dPZSzoJcJ5p5CuITMmFe8Sf9Z6DyTwOPji2BxjTyGA2Ewd/lRZTRXixh5
 OH40T295tuwlYa4KGdJIyu/0oVOyR0NMcCI9aE8WmNxfIYwok5qvHeqPOh0SuDIsgpC3
 /K3+ZRoOKvhRkpQCYpRdBcNHXPKVZ1ewqss5PE0CIhNBNvXTp9nlfJc2n492VEPZ/5MJ
 zK/o2XBALbIBMUiVlfcDdeh02+eofqk/kwHmkdpA4SfJKQEEyttXWpgXZuS0da4aXh2O
 qNLdepKyLwrcHr6A2osLJ2EK8r5FcFAsbUYkcbHPnEJghP+QnuajDHyu+8NcRBmC1NkE
 Gsew==
X-Gm-Message-State: AOJu0YzLILLJ2dgVHiP32FS4sZKh41/MVdesFIb1CjNL85GJ/Rso1PDx
 X/vyGAfNFrliNRJlx6eNv5591ktbK0l2hXokX7HPfTonDFlMWJdJnskPA5gWqqSG7NhjhbAVYWu
 b9HSGBEsWPjxDOfoRevvO3+c0mfABcqv9K2A2MmPJYF4hEpDbQlpelUz0
X-Google-Smtp-Source: AGHT+IHhotP3VDxWx5AJcNYbpho52tbyadZSwxnj2GoVrCV0BtBo6r64ojr+TiIG6MR7RDQQFkZ8PnLZJd0U
X-Received: by 2002:a05:6214:5613:b0:699:45f8:dbf1 with SMTP id
 mg19-20020a056214561300b0069945f8dbf1mr2265697qvb.22.1712913242578; 
 Fri, 12 Apr 2024 02:14:02 -0700 (PDT)
Received: from postal.iol.unh.edu (postal.iol.unh.edu.
 [2606:4100:3880:1234::84]) by smtp-relay.gmail.com with ESMTPS id
 i7-20020ad45c67000000b00699036b2da1sm330994qvh.32.2024.04.12.02.14.02
 (version=TLS1_2 cipher=ECDHE-ECDSA-AES128-GCM-SHA256 bits=128/128);
 Fri, 12 Apr 2024 02:14:02 -0700 (PDT)
X-Relaying-Domain: iol.unh.edu
Date: Fri, 12 Apr 2024 02:14:02 -0700 (PDT)
Message-ID: <6618fb5a.d40a0220.63c9e.d149SMTPIN_ADDED_MISSING@mx.google.com>
Received: from [172.17.0.4] (unknown [172.18.0.217])
 by postal.iol.unh.edu (Postfix) with ESMTP id 35A886052735;
 Fri, 12 Apr 2024 05:14:02 -0400 (EDT)
Subject: |SUCCESS| pw139232 [PATCH] [v2] config/arm: add Ampere AmpereOneX pl
From: dpdklab@iol.unh.edu
To: Test Report <test-report@dpdk.org>
Cc: dpdk-test-reports@iol.unh.edu
In-Reply-To: <20240411092332.237904-1-jiangyutang@os.amperecomputing.com>
References: <20240411092332.237904-1-jiangyutang@os.amperecomputing.com>
Content-Type: text/plain
X-BeenThere: test-report@dpdk.org
X-Mailman-Version: 2.1.29
Precedence: list
List-Id: automatic DPDK test reports <test-report.dpdk.org>
List-Unsubscribe: <https://mails.dpdk.org/options/test-report>,
 <mailto:test-report-request@dpdk.org?subject=unsubscribe>
List-Archive: <http://mails.dpdk.org/archives/test-report/>
List-Post: <mailto:test-report@dpdk.org>
List-Help: <mailto:test-report-request@dpdk.org?subject=help>
List-Subscribe: <https://mails.dpdk.org/listinfo/test-report>,
 <mailto:test-report-request@dpdk.org?subject=subscribe>
Errors-To: test-report-bounces@dpdk.org

Test-Label: iol-unit-arm64-testing
Test-Status: SUCCESS
http://dpdk.org/patch/139232

_Testing PASS_

Submitter: Yutang Jiang <jiangyutang@os.amperecomputing.com>
Date: Thursday, April 11 2024 09:23:32 
DPDK git baseline: Repo:dpdk
  Branch: master
  CommitID:e2e546ab5bf5e024986ccb5310ab43982f3bb40c

139232 --> testing pass

Test environment and result as below:

+-----------------------------+----------------+---------------------------+------------------------------+--------------+
|         Environment         | dpdk_unit_test | cryptodev_sw_zuc_autotest | cryptodev_sw_snow3g_autotest | lpm_autotest |
+=============================+================+===========================+==============================+==============+
| Debian 12 (arm)             | PASS           | PASS                      | PASS                         | SKIPPED      |
+-----------------------------+----------------+---------------------------+------------------------------+--------------+
| Debian 11 (Buster) (ARM)    | PASS           | SKIPPED                   | SKIPPED                      | SKIPPED      |
+-----------------------------+----------------+---------------------------+------------------------------+--------------+
| CentOS Stream 9 (ARM)       | PASS           | SKIPPED                   | SKIPPED                      | SKIPPED      |
+-----------------------------+----------------+---------------------------+------------------------------+--------------+
| Fedora 38 (ARM)             | PASS           | SKIPPED                   | SKIPPED                      | SKIPPED      |
+-----------------------------+----------------+---------------------------+------------------------------+--------------+
| Fedora 37 (ARM)             | PASS           | SKIPPED                   | SKIPPED                      | SKIPPED      |
+-----------------------------+----------------+---------------------------+------------------------------+--------------+
| Fedora 39 (ARM)             | PASS           | SKIPPED                   | SKIPPED                      | SKIPPED      |
+-----------------------------+----------------+---------------------------+------------------------------+--------------+
| Ubuntu 20.04 (ARM)          | PASS           | SKIPPED                   | SKIPPED                      | SKIPPED      |
+-----------------------------+----------------+---------------------------+------------------------------+--------------+
| 32-bit Ubuntu 20.04.4 (ARM) | PASS           | SKIPPED                   | SKIPPED                      | SKIPPED      |
+-----------------------------+----------------+---------------------------+------------------------------+--------------+
| Fedora 38 (ARM Clang)       | PASS           | SKIPPED                   | SKIPPED                      | SKIPPED      |
+-----------------------------+----------------+---------------------------+------------------------------+--------------+
| Ubuntu 20.04 ARM SVE        | SKIPPED        | SKIPPED                   | SKIPPED                      | PASS         |
+-----------------------------+----------------+---------------------------+------------------------------+--------------+


Debian 12 (arm)
	Kernel: Container Host Kernel
	Compiler: gcc 12.2.0

Debian 11 (Buster) (ARM)
	Kernel: Container Host Kernel
	Compiler: gcc 10.2.1

CentOS Stream 9 (ARM)
	Kernel: Container Host Kernel
	Compiler: gcc 11.4.1

Fedora 38 (ARM)
	Kernel: Depends on container host
	Compiler: gcc 13.2.1

Fedora 37 (ARM)
	Kernel: Depends on container host
	Compiler: gcc 12.3.1

Fedora 39 (ARM)
	Kernel: Depends on container host
	Compiler: gcc 13.2.1

Ubuntu 20.04 (ARM)
	Kernel: Container Host Kernel
	Compiler: gcc 9.4.0

32-bit Ubuntu 20.04.4 (ARM)
	Kernel: 5.4.0-155-generic aarch64
	Compiler: gcc 9.4

Fedora 38 (ARM Clang)
	Kernel: Depends on container host
	Compiler: clang 16.0.6

Ubuntu 20.04 ARM SVE
	Kernel: 5.4.0-167-generic
	Compiler: gcc (Ubuntu 10.5.0-1ubuntu1~20.04) 10.5.0

To view detailed results, visit:
https://lab.dpdk.org/results/dashboard/patchsets/29762/

UNH-IOL DPDK Community Lab

To manage your email subscriptions, visit: 
https://lab.dpdk.org/results/dashboard/preferences/subscriptions/