From mboxrd@z Thu Jan  1 00:00:00 1970
Return-Path: <test-report-bounces@dpdk.org>
Received: from mails.dpdk.org (mails.dpdk.org [217.70.189.124])
	by inbox.dpdk.org (Postfix) with ESMTP id 2F83243E51
	for <public@inbox.dpdk.org>; Fri, 12 Apr 2024 12:21:56 +0200 (CEST)
Received: from mails.dpdk.org (localhost [127.0.0.1])
	by mails.dpdk.org (Postfix) with ESMTP id 25C7340685;
	Fri, 12 Apr 2024 12:21:56 +0200 (CEST)
Received: from mail-yw1-f227.google.com (mail-yw1-f227.google.com
 [209.85.128.227])
 by mails.dpdk.org (Postfix) with ESMTP id 45C8B402A2
 for <test-report@dpdk.org>; Fri, 12 Apr 2024 12:21:54 +0200 (CEST)
Received: by mail-yw1-f227.google.com with SMTP id
 00721157ae682-615053a5252so6435797b3.1
 for <test-report@dpdk.org>; Fri, 12 Apr 2024 03:21:54 -0700 (PDT)
DKIM-Signature: v=1; a=rsa-sha256; c=relaxed/relaxed;
 d=iol.unh.edu; s=unh-iol; t=1712917313; x=1713522113; darn=dpdk.org;
 h=references:in-reply-to:cc:to:from:subject:message-id:date:from:to
 :cc:subject:date:message-id:reply-to;
 bh=W0IGpN4xWKAaRf+WLwXyEiuSUPwShja0aZeblWd1ba4=;
 b=CGaCddYGg9KENTi9w3Hy4UOR5cQF9i0eYc7PAHEE+/2mtDVtQBXvgBgwPmnZdlj1Dk
 Piorarxyx2tV16A9UTmUOH026N6igDnSIux7G26e94+iUvOOmnk8aQrjDcF3h9kW4Bme
 svEGMPIC1kHeyF/d8Nur5Hu9uAbQVbQjQ4+6U=
X-Google-DKIM-Signature: v=1; a=rsa-sha256; c=relaxed/relaxed;
 d=1e100.net; s=20230601; t=1712917313; x=1713522113;
 h=references:in-reply-to:cc:to:from:subject:message-id:date
 :x-gm-message-state:from:to:cc:subject:date:message-id:reply-to;
 bh=W0IGpN4xWKAaRf+WLwXyEiuSUPwShja0aZeblWd1ba4=;
 b=mf7stZLpzogDEVXdqFDOygo3Gu91EhOQIRVMsJr507PEoISG4lMPNqoG9L42d16xOP
 VXowuWZemBOXHPLGGIBvwn+1BVC+hcq2BJR5IyKsgJp/ikpXMXqg0F55Vh3kJdlf34hT
 mQk1E1Xoz+QkbmHnebaOnRkU8OiFodcF7Wy1Nyrsjp3oSb53QQhMHikinDGESne8uU21
 6UgFK23kZcrXZqfqUX/q7geK2R9wHY9LjPBfH3xk5QZuyqy0fa0FDG/x59dYLOR9Auk/
 voFiqPrsCSfDSBQ2fslHtKVwLV5DmUBQ0mQ1Dbs7IW7Ep08n2wUMROupfsI2T/6JN2to
 BbGQ==
X-Gm-Message-State: AOJu0Yx4mX82ZK1UkMOlm4kXjPHypqfeLu9ZzASjGg1q19O4O0zPynkf
 Cju6+k4EkZyvEh7rlAUNyOgztGrZzqbXkzHLwz4xnXhJnNig0PRfcZEMJ61WEAPYs/6UPe1sDu5
 doxBqxb6GSYPw+3qppdwsyo3ywk19lMp4BH/54aqy
X-Google-Smtp-Source: AGHT+IG5eT5vlQN+0aodlL+KZMEihivD3o4ZUl4TnM85wZaXmIe5IdpG3f5KgCo8OfimSfnRN94Zx391MjbA
X-Received: by 2002:a0d:d5d5:0:b0:618:5117:1a48 with SMTP id
 x204-20020a0dd5d5000000b0061851171a48mr1588615ywd.14.1712917313663; 
 Fri, 12 Apr 2024 03:21:53 -0700 (PDT)
Received: from postal.iol.unh.edu (postal.iol.unh.edu. [132.177.123.84])
 by smtp-relay.gmail.com with ESMTPS id
 g22-20020a0ddd16000000b0061583987880sm306588ywe.19.2024.04.12.03.21.53
 (version=TLS1_2 cipher=ECDHE-ECDSA-AES128-GCM-SHA256 bits=128/128);
 Fri, 12 Apr 2024 03:21:53 -0700 (PDT)
X-Relaying-Domain: iol.unh.edu
Date: Fri, 12 Apr 2024 03:21:53 -0700 (PDT)
Message-ID: <66190b41.0d0a0220.9db77.d5e8SMTPIN_ADDED_MISSING@mx.google.com>
Received: from [172.17.0.2] (unknown [172.18.0.217])
 by postal.iol.unh.edu (Postfix) with ESMTP id 4A630604D420;
 Fri, 12 Apr 2024 06:21:53 -0400 (EDT)
Subject: |SUCCESS| pw139232 [PATCH] [v2] config/arm: add Ampere AmpereOneX pl
From: dpdklab@iol.unh.edu
To: Test Report <test-report@dpdk.org>
Cc: dpdk-test-reports@iol.unh.edu
In-Reply-To: <20240411092332.237904-1-jiangyutang@os.amperecomputing.com>
References: <20240411092332.237904-1-jiangyutang@os.amperecomputing.com>
Content-Type: text/plain
X-BeenThere: test-report@dpdk.org
X-Mailman-Version: 2.1.29
Precedence: list
List-Id: automatic DPDK test reports <test-report.dpdk.org>
List-Unsubscribe: <https://mails.dpdk.org/options/test-report>,
 <mailto:test-report-request@dpdk.org?subject=unsubscribe>
List-Archive: <http://mails.dpdk.org/archives/test-report/>
List-Post: <mailto:test-report@dpdk.org>
List-Help: <mailto:test-report-request@dpdk.org?subject=help>
List-Subscribe: <https://mails.dpdk.org/listinfo/test-report>,
 <mailto:test-report-request@dpdk.org?subject=subscribe>
Errors-To: test-report-bounces@dpdk.org

Test-Label: iol-compile-arm64-testing
Test-Status: SUCCESS
http://dpdk.org/patch/139232

_Testing PASS_

Submitter: Yutang Jiang <jiangyutang@os.amperecomputing.com>
Date: Thursday, April 11 2024 09:23:32 
DPDK git baseline: Repo:dpdk
  Branch: master
  CommitID:e2e546ab5bf5e024986ccb5310ab43982f3bb40c

139232 --> testing pass

Test environment and result as below:

+----------------------------------------+--------------------+
|              Environment               | dpdk_meson_compile |
+========================================+====================+
| Ubuntu 20.04 ARM SVE                   | PASS               |
+----------------------------------------+--------------------+
| Debian 12 with MUSDK                   | PASS               |
+----------------------------------------+--------------------+
| Fedora 37 (ARM)                        | PASS               |
+----------------------------------------+--------------------+
| Ubuntu 20.04 ARM GCC Cross Compile     | PASS               |
+----------------------------------------+--------------------+
| Fedora 38 (ARM)                        | PASS               |
+----------------------------------------+--------------------+
| Ubuntu 20.04 ARM Clang Cross Compile   | PASS               |
+----------------------------------------+--------------------+
| Ubuntu 20.04 (ARM)                     | PASS               |
+----------------------------------------+--------------------+
| Fedora 39 (ARM)                        | PASS               |
+----------------------------------------+--------------------+
| Debian 11 (Buster) (ARM)               | PASS               |
+----------------------------------------+--------------------+
| Debian 12 (arm)                        | PASS               |
+----------------------------------------+--------------------+
| CentOS Stream 9 (ARM)                  | PASS               |
+----------------------------------------+--------------------+
| Ubuntu 20.04 aarch32 GCC Cross Compile | PASS               |
+----------------------------------------+--------------------+
| Fedora 39 (ARM Clang)                  | PASS               |
+----------------------------------------+--------------------+


Ubuntu 20.04 ARM SVE
	Kernel: 5.4.0-167-generic
	Compiler: gcc (Ubuntu 10.5.0-1ubuntu1~20.04) 10.5.0

Debian 12 with MUSDK
	Kernel: Container Host Kernel
	Compiler: gcc 12.2.0

Fedora 37 (ARM)
	Kernel: Depends on container host
	Compiler: gcc 12.3.1

Ubuntu 20.04 ARM GCC Cross Compile
	Kernel: 5.4.0-167-generic
	Compiler: aarch64-linux-gnu-gcc (Ubuntu 9.4.0-1ubuntu1~20.04.2) 9.4.0

Fedora 38 (ARM)
	Kernel: Depends on container host
	Compiler: gcc 13.2.1

Ubuntu 20.04 ARM Clang Cross Compile
	Kernel: 5.4.0-72-generic
	Compiler: clang 10.0.0-4ubuntu1

Ubuntu 20.04 (ARM)
	Kernel: Container Host Kernel
	Compiler: gcc 9.4.0

Fedora 39 (ARM)
	Kernel: Depends on container host
	Compiler: gcc 13.2.1

Debian 11 (Buster) (ARM)
	Kernel: Container Host Kernel
	Compiler: gcc 10.2.1

Debian 12 (arm)
	Kernel: Container Host Kernel
	Compiler: gcc 12.2.0

CentOS Stream 9 (ARM)
	Kernel: Container Host Kernel
	Compiler: gcc 11.4.1

Ubuntu 20.04 aarch32 GCC Cross Compile
	Kernel: 5.4.0-167-generic
	Compiler: gcc 9.4.0

Fedora 39 (ARM Clang)
	Kernel: Depends on container host
	Compiler: clang 17.0.6

To view detailed results, visit:
https://lab.dpdk.org/results/dashboard/patchsets/29762/

UNH-IOL DPDK Community Lab

To manage your email subscriptions, visit: 
https://lab.dpdk.org/results/dashboard/preferences/subscriptions/