From mboxrd@z Thu Jan  1 00:00:00 1970
Return-Path: <test-report-bounces@dpdk.org>
Received: from mails.dpdk.org (mails.dpdk.org [217.70.189.124])
	by inbox.dpdk.org (Postfix) with ESMTP id D86A143E52
	for <public@inbox.dpdk.org>; Fri, 12 Apr 2024 14:30:55 +0200 (CEST)
Received: from mails.dpdk.org (localhost [127.0.0.1])
	by mails.dpdk.org (Postfix) with ESMTP id D48D4402A8;
	Fri, 12 Apr 2024 14:30:55 +0200 (CEST)
Received: from mail-pl1-f225.google.com (mail-pl1-f225.google.com
 [209.85.214.225])
 by mails.dpdk.org (Postfix) with ESMTP id 3E06F402A2
 for <test-report@dpdk.org>; Fri, 12 Apr 2024 14:30:54 +0200 (CEST)
Received: by mail-pl1-f225.google.com with SMTP id
 d9443c01a7336-1e3ca546d40so6342435ad.3
 for <test-report@dpdk.org>; Fri, 12 Apr 2024 05:30:54 -0700 (PDT)
DKIM-Signature: v=1; a=rsa-sha256; c=relaxed/relaxed;
 d=iol.unh.edu; s=unh-iol; t=1712925053; x=1713529853; darn=dpdk.org;
 h=references:in-reply-to:cc:to:from:subject:message-id:date:from:to
 :cc:subject:date:message-id:reply-to;
 bh=cbNvQEy/xjP7jSp+lmv+kMT1mxIUECtDekVP6P/GKLI=;
 b=HZXoGQwFZNEHJWAGRg3TqqZpw1lonmR8ih1raxxyGpcBmHTDKDF96aRpGt81+8rWwR
 KgMax5Bi98sLUghlVm8bmzQBX89aaTuJtZ/uzM1RG7sJHGY9YlnUwVWCtTc0zxKkw98P
 xOZr1JELi0EwSEayrRote2fbgKh5beHclzZpE=
X-Google-DKIM-Signature: v=1; a=rsa-sha256; c=relaxed/relaxed;
 d=1e100.net; s=20230601; t=1712925053; x=1713529853;
 h=references:in-reply-to:cc:to:from:subject:message-id:date
 :x-gm-message-state:from:to:cc:subject:date:message-id:reply-to;
 bh=cbNvQEy/xjP7jSp+lmv+kMT1mxIUECtDekVP6P/GKLI=;
 b=jXjYFdEbhtLNI+StTcotZ3lkTqEf+L55hlCiaqNAVF1Jqb5DqU//7TsTY9GPbfj3m0
 jD9U0LYlRCWP7W7fz51EJtBB2acDOsdDM+yidoJs3E3/vSyFtgAsAwpX/E3Hfe8nDe7m
 DlKoWIymhOsiERjfRXnSXtT7l7WP9CEqJ3OPUBVxJQhaWxQ6jXWMOR6e1lq3K3jPUUrY
 J4UqjLrzEdX883lic8AxocKECdQZyxafJbsE1agy80dvST5DAQhURlXRpZhKc9KGVkbg
 QMT3vpz9vyPR+8igXU0wkRivXr/xyRlHKajYn5J8sLICe3h5UkzSG8eiek8yVX2PxkkW
 34Yg==
X-Gm-Message-State: AOJu0YwlIx55j1A9HM7/MhZVv+l+pxkBBeBEa6tsEROF2P6wGTjtMsuY
 IfKdoI/a7Es0f6KZcrV7vCkZLAxar/wfRedBMZ+9tRrImoqPbUhwReeVF0snCjBSHHJuSJiEZmZ
 izShM55sIdW13lBW6oXumcpK76DJWeU4gSd04HKahB2bi0D5bZ3Hikd7l
X-Google-Smtp-Source: AGHT+IHQmrJgbBIXdiU7tClkGxh02kTn4P7iK9bEu/C1foGlNVOkYwJKr7RIt4QJaFIliJiUz6DtXQ/wAqQV
X-Received: by 2002:a17:902:6f16:b0:1e2:5e32:4444 with SMTP id
 w22-20020a1709026f1600b001e25e324444mr2248191plk.10.1712925053446; 
 Fri, 12 Apr 2024 05:30:53 -0700 (PDT)
Received: from postal.iol.unh.edu (postal.iol.unh.edu.
 [2606:4100:3880:1234::84]) by smtp-relay.gmail.com with ESMTPS id
 kd3-20020a17090313c300b001e0acb18465sm161738plb.49.2024.04.12.05.30.53
 (version=TLS1_2 cipher=ECDHE-ECDSA-AES128-GCM-SHA256 bits=128/128);
 Fri, 12 Apr 2024 05:30:53 -0700 (PDT)
X-Relaying-Domain: iol.unh.edu
Date: Fri, 12 Apr 2024 05:30:53 -0700 (PDT)
Message-ID: <6619297d.170a0220.50064.54dcSMTPIN_ADDED_MISSING@mx.google.com>
Received: from [172.21.0.7] (unknown [172.18.0.240])
 by postal.iol.unh.edu (Postfix) with ESMTP id 517DF604D420;
 Fri, 12 Apr 2024 08:30:52 -0400 (EDT)
Subject: |SUCCESS| pw139242-139243 [PATCH] [2/2] ARM64: Cross-Compilation Sup
From: dpdklab@iol.unh.edu
To: Test Report <test-report@dpdk.org>
Cc: dpdk-test-reports@iol.unh.edu
In-Reply-To: <20240412111317.3530529-2-sebastian.brzezinka@intel.com>
References: <20240412111317.3530529-2-sebastian.brzezinka@intel.com>
Content-Type: text/plain
X-BeenThere: test-report@dpdk.org
X-Mailman-Version: 2.1.29
Precedence: list
List-Id: automatic DPDK test reports <test-report.dpdk.org>
List-Unsubscribe: <https://mails.dpdk.org/options/test-report>,
 <mailto:test-report-request@dpdk.org?subject=unsubscribe>
List-Archive: <http://mails.dpdk.org/archives/test-report/>
List-Post: <mailto:test-report@dpdk.org>
List-Help: <mailto:test-report-request@dpdk.org?subject=help>
List-Subscribe: <https://mails.dpdk.org/listinfo/test-report>,
 <mailto:test-report-request@dpdk.org?subject=subscribe>
Errors-To: test-report-bounces@dpdk.org

Test-Label: iol-unit-arm64-testing
Test-Status: SUCCESS
http://dpdk.org/patch/139243

_Testing PASS_

Submitter: Sebastian Brzezinka <sebastian.brzezinka@intel.com>
Date: Friday, April 12 2024 11:13:17 
DPDK git baseline: Repo:dpdk
  Branch: master
  CommitID:e2e546ab5bf5e024986ccb5310ab43982f3bb40c

139242-139243 --> testing pass

Test environment and result as below:

+-----------------------------+------------------------------+---------------------------+----------------+--------------+
|         Environment         | cryptodev_sw_snow3g_autotest | cryptodev_sw_zuc_autotest | dpdk_unit_test | lpm_autotest |
+=============================+==============================+===========================+================+==============+
| Debian 12 (arm)             | PASS                         | PASS                      | PASS           | SKIPPED      |
+-----------------------------+------------------------------+---------------------------+----------------+--------------+
| Debian 11 (Buster) (ARM)    | SKIPPED                      | SKIPPED                   | PASS           | SKIPPED      |
+-----------------------------+------------------------------+---------------------------+----------------+--------------+
| CentOS Stream 9 (ARM)       | SKIPPED                      | SKIPPED                   | PASS           | SKIPPED      |
+-----------------------------+------------------------------+---------------------------+----------------+--------------+
| Fedora 37 (ARM)             | SKIPPED                      | SKIPPED                   | PASS           | SKIPPED      |
+-----------------------------+------------------------------+---------------------------+----------------+--------------+
| Fedora 38 (ARM)             | SKIPPED                      | SKIPPED                   | PASS           | SKIPPED      |
+-----------------------------+------------------------------+---------------------------+----------------+--------------+
| Ubuntu 20.04 (ARM)          | SKIPPED                      | SKIPPED                   | PASS           | SKIPPED      |
+-----------------------------+------------------------------+---------------------------+----------------+--------------+
| Fedora 39 (ARM)             | SKIPPED                      | SKIPPED                   | PASS           | SKIPPED      |
+-----------------------------+------------------------------+---------------------------+----------------+--------------+
| 32-bit Ubuntu 20.04.4 (ARM) | SKIPPED                      | SKIPPED                   | PASS           | SKIPPED      |
+-----------------------------+------------------------------+---------------------------+----------------+--------------+
| Ubuntu 20.04 ARM SVE        | SKIPPED                      | SKIPPED                   | SKIPPED        | PASS         |
+-----------------------------+------------------------------+---------------------------+----------------+--------------+


Debian 12 (arm)
	Kernel: Container Host Kernel
	Compiler: gcc 12.2.0

Debian 11 (Buster) (ARM)
	Kernel: Container Host Kernel
	Compiler: gcc 10.2.1

CentOS Stream 9 (ARM)
	Kernel: Container Host Kernel
	Compiler: gcc 11.4.1

Fedora 37 (ARM)
	Kernel: Depends on container host
	Compiler: gcc 12.3.1

Fedora 38 (ARM)
	Kernel: Depends on container host
	Compiler: gcc 13.2.1

Ubuntu 20.04 (ARM)
	Kernel: Container Host Kernel
	Compiler: gcc 9.4.0

Fedora 39 (ARM)
	Kernel: Depends on container host
	Compiler: gcc 13.2.1

32-bit Ubuntu 20.04.4 (ARM)
	Kernel: 5.4.0-155-generic aarch64
	Compiler: gcc 9.4

Ubuntu 20.04 ARM SVE
	Kernel: 5.4.0-167-generic
	Compiler: gcc (Ubuntu 10.5.0-1ubuntu1~20.04) 10.5.0

To view detailed results, visit:
https://lab.dpdk.org/results/dashboard/patchsets/29766/

UNH-IOL DPDK Community Lab

To manage your email subscriptions, visit: 
https://lab.dpdk.org/results/dashboard/preferences/subscriptions/