From mboxrd@z Thu Jan  1 00:00:00 1970
Return-Path: <test-report-bounces@dpdk.org>
Received: from mails.dpdk.org (mails.dpdk.org [217.70.189.124])
	by inbox.dpdk.org (Postfix) with ESMTP id 861C443E52
	for <public@inbox.dpdk.org>; Fri, 12 Apr 2024 14:32:30 +0200 (CEST)
Received: from mails.dpdk.org (localhost [127.0.0.1])
	by mails.dpdk.org (Postfix) with ESMTP id 811FB402A8;
	Fri, 12 Apr 2024 14:32:30 +0200 (CEST)
Received: from mail-pl1-f228.google.com (mail-pl1-f228.google.com
 [209.85.214.228])
 by mails.dpdk.org (Postfix) with ESMTP id 6F46C402A2
 for <test-report@dpdk.org>; Fri, 12 Apr 2024 14:32:28 +0200 (CEST)
Received: by mail-pl1-f228.google.com with SMTP id
 d9443c01a7336-1e2c725e234so14102585ad.1
 for <test-report@dpdk.org>; Fri, 12 Apr 2024 05:32:28 -0700 (PDT)
DKIM-Signature: v=1; a=rsa-sha256; c=relaxed/relaxed;
 d=iol.unh.edu; s=unh-iol; t=1712925147; x=1713529947; darn=dpdk.org;
 h=references:in-reply-to:cc:to:from:subject:message-id:date:from:to
 :cc:subject:date:message-id:reply-to;
 bh=MQFxAKxAkOtQMVrkgDfrEVNBav6MtIrIUBSZR+Q8w/E=;
 b=flYRU8k4Z6AIg5Nwj17tR+9jNPjrhOx6f6j6FM+IAmGTmmsZ0YBPM9vq1GBLM98lFq
 TGXqnvfDTc8yyo9HiGymGztVEpfhpW1GLbnjfq1n7cXKbxlvlt642KbFOWNYphPYPYoO
 VV00JC0pVcLJg/gJwBW1tm+Vc9mmSla4lAxIg=
X-Google-DKIM-Signature: v=1; a=rsa-sha256; c=relaxed/relaxed;
 d=1e100.net; s=20230601; t=1712925147; x=1713529947;
 h=references:in-reply-to:cc:to:from:subject:message-id:date
 :x-gm-message-state:from:to:cc:subject:date:message-id:reply-to;
 bh=MQFxAKxAkOtQMVrkgDfrEVNBav6MtIrIUBSZR+Q8w/E=;
 b=eZrkKtM0fXlo5S/rDZHjW+JUJs38wElkTxgaCKOqfkMC5LmiW6mzHRcfTar8PwZn+3
 j+5hsSFL/X3NeGsjgu+9BjdaBbAOjqW5RZOhn7OR3rQ2CiR3K0d/u3M3tpwWwCyCJX+2
 Pf8CqG/7DfEQggJTRZu7oUZ8BJJN+IDk3m3DEs59pY4c2UhtyXJ03lFVE0g2vDO1rpsz
 fEJ4N+jsvAe1qSXGMqaI6FyfmkRPnH0yyWWcBvTyr0O5BmbEYCUyt2JCXwPAYi+KLuT0
 ER8zaI6PhBdxbGelHK5k6sm1WMNg7dfv7FK7va30UhxDP44yUB13wp46+daE5GFTjfNW
 2yjA==
X-Gm-Message-State: AOJu0YydFCN193eT53g2wBxpQTHhRMPVleh3NptcsyeF5vrl5pamx59b
 nlyAU4sBRsXfVlJISLtDh+ai1cZDHoAduv1v3OS3f5OsVVrUcDvRH0u2jprbiOGNBdcd/Ya5I2D
 czi7Nxx09coYJoQtH8OTWlQrOZZAhSiiZmcQSLRRp
X-Google-Smtp-Source: AGHT+IHS5ct43clSJ0XEO5Q/v3vwh77QEOrmj2SYEWIw4vJjYqiIliN7M0TJhOLXR3UjtBBzp4XlezbAgtV3
X-Received: by 2002:a17:903:1c4:b0:1e0:a2cf:62e8 with SMTP id
 e4-20020a17090301c400b001e0a2cf62e8mr7539678plh.10.1712925147565; 
 Fri, 12 Apr 2024 05:32:27 -0700 (PDT)
Received: from postal.iol.unh.edu (postal.iol.unh.edu. [132.177.123.84])
 by smtp-relay.gmail.com with ESMTPS id
 w1-20020a1709029a8100b001e20be10819sm151280plp.31.2024.04.12.05.32.27
 (version=TLS1_2 cipher=ECDHE-ECDSA-AES128-GCM-SHA256 bits=128/128);
 Fri, 12 Apr 2024 05:32:27 -0700 (PDT)
X-Relaying-Domain: iol.unh.edu
Date: Fri, 12 Apr 2024 05:32:27 -0700 (PDT)
Message-ID: <661929db.170a0220.8ba52.54a0SMTPIN_ADDED_MISSING@mx.google.com>
Received: from [172.17.0.3] (unknown [172.18.0.217])
 by postal.iol.unh.edu (Postfix) with ESMTP id 6F9C3604D420;
 Fri, 12 Apr 2024 08:32:26 -0400 (EDT)
Subject: |SUCCESS| pw139242-139243 [PATCH] [2/2] ARM64: Cross-Compilation Sup
From: dpdklab@iol.unh.edu
To: Test Report <test-report@dpdk.org>
Cc: dpdk-test-reports@iol.unh.edu
In-Reply-To: <20240412111317.3530529-2-sebastian.brzezinka@intel.com>
References: <20240412111317.3530529-2-sebastian.brzezinka@intel.com>
Content-Type: text/plain
X-BeenThere: test-report@dpdk.org
X-Mailman-Version: 2.1.29
Precedence: list
List-Id: automatic DPDK test reports <test-report.dpdk.org>
List-Unsubscribe: <https://mails.dpdk.org/options/test-report>,
 <mailto:test-report-request@dpdk.org?subject=unsubscribe>
List-Archive: <http://mails.dpdk.org/archives/test-report/>
List-Post: <mailto:test-report@dpdk.org>
List-Help: <mailto:test-report-request@dpdk.org?subject=help>
List-Subscribe: <https://mails.dpdk.org/listinfo/test-report>,
 <mailto:test-report-request@dpdk.org?subject=subscribe>
Errors-To: test-report-bounces@dpdk.org

Test-Label: iol-unit-amd64-testing
Test-Status: SUCCESS
http://dpdk.org/patch/139243

_Testing PASS_

Submitter: Sebastian Brzezinka <sebastian.brzezinka@intel.com>
Date: Friday, April 12 2024 11:13:17 
DPDK git baseline: Repo:dpdk
  Branch: master
  CommitID:e2e546ab5bf5e024986ccb5310ab43982f3bb40c

139242-139243 --> testing pass

Test environment and result as below:

+---------------------+----------------+
|     Environment     | dpdk_unit_test |
+=====================+================+
| CentOS Stream 8     | PASS           |
+---------------------+----------------+
| Windows Server 2019 | PASS           |
+---------------------+----------------+
| Debian Bullseye     | PASS           |
+---------------------+----------------+
| Debian 12           | PASS           |
+---------------------+----------------+
| Fedora 38           | PASS           |
+---------------------+----------------+
| Fedora 39           | PASS           |
+---------------------+----------------+
| Fedora 37           | PASS           |
+---------------------+----------------+
| Ubuntu 20.04        | PASS           |
+---------------------+----------------+
| Ubuntu 22.04        | PASS           |
+---------------------+----------------+


CentOS Stream 8
	Kernel: 5.4.0-167-generic
	Compiler: gcc 8.5.0 20210514

Windows Server 2019
	Kernel: 10.0.17763
	Compiler: clang 14.0 and gcc 8.1.0 (MinGW)

Debian Bullseye
	Kernel: 5.4.0-167-generic
	Compiler: gcc 10.2.1-6

Debian 12
	Kernel: Container Host Kernel
	Compiler: gcc 10.2.1

Fedora 38
	Kernel: Depends on container host
	Compiler: gcc 13.2.1

Fedora 39
	Kernel: Depends on container host
	Compiler: gcc 13.2.1

Fedora 37
	Kernel: Depends on container host system
	Compiler: gcc 12.3.1

Ubuntu 20.04
	Kernel: 5.4.0-167-generic
	Compiler: gcc 9.4.0-1ubuntu1~20.04.1

Ubuntu 22.04
	Kernel: 5.4.0-167-generic
	Compiler: gcc 11.4.0

To view detailed results, visit:
https://lab.dpdk.org/results/dashboard/patchsets/29766/

UNH-IOL DPDK Community Lab

To manage your email subscriptions, visit: 
https://lab.dpdk.org/results/dashboard/preferences/subscriptions/