From mboxrd@z Thu Jan  1 00:00:00 1970
Return-Path: <test-report-bounces@dpdk.org>
Received: from mails.dpdk.org (mails.dpdk.org [217.70.189.124])
	by inbox.dpdk.org (Postfix) with ESMTP id 368B443E52
	for <public@inbox.dpdk.org>; Fri, 12 Apr 2024 15:40:30 +0200 (CEST)
Received: from mails.dpdk.org (localhost [127.0.0.1])
	by mails.dpdk.org (Postfix) with ESMTP id 3281A42DC0;
	Fri, 12 Apr 2024 15:40:30 +0200 (CEST)
Received: from mail-pf1-f228.google.com (mail-pf1-f228.google.com
 [209.85.210.228])
 by mails.dpdk.org (Postfix) with ESMTP id 8ABEE40295
 for <test-report@dpdk.org>; Fri, 12 Apr 2024 15:40:28 +0200 (CEST)
Received: by mail-pf1-f228.google.com with SMTP id
 d2e1a72fcca58-6ed627829e6so920893b3a.1
 for <test-report@dpdk.org>; Fri, 12 Apr 2024 06:40:28 -0700 (PDT)
DKIM-Signature: v=1; a=rsa-sha256; c=relaxed/relaxed;
 d=iol.unh.edu; s=unh-iol; t=1712929227; x=1713534027; darn=dpdk.org;
 h=references:in-reply-to:cc:to:from:subject:message-id:date:from:to
 :cc:subject:date:message-id:reply-to;
 bh=dDo5YDR8wRDkEJ1ANvwNYNhIlh+mj0QegE0LzrnAwv8=;
 b=ZKMQk7WoGiF2tet6tOLklRkM9NDrQXVmxnuh1GGGiT2vBgtkbxJIvOojx/5ISHoIZ1
 xBPNJx0hmDrBraubU8GmoFF60C11sHM96bmcUcTWr+h9j0VY6zRcsx8Z5n16PQueVh+F
 IESXw1N4UoMTB11kQkNcFUpiPeOp0iJaL1u00=
X-Google-DKIM-Signature: v=1; a=rsa-sha256; c=relaxed/relaxed;
 d=1e100.net; s=20230601; t=1712929227; x=1713534027;
 h=references:in-reply-to:cc:to:from:subject:message-id:date
 :x-gm-message-state:from:to:cc:subject:date:message-id:reply-to;
 bh=dDo5YDR8wRDkEJ1ANvwNYNhIlh+mj0QegE0LzrnAwv8=;
 b=RLBL1/YmD2CpzH4IagjHT8PtgaFC9R2F5kVeOzlzXCuyRf0K7EHJajiHqr7M0hVPIS
 n8B0CsSTXIyPLj7Xplkd1KDBSJydpHXTxpNY9DX4lw8R0gdbdGmd35NhKCcm71ZnzK4m
 JOApbqqk3jzpx/bKE7k93GEiItBxo+aZcNtkEcig+meKRe/bZ3Mu3FI5bKjX/SFjsD5Q
 UZisgI7pKJn5tNDh9aVCoXpcqiskj/h2aFc9HAw8zIWaDvQIm6ZoskDJ/sPYeKwYSujy
 J/2wZdJJmkzfGtEouRXy+QNOq5XZK5jnOUXBBByxCFCabqKf4Bl5Dh7pYcV0eB02ovWM
 2mrQ==
X-Gm-Message-State: AOJu0Yy7InS9Mp6hc716cRXKWYt0DgjJm2APnmmzKJkYg8oLUjj5I4q5
 jw6AqWtcCOFAUpV9xA27E8Uqd1yKKiI0Mh2anAu0syHTHggyzBo0iiUF4gmRZ6Q4CtmvYwnE5r/
 cm6VeL4GRFIZS5+SCKYnAMki0e06Fly9lq/Q3rO+/
X-Google-Smtp-Source: AGHT+IHk6os+BbMSl6eEkpkqVt/tXrOg1EMK4RkmdsAaQjp0ULsyir/Gq7Q6vQvxt0I2r8KWOEuX0g+Ay9L9
X-Received: by 2002:a05:6a20:2450:b0:1a7:136c:c940 with SMTP id
 t16-20020a056a20245000b001a7136cc940mr3572269pzc.17.1712929227698; 
 Fri, 12 Apr 2024 06:40:27 -0700 (PDT)
Received: from postal.iol.unh.edu (postal.iol.unh.edu. [132.177.123.84])
 by smtp-relay.gmail.com with ESMTPS id
 v9-20020a1709029a0900b001e0ae6906b5sm160863plp.101.2024.04.12.06.40.27
 (version=TLS1_2 cipher=ECDHE-ECDSA-AES128-GCM-SHA256 bits=128/128);
 Fri, 12 Apr 2024 06:40:27 -0700 (PDT)
X-Relaying-Domain: iol.unh.edu
Date: Fri, 12 Apr 2024 06:40:27 -0700 (PDT)
Message-ID: <661939cb.170a0220.5ac40.54beSMTPIN_ADDED_MISSING@mx.google.com>
Received: from [172.21.0.7] (unknown [172.18.0.240])
 by postal.iol.unh.edu (Postfix) with ESMTP id 2CC5B604D420;
 Fri, 12 Apr 2024 09:40:27 -0400 (EDT)
Subject: |SUCCESS| pw139234-139236 [PATCH] [v4,3/3] dts: add API doc generati
From: dpdklab@iol.unh.edu
To: Test Report <test-report@dpdk.org>
Cc: dpdk-test-reports@iol.unh.edu
In-Reply-To: <20240412101405.94377-4-juraj.linkes@pantheon.tech>
References: <20240412101405.94377-4-juraj.linkes@pantheon.tech>
Content-Type: text/plain
X-BeenThere: test-report@dpdk.org
X-Mailman-Version: 2.1.29
Precedence: list
List-Id: automatic DPDK test reports <test-report.dpdk.org>
List-Unsubscribe: <https://mails.dpdk.org/options/test-report>,
 <mailto:test-report-request@dpdk.org?subject=unsubscribe>
List-Archive: <http://mails.dpdk.org/archives/test-report/>
List-Post: <mailto:test-report@dpdk.org>
List-Help: <mailto:test-report-request@dpdk.org?subject=help>
List-Subscribe: <https://mails.dpdk.org/listinfo/test-report>,
 <mailto:test-report-request@dpdk.org?subject=subscribe>
Errors-To: test-report-bounces@dpdk.org

Test-Label: iol-abi-testing
Test-Status: SUCCESS
http://dpdk.org/patch/139236

_Testing PASS_

Submitter: Juraj Linkes <juraj.linkes@pantheon.tech>
Date: Friday, April 12 2024 10:14:05 
DPDK git baseline: Repo:dpdk
  Branch: master
  CommitID:98b4ecb4e4d73e93fdfa53f552b48d71104b445f

139234-139236 --> testing pass

Test environment and result as below:

+------------------+----------+
|   Environment    | abi_test |
+==================+==========+
| CentOS Stream 8  | PASS     |
+------------------+----------+
| CentOS Stream 9  | PASS     |
+------------------+----------+
| Fedora 39        | PASS     |
+------------------+----------+
| Fedora 38        | PASS     |
+------------------+----------+
| openSUSE Leap 15 | PASS     |
+------------------+----------+
| Ubuntu 22.04     | PASS     |
+------------------+----------+
| Debian Bullseye  | PASS     |
+------------------+----------+
| RHEL8            | PASS     |
+------------------+----------+


CentOS Stream 8
	Kernel: 5.4.0-167-generic
	Compiler: gcc 8.5.0 20210514

CentOS Stream 9
	Kernel: 5.4.0-167-generic
	Compiler: gcc 11.4.1 20230605

Fedora 39
	Kernel: Depends on container host
	Compiler: clang 17.0.6

Fedora 38
	Kernel: Depends on container host
	Compiler: clang 16.0.6

openSUSE Leap 15
	Kernel: 5.4.0-167-generic
	Compiler: gcc 7.5.0

Ubuntu 22.04
	Kernel: 5.4.0-167-generic
	Compiler: gcc 11.4.0

Debian Bullseye
	Kernel: 5.4.0-167-generic
	Compiler: gcc 10.2.1-6

RHEL8
	Kernel: 5.4.0-167-generic
	Compiler: gcc 8.5.0 20210514 (Red Hat 8.5.0-20)

To view detailed results, visit:
https://lab.dpdk.org/results/dashboard/patchsets/29764/

UNH-IOL DPDK Community Lab

To manage your email subscriptions, visit: 
https://lab.dpdk.org/results/dashboard/preferences/subscriptions/