From mboxrd@z Thu Jan  1 00:00:00 1970
Return-Path: <test-report-bounces@dpdk.org>
Received: from mails.dpdk.org (mails.dpdk.org [217.70.189.124])
	by inbox.dpdk.org (Postfix) with ESMTP id C0D2043E52
	for <public@inbox.dpdk.org>; Fri, 12 Apr 2024 15:53:34 +0200 (CEST)
Received: from mails.dpdk.org (localhost [127.0.0.1])
	by mails.dpdk.org (Postfix) with ESMTP id 9A37E40DF5;
	Fri, 12 Apr 2024 15:53:34 +0200 (CEST)
Received: from mail-pl1-f228.google.com (mail-pl1-f228.google.com
 [209.85.214.228])
 by mails.dpdk.org (Postfix) with ESMTP id 06F0740295
 for <test-report@dpdk.org>; Fri, 12 Apr 2024 15:53:34 +0200 (CEST)
Received: by mail-pl1-f228.google.com with SMTP id
 d9443c01a7336-1e424bd30fbso7745145ad.0
 for <test-report@dpdk.org>; Fri, 12 Apr 2024 06:53:33 -0700 (PDT)
DKIM-Signature: v=1; a=rsa-sha256; c=relaxed/relaxed;
 d=iol.unh.edu; s=unh-iol; t=1712930013; x=1713534813; darn=dpdk.org;
 h=references:in-reply-to:cc:to:from:subject:message-id:date:from:to
 :cc:subject:date:message-id:reply-to;
 bh=S0m3DzQnBnheXhlD8PL7i9jKDqp2/ME0m6KPnyk/kCc=;
 b=asdckaxZrWpW3WgaewsVrHe/+Jv9eqbxJwuw7SfLtKsnbhDYCJD7usZiatXiX6+YM6
 zihV6Z25CHmvwCG83V/mWBDfPQzut13k6W7FWt9pfAnkqDPYrJbe5wduygJx44wcKo2W
 45QodtLd9iwJ0uRNA6qTm55FEaVPR8nmLWv1A=
X-Google-DKIM-Signature: v=1; a=rsa-sha256; c=relaxed/relaxed;
 d=1e100.net; s=20230601; t=1712930013; x=1713534813;
 h=references:in-reply-to:cc:to:from:subject:message-id:date
 :x-gm-message-state:from:to:cc:subject:date:message-id:reply-to;
 bh=S0m3DzQnBnheXhlD8PL7i9jKDqp2/ME0m6KPnyk/kCc=;
 b=DBIUf0k0YapOdnUge9/ZZSygY5vNaUttxT71w/FA52sWTG/UCbc0Zh3rd6DKO39/WZ
 qAYgI2y4GaDg8CIFslmMzpSsWSUJ+9slAzLX5YosrEmKuSaNGkdxNtgwiE6UbVRNdy0B
 I0auw/5/GLd5PKqRr/czBvAU6B6Yzc5Qon7zMcMXqtMjm5L8Rt6PNQ3o3izCAg7xkUob
 c2CKdOHPH5dfIJE+ajaTPe1wKuLuBqvGu+kCdr2HHXpRhiO01WBEdSCD8FkozxPRKbBd
 R9CgauyNNn4k/RQk9FX2tP67SZUOcLx4jLUxMHY2eZiGHzbR3j52p6kLCue7ImwMuxzg
 oZ/Q==
X-Gm-Message-State: AOJu0YzscA2mRNnGG8b2/MUDOdGYCTPTgpmTpPY1Xe3eOF3sTQTZFIzS
 hCyAhk3eri9EjjCnfjt7cJLbJ6XZ8YvZESdP4/DQnbAe54BD38NdYVi7hLd4o/xWp1m9UHO+LMz
 HgtXFGwqRN17MqmROlXcb9zNFmDMxy8iR1y342vqa
X-Google-Smtp-Source: AGHT+IGVJ1yKAfL3910tvQ/Odo/i1L6efNoW5SQBbY8/4wPzqBVSLzf5gg3Z8i61ifgtDoPYqUuZtzXKDrii
X-Received: by 2002:a17:903:22c2:b0:1e4:1932:b0a5 with SMTP id
 y2-20020a17090322c200b001e41932b0a5mr2746108plg.68.1712930013138; 
 Fri, 12 Apr 2024 06:53:33 -0700 (PDT)
Received: from postal.iol.unh.edu (postal.iol.unh.edu. [132.177.123.84])
 by smtp-relay.gmail.com with ESMTPS id
 o15-20020a17090323cf00b001e25f8ce7cfsm166915plh.35.2024.04.12.06.53.33
 (version=TLS1_2 cipher=ECDHE-ECDSA-AES128-GCM-SHA256 bits=128/128);
 Fri, 12 Apr 2024 06:53:33 -0700 (PDT)
X-Relaying-Domain: iol.unh.edu
Date: Fri, 12 Apr 2024 06:53:33 -0700 (PDT)
Message-ID: <66193cdd.170a0220.847ef.5c15SMTPIN_ADDED_MISSING@mx.google.com>
Received: from [172.21.0.7] (unknown [172.18.0.240])
 by postal.iol.unh.edu (Postfix) with ESMTP id 49DC0604D420;
 Fri, 12 Apr 2024 09:53:32 -0400 (EDT)
Subject: |SUCCESS| pw139234-139236 [PATCH] [v4,3/3] dts: add API doc generati
From: dpdklab@iol.unh.edu
To: Test Report <test-report@dpdk.org>
Cc: dpdk-test-reports@iol.unh.edu
In-Reply-To: <20240412101405.94377-4-juraj.linkes@pantheon.tech>
References: <20240412101405.94377-4-juraj.linkes@pantheon.tech>
Content-Type: text/plain
X-BeenThere: test-report@dpdk.org
X-Mailman-Version: 2.1.29
Precedence: list
List-Id: automatic DPDK test reports <test-report.dpdk.org>
List-Unsubscribe: <https://mails.dpdk.org/options/test-report>,
 <mailto:test-report-request@dpdk.org?subject=unsubscribe>
List-Archive: <http://mails.dpdk.org/archives/test-report/>
List-Post: <mailto:test-report@dpdk.org>
List-Help: <mailto:test-report-request@dpdk.org?subject=help>
List-Subscribe: <https://mails.dpdk.org/listinfo/test-report>,
 <mailto:test-report-request@dpdk.org?subject=subscribe>
Errors-To: test-report-bounces@dpdk.org

Test-Label: iol-compile-arm64-testing
Test-Status: SUCCESS
http://dpdk.org/patch/139236

_Testing PASS_

Submitter: Juraj Linkes <juraj.linkes@pantheon.tech>
Date: Friday, April 12 2024 10:14:05 
DPDK git baseline: Repo:dpdk
  Branch: master
  CommitID:98b4ecb4e4d73e93fdfa53f552b48d71104b445f

139234-139236 --> testing pass

Test environment and result as below:

+----------------------+--------------------+
|     Environment      | dpdk_meson_compile |
+======================+====================+
| Ubuntu 20.04 ARM SVE | PASS               |
+----------------------+--------------------+
| Debian 12 with MUSDK | PASS               |
+----------------------+--------------------+
| Ubuntu 20.04 (ARM)   | PASS               |
+----------------------+--------------------+


Ubuntu 20.04 ARM SVE
	Kernel: 5.4.0-167-generic
	Compiler: gcc (Ubuntu 10.5.0-1ubuntu1~20.04) 10.5.0

Debian 12 with MUSDK
	Kernel: Container Host Kernel
	Compiler: gcc 12.2.0

Ubuntu 20.04 (ARM)
	Kernel: Container Host Kernel
	Compiler: gcc 9.4.0

To view detailed results, visit:
https://lab.dpdk.org/results/dashboard/patchsets/29764/

UNH-IOL DPDK Community Lab

To manage your email subscriptions, visit: 
https://lab.dpdk.org/results/dashboard/preferences/subscriptions/