From mboxrd@z Thu Jan  1 00:00:00 1970
Return-Path: <test-report-bounces@dpdk.org>
Received: from mails.dpdk.org (mails.dpdk.org [217.70.189.124])
	by inbox.dpdk.org (Postfix) with ESMTP id 6BFA943E53
	for <public@inbox.dpdk.org>; Fri, 12 Apr 2024 16:18:21 +0200 (CEST)
Received: from mails.dpdk.org (localhost [127.0.0.1])
	by mails.dpdk.org (Postfix) with ESMTP id 66847402A8;
	Fri, 12 Apr 2024 16:18:21 +0200 (CEST)
Received: from mail-pg1-f228.google.com (mail-pg1-f228.google.com
 [209.85.215.228])
 by mails.dpdk.org (Postfix) with ESMTP id B9B9A40295
 for <test-report@dpdk.org>; Fri, 12 Apr 2024 16:18:19 +0200 (CEST)
Received: by mail-pg1-f228.google.com with SMTP id
 41be03b00d2f7-5e42b4bbfa4so576122a12.1
 for <test-report@dpdk.org>; Fri, 12 Apr 2024 07:18:19 -0700 (PDT)
DKIM-Signature: v=1; a=rsa-sha256; c=relaxed/relaxed;
 d=iol.unh.edu; s=unh-iol; t=1712931499; x=1713536299; darn=dpdk.org;
 h=references:in-reply-to:cc:to:from:subject:message-id:date:from:to
 :cc:subject:date:message-id:reply-to;
 bh=lBB7Rqu9guJu4Z/H1R+mRv4oKPn+JkxC8VPaE1vaNjM=;
 b=Wnov+w5i2m2SeLBOg4TSrLuFbvg5E7yJXq6yCV0SjVlVD4DGlSs8pSDAFPeuKMOOKM
 QoDFRiHf1nmQ74BwSymVNGPIRFcmWYU+le0fJPjYy2xlwA8Z9wzwQQXSw7unIj75HzDr
 OCylr1bjAbD8an8gfOqQWkHQWTDa1eRDE1TPg=
X-Google-DKIM-Signature: v=1; a=rsa-sha256; c=relaxed/relaxed;
 d=1e100.net; s=20230601; t=1712931499; x=1713536299;
 h=references:in-reply-to:cc:to:from:subject:message-id:date
 :x-gm-message-state:from:to:cc:subject:date:message-id:reply-to;
 bh=lBB7Rqu9guJu4Z/H1R+mRv4oKPn+JkxC8VPaE1vaNjM=;
 b=Pujacn1clxE7SYTklIXpzjf5/L0wEP9rs+ysy6amcAnn38A7TO/e+xP1P2Uf1cZFgz
 8xTJV9xl7Cp/1QHuWkUzvvWSs+zlZJ3bTEp+JzMKZ/G8e8YtFek5mCo7R2ACVt7NjVaA
 O4wh2Gxmh+bdrNyEJuUwfNDnrTN9ziilTxZ7s4gEh23Xn8nyOZndlB0vXdDjDQExpbDP
 dsphRn7KZ7FzY6+ASlJe2XJCeS82tAHXoXcO9wlZDM9NQHNMkV+eN5dUTnGjwXMJEJVz
 VnC11x0WQocZ4B+oTCpaurZKYMmZCWt3PLQs3s70ep26QliXDo9DW+Ka0YX3Mud1AeSC
 /kwQ==
X-Gm-Message-State: AOJu0YyV+N3pciRtoueBplKHLIJAFZbd7PSEJFrINcpgxvlRXglJXb/t
 mMW3IT/39zf16jmj9QblMLKFj04PJoBUhaxan2LwJF+GMk5N30TDdIxPZe/Xyo1lp+Ns2MUan8T
 Q2snz0NrOVYOg3k26PRiFZEvCYnjcm3ddBmv+Pn0oXlhJNoZZMbWt0YWO
X-Google-Smtp-Source: AGHT+IF6i6X2PcQ7u16KdqcZkUwFP3fdGfCtBT1wl3Zti5Lujmai+AiDcEQEoWF2GREka4uTqV8yXykZ0eIT
X-Received: by 2002:a05:6a20:8904:b0:1a9:88d6:3b80 with SMTP id
 i4-20020a056a20890400b001a988d63b80mr2151472pzg.55.1712931498915; 
 Fri, 12 Apr 2024 07:18:18 -0700 (PDT)
Received: from postal.iol.unh.edu (postal.iol.unh.edu.
 [2606:4100:3880:1234::84]) by smtp-relay.gmail.com with ESMTPS id
 w21-20020a17090aea1500b002a2792d5924sm435351pjy.8.2024.04.12.07.18.18
 (version=TLS1_2 cipher=ECDHE-ECDSA-AES128-GCM-SHA256 bits=128/128);
 Fri, 12 Apr 2024 07:18:18 -0700 (PDT)
X-Relaying-Domain: iol.unh.edu
Date: Fri, 12 Apr 2024 07:18:18 -0700 (PDT)
Message-ID: <661942aa.170a0220.bd650.493dSMTPIN_ADDED_MISSING@mx.google.com>
Received: from [172.21.0.6] (unknown [172.18.0.240])
 by postal.iol.unh.edu (Postfix) with ESMTP id 1ECC3604D420;
 Fri, 12 Apr 2024 10:18:18 -0400 (EDT)
Subject: |SUCCESS| pw139234-139236 [PATCH] [v4,3/3] dts: add API doc generati
From: dpdklab@iol.unh.edu
To: Test Report <test-report@dpdk.org>
Cc: dpdk-test-reports@iol.unh.edu
In-Reply-To: <20240412101405.94377-4-juraj.linkes@pantheon.tech>
References: <20240412101405.94377-4-juraj.linkes@pantheon.tech>
Content-Type: text/plain
X-BeenThere: test-report@dpdk.org
X-Mailman-Version: 2.1.29
Precedence: list
List-Id: automatic DPDK test reports <test-report.dpdk.org>
List-Unsubscribe: <https://mails.dpdk.org/options/test-report>,
 <mailto:test-report-request@dpdk.org?subject=unsubscribe>
List-Archive: <http://mails.dpdk.org/archives/test-report/>
List-Post: <mailto:test-report@dpdk.org>
List-Help: <mailto:test-report-request@dpdk.org?subject=help>
List-Subscribe: <https://mails.dpdk.org/listinfo/test-report>,
 <mailto:test-report-request@dpdk.org?subject=subscribe>
Errors-To: test-report-bounces@dpdk.org

Test-Label: iol-compile-amd64-testing
Test-Status: SUCCESS
http://dpdk.org/patch/139236

_Testing PASS_

Submitter: Juraj Linkes <juraj.linkes@pantheon.tech>
Date: Friday, April 12 2024 10:14:05 
DPDK git baseline: Repo:dpdk
  Branch: master
  CommitID:98b4ecb4e4d73e93fdfa53f552b48d71104b445f

139234-139236 --> testing pass

Test environment and result as below:

+---------------------+--------------------+----------------------+-------------------+
|     Environment     | dpdk_meson_compile | dpdk_mingw64_compile | dpdk_msvc_compile |
+=====================+====================+======================+===================+
| Windows Server 2022 | PASS               | PASS                 | PASS              |
+---------------------+--------------------+----------------------+-------------------+
| FreeBSD 13.2        | PASS               | SKIPPED              | SKIPPED           |
+---------------------+--------------------+----------------------+-------------------+
| Windows Server 2019 | PASS               | PASS                 | SKIPPED           |
+---------------------+--------------------+----------------------+-------------------+
| CentOS Stream 9     | PASS               | SKIPPED              | SKIPPED           |
+---------------------+--------------------+----------------------+-------------------+
| Fedora 38           | PASS               | SKIPPED              | SKIPPED           |
+---------------------+--------------------+----------------------+-------------------+
| CentOS Stream 8     | PASS               | SKIPPED              | SKIPPED           |
+---------------------+--------------------+----------------------+-------------------+
| Debian Bullseye     | PASS               | SKIPPED              | SKIPPED           |
+---------------------+--------------------+----------------------+-------------------+
| RHEL8               | PASS               | SKIPPED              | SKIPPED           |
+---------------------+--------------------+----------------------+-------------------+


Windows Server 2022
	Kernel: 10.0.20348.2031
	Compiler: clang 15.0.7, gcc 8.1.0 (MinGW), and MSVC VS 17.9

FreeBSD 13.2
	Kernel: 13.2
	Compiler: clang 14.0.5

Windows Server 2019
	Kernel: 10.0.17763
	Compiler: clang 14.0 and gcc 8.1.0 (MinGW)

CentOS Stream 9
	Kernel: 5.4.0-167-generic
	Compiler: gcc 11.4.1 20230605

Fedora 38
	Kernel: Depends on container host
	Compiler: clang 16.0.6

CentOS Stream 8
	Kernel: 5.4.0-167-generic
	Compiler: gcc 8.5.0 20210514

Debian Bullseye
	Kernel: 5.4.0-167-generic
	Compiler: gcc 10.2.1-6

RHEL8
	Kernel: 5.4.0-167-generic
	Compiler: gcc 8.5.0 20210514 (Red Hat 8.5.0-20)

To view detailed results, visit:
https://lab.dpdk.org/results/dashboard/patchsets/29764/

UNH-IOL DPDK Community Lab

To manage your email subscriptions, visit: 
https://lab.dpdk.org/results/dashboard/preferences/subscriptions/