From mboxrd@z Thu Jan  1 00:00:00 1970
Return-Path: <test-report-bounces@dpdk.org>
Received: from mails.dpdk.org (mails.dpdk.org [217.70.189.124])
	by inbox.dpdk.org (Postfix) with ESMTP id BCA8143E53
	for <public@inbox.dpdk.org>; Fri, 12 Apr 2024 16:20:13 +0200 (CEST)
Received: from mails.dpdk.org (localhost [127.0.0.1])
	by mails.dpdk.org (Postfix) with ESMTP id A5E5A402A8;
	Fri, 12 Apr 2024 16:20:13 +0200 (CEST)
Received: from mail-ua1-f97.google.com (mail-ua1-f97.google.com
 [209.85.222.97]) by mails.dpdk.org (Postfix) with ESMTP id 7C51C40295
 for <test-report@dpdk.org>; Fri, 12 Apr 2024 16:20:12 +0200 (CEST)
Received: by mail-ua1-f97.google.com with SMTP id
 a1e0cc1a2514c-7e043f577c5so482169241.1
 for <test-report@dpdk.org>; Fri, 12 Apr 2024 07:20:12 -0700 (PDT)
DKIM-Signature: v=1; a=rsa-sha256; c=relaxed/relaxed;
 d=iol.unh.edu; s=unh-iol; t=1712931612; x=1713536412; darn=dpdk.org;
 h=references:in-reply-to:cc:to:from:subject:message-id:date:from:to
 :cc:subject:date:message-id:reply-to;
 bh=8TFRkMLIxS4gz/jtgqDA0OCBHaxH1OGUeqerI2Gt9/Q=;
 b=jMynd8/f48PmpRITMfxQjTHJAsVhhR0zNVOmMvGNRe5bCAcYG8kjJzs/xpV4UHIyB2
 SO7Ixhl3BjRr/Iqw12epiLwMHuJoVWTQH+UHH9bcgsSQqUfh1CmYNv1hvJLC52PoLm+u
 WapR4AGagP9XNFKuhelLW2iXFgndp7frlCEo8=
X-Google-DKIM-Signature: v=1; a=rsa-sha256; c=relaxed/relaxed;
 d=1e100.net; s=20230601; t=1712931612; x=1713536412;
 h=references:in-reply-to:cc:to:from:subject:message-id:date
 :x-gm-message-state:from:to:cc:subject:date:message-id:reply-to;
 bh=8TFRkMLIxS4gz/jtgqDA0OCBHaxH1OGUeqerI2Gt9/Q=;
 b=dtAZIZDC1EnqEk8FJ9dp7frRiM7ItIjgEO8pkqVmTUQbDPJVPfDBeU80AivyfaXvAO
 mobn5VJHyVsF90R5jlQ4c8PCQLy8hZuuwCPwdAtki29U2O8dghx+iTFC2rGcMLaDa8yy
 Pqd8ZkNIBy7WNHpAF5YDW7vrgTjKWddcTJ+OAoRpKDSwm7agJpXHTXmdhUVzDt51rcgg
 LQof8336wR1oZumHDcWnZYb01n2yaOKv+iQzCyqmGa2e3w226Q3NBgQ5/FKoIbzTnBfl
 y9LKABcKIn7YVswJ9cqXd31iHUmv8zQVyRAJA57BsixxKt9WLHwuNXU58ryyi4qBQaN/
 g8Xw==
X-Gm-Message-State: AOJu0YzOTM+cUOOkqotZskg+9zLXz6QXpZdHSGYcyjmeJMwG9jhrehJ3
 an0TSyMkv/gCHLpKMGMCn1KfwDSdnVKzmlb+r7D2SH0bzYl5tghYobx1FvKeTmU1H7JE39w5/Ld
 Avg3ILOa7r10RtAseGnZ97YKcEvf1cT1wxJib9Lw3P5Jel+hnadC6WRQO
X-Google-Smtp-Source: AGHT+IEFeijvytN4lRmUjmfREcdFKF4yVUck1HL1EKjqo38PfcE4N1Z8zpPR4TVmGH3YSk/Sq7ayuoIueAW5
X-Received: by 2002:a05:6102:58da:b0:479:dd05:63df with SMTP id
 jv26-20020a05610258da00b00479dd0563dfmr4784611vsb.11.1712931611844; 
 Fri, 12 Apr 2024 07:20:11 -0700 (PDT)
Received: from postal.iol.unh.edu (postal.iol.unh.edu.
 [2606:4100:3880:1234::84]) by smtp-relay.gmail.com with ESMTPS id
 v20-20020ab06594000000b007e3552398b1sm240654uam.19.2024.04.12.07.20.11
 (version=TLS1_2 cipher=ECDHE-ECDSA-AES128-GCM-SHA256 bits=128/128);
 Fri, 12 Apr 2024 07:20:11 -0700 (PDT)
X-Relaying-Domain: iol.unh.edu
Date: Fri, 12 Apr 2024 07:20:11 -0700 (PDT)
Message-ID: <6619431b.b00a0220.8c6e9.845eSMTPIN_ADDED_MISSING@mx.google.com>
Received: from [172.21.0.6] (unknown [172.18.0.240])
 by postal.iol.unh.edu (Postfix) with ESMTP id 6BEF6604D420;
 Fri, 12 Apr 2024 10:20:11 -0400 (EDT)
Subject: |SUCCESS| pw139234-139236 [PATCH] [v4,3/3] dts: add API doc generati
From: dpdklab@iol.unh.edu
To: Test Report <test-report@dpdk.org>
Cc: dpdk-test-reports@iol.unh.edu
In-Reply-To: <20240412101405.94377-4-juraj.linkes@pantheon.tech>
References: <20240412101405.94377-4-juraj.linkes@pantheon.tech>
Content-Type: text/plain
X-BeenThere: test-report@dpdk.org
X-Mailman-Version: 2.1.29
Precedence: list
List-Id: automatic DPDK test reports <test-report.dpdk.org>
List-Unsubscribe: <https://mails.dpdk.org/options/test-report>,
 <mailto:test-report-request@dpdk.org?subject=unsubscribe>
List-Archive: <http://mails.dpdk.org/archives/test-report/>
List-Post: <mailto:test-report@dpdk.org>
List-Help: <mailto:test-report-request@dpdk.org?subject=help>
List-Subscribe: <https://mails.dpdk.org/listinfo/test-report>,
 <mailto:test-report-request@dpdk.org?subject=subscribe>
Errors-To: test-report-bounces@dpdk.org

Test-Label: iol-unit-amd64-testing
Test-Status: SUCCESS
http://dpdk.org/patch/139236

_Testing PASS_

Submitter: Juraj Linkes <juraj.linkes@pantheon.tech>
Date: Friday, April 12 2024 10:14:05 
DPDK git baseline: Repo:dpdk
  Branch: master
  CommitID:98b4ecb4e4d73e93fdfa53f552b48d71104b445f

139234-139236 --> testing pass

Test environment and result as below:

+---------------------+----------------+
|     Environment     | dpdk_unit_test |
+=====================+================+
| Windows Server 2019 | PASS           |
+---------------------+----------------+
| Windows Server 2022 | PASS           |
+---------------------+----------------+
| Debian Bullseye     | PASS           |
+---------------------+----------------+
| Fedora 39           | PASS           |
+---------------------+----------------+


Windows Server 2019
	Kernel: 10.0.17763
	Compiler: clang 14.0 and gcc 8.1.0 (MinGW)

Windows Server 2022
	Kernel: 10.0.20348.2031
	Compiler: clang 15.0.7, gcc 8.1.0 (MinGW), and MSVC VS 17.9

Debian Bullseye
	Kernel: 5.4.0-167-generic
	Compiler: gcc 10.2.1-6

Fedora 39
	Kernel: Depends on container host
	Compiler: clang 17.0.6

To view detailed results, visit:
https://lab.dpdk.org/results/dashboard/patchsets/29764/

UNH-IOL DPDK Community Lab

To manage your email subscriptions, visit: 
https://lab.dpdk.org/results/dashboard/preferences/subscriptions/