From mboxrd@z Thu Jan  1 00:00:00 1970
Return-Path: <test-report-bounces@dpdk.org>
Received: from mails.dpdk.org (mails.dpdk.org [217.70.189.124])
	by inbox.dpdk.org (Postfix) with ESMTP id C566A43E53
	for <public@inbox.dpdk.org>; Fri, 12 Apr 2024 17:02:08 +0200 (CEST)
Received: from mails.dpdk.org (localhost [127.0.0.1])
	by mails.dpdk.org (Postfix) with ESMTP id A3E39402A8;
	Fri, 12 Apr 2024 17:02:08 +0200 (CEST)
Received: from mail-qt1-f226.google.com (mail-qt1-f226.google.com
 [209.85.160.226])
 by mails.dpdk.org (Postfix) with ESMTP id E887540295
 for <test-report@dpdk.org>; Fri, 12 Apr 2024 17:02:06 +0200 (CEST)
Received: by mail-qt1-f226.google.com with SMTP id
 d75a77b69052e-434ed2e513dso3425361cf.3
 for <test-report@dpdk.org>; Fri, 12 Apr 2024 08:02:06 -0700 (PDT)
DKIM-Signature: v=1; a=rsa-sha256; c=relaxed/relaxed;
 d=iol.unh.edu; s=unh-iol; t=1712934126; x=1713538926; darn=dpdk.org;
 h=references:in-reply-to:cc:to:from:subject:message-id:date:from:to
 :cc:subject:date:message-id:reply-to;
 bh=5O+pustt8dnSpm5aF2xlYsmWvWA9I6v3XJuxD2qmLaA=;
 b=Ov3buoAs2FdlvmF95XPNN0GndkmzjLTFeMomUxzGbP64QbWQXO6BDldATMieXk1eCb
 LEYXEpnIKVjG649ib7a60v2h1UzaYDi/Skc7lJ04LiP9RCX1ijTkNxaS/qWGezC8IC81
 WtDsUBovWdfemI5yGP9pfVOz+u7Quu8rzuUS4=
X-Google-DKIM-Signature: v=1; a=rsa-sha256; c=relaxed/relaxed;
 d=1e100.net; s=20230601; t=1712934126; x=1713538926;
 h=references:in-reply-to:cc:to:from:subject:message-id:date
 :x-gm-message-state:from:to:cc:subject:date:message-id:reply-to;
 bh=5O+pustt8dnSpm5aF2xlYsmWvWA9I6v3XJuxD2qmLaA=;
 b=F5+TssqeTmpP4AH+idRFjLfAxfZ9MsI3/uAUuNM4yg0qDgTQCZ07wqy2F+pcN3edzu
 1ofiJnQ1AuXJepX0cVx2DyAJoQ6Wo6w5FaN/7d7OAbQv2txv8bM7ACPrKmRLO2JHjbVr
 TF+Y1FB+r2+K7ErBYR7BXuBDKVwf/RPzcId5R9Th4czrGVqbRHSRkHmzBLfHguCGKbsi
 qfIUdXC4auSwTUuDA6XMAEVLPLJHNS+PEa6rMd6vOuPbVZ48l41CkatU1oPumhjHSmPR
 8BJV3Ewm+bQYQXyqfID9wc6LfxazOK7OM4cq6CRR1EkoWTPwi0cg+3AwDSgtrosNX8Fo
 EgpA==
X-Gm-Message-State: AOJu0Yx1eDF4DShQRDuaBeT5Ym4Ti2lB73IoltshlUFGcmMl4h95QDXw
 qxGQOlblcycjH1/fY4a92HWgmxrMMjS+XNoGw+M7w5vzQOQAOEGCWFJnfrwoXLk9nALej0CAM22
 EHTfbLbRBJiDFi7LC7ftKvLuyxTPTLIVrmiIlZt8xfZw6y9kPrpMNu0zz
X-Google-Smtp-Source: AGHT+IFuHufD1mGYWszg0Mwc6qvSw4j3Y6Ih1dPb8QGdH9H4M96lJOQCx0vqA8sczXnuBPEY7Q6MpmZEGMyJ
X-Received: by 2002:a05:622a:1495:b0:434:f74a:b526 with SMTP id
 t21-20020a05622a149500b00434f74ab526mr3322114qtx.65.1712934126139; 
 Fri, 12 Apr 2024 08:02:06 -0700 (PDT)
Received: from postal.iol.unh.edu (postal.iol.unh.edu.
 [2606:4100:3880:1234::84]) by smtp-relay.gmail.com with ESMTPS id
 e22-20020a05622a111600b00434add774c5sm303861qty.21.2024.04.12.08.02.06
 (version=TLS1_2 cipher=ECDHE-ECDSA-AES128-GCM-SHA256 bits=128/128);
 Fri, 12 Apr 2024 08:02:06 -0700 (PDT)
X-Relaying-Domain: iol.unh.edu
Date: Fri, 12 Apr 2024 08:02:06 -0700 (PDT)
Message-ID: <66194cee.050a0220.9190b.c1baSMTPIN_ADDED_MISSING@mx.google.com>
Received: from [172.17.0.2] (unknown [172.18.0.217])
 by postal.iol.unh.edu (Postfix) with ESMTP id C7285604D420;
 Fri, 12 Apr 2024 11:02:05 -0400 (EDT)
Subject: |SUCCESS| pw139234-139236 [PATCH] [v4,3/3] dts: add API doc generati
From: dpdklab@iol.unh.edu
To: Test Report <test-report@dpdk.org>
Cc: dpdk-test-reports@iol.unh.edu
In-Reply-To: <20240412101405.94377-4-juraj.linkes@pantheon.tech>
References: <20240412101405.94377-4-juraj.linkes@pantheon.tech>
Content-Type: text/plain
X-BeenThere: test-report@dpdk.org
X-Mailman-Version: 2.1.29
Precedence: list
List-Id: automatic DPDK test reports <test-report.dpdk.org>
List-Unsubscribe: <https://mails.dpdk.org/options/test-report>,
 <mailto:test-report-request@dpdk.org?subject=unsubscribe>
List-Archive: <http://mails.dpdk.org/archives/test-report/>
List-Post: <mailto:test-report@dpdk.org>
List-Help: <mailto:test-report-request@dpdk.org?subject=help>
List-Subscribe: <https://mails.dpdk.org/listinfo/test-report>,
 <mailto:test-report-request@dpdk.org?subject=subscribe>
Errors-To: test-report-bounces@dpdk.org

Test-Label: iol-unit-arm64-testing
Test-Status: SUCCESS
http://dpdk.org/patch/139236

_Testing PASS_

Submitter: Juraj Linkes <juraj.linkes@pantheon.tech>
Date: Friday, April 12 2024 10:14:05 
DPDK git baseline: Repo:dpdk
  Branch: master
  CommitID:98b4ecb4e4d73e93fdfa53f552b48d71104b445f

139234-139236 --> testing pass

Test environment and result as below:

+-----------------------------+----------------+------------------------------+---------------------------+--------------+
|         Environment         | dpdk_unit_test | cryptodev_sw_snow3g_autotest | cryptodev_sw_zuc_autotest | lpm_autotest |
+=============================+================+==============================+===========================+==============+
| CentOS Stream 9 (ARM)       | PASS           | SKIPPED                      | SKIPPED                   | SKIPPED      |
+-----------------------------+----------------+------------------------------+---------------------------+--------------+
| Fedora 38 (ARM)             | PASS           | SKIPPED                      | SKIPPED                   | SKIPPED      |
+-----------------------------+----------------+------------------------------+---------------------------+--------------+
| 32-bit Ubuntu 20.04.4 (ARM) | PASS           | SKIPPED                      | SKIPPED                   | SKIPPED      |
+-----------------------------+----------------+------------------------------+---------------------------+--------------+
| Debian 11 (Buster) (ARM)    | PASS           | SKIPPED                      | SKIPPED                   | SKIPPED      |
+-----------------------------+----------------+------------------------------+---------------------------+--------------+
| Debian 12 (arm)             | PASS           | PASS                         | PASS                      | SKIPPED      |
+-----------------------------+----------------+------------------------------+---------------------------+--------------+
| Fedora 37 (ARM)             | PASS           | SKIPPED                      | SKIPPED                   | SKIPPED      |
+-----------------------------+----------------+------------------------------+---------------------------+--------------+
| Ubuntu 20.04 (ARM)          | PASS           | SKIPPED                      | SKIPPED                   | SKIPPED      |
+-----------------------------+----------------+------------------------------+---------------------------+--------------+
| Fedora 39 (ARM Clang)       | PASS           | SKIPPED                      | SKIPPED                   | SKIPPED      |
+-----------------------------+----------------+------------------------------+---------------------------+--------------+
| Fedora 39 (ARM)             | PASS           | SKIPPED                      | SKIPPED                   | SKIPPED      |
+-----------------------------+----------------+------------------------------+---------------------------+--------------+
| Fedora 38 (ARM Clang)       | PASS           | SKIPPED                      | SKIPPED                   | SKIPPED      |
+-----------------------------+----------------+------------------------------+---------------------------+--------------+
| Ubuntu 20.04 ARM SVE        | SKIPPED        | SKIPPED                      | SKIPPED                   | PASS         |
+-----------------------------+----------------+------------------------------+---------------------------+--------------+


CentOS Stream 9 (ARM)
	Kernel: Container Host Kernel
	Compiler: gcc 11.4.1

Fedora 38 (ARM)
	Kernel: Depends on container host
	Compiler: gcc 13.2.1

32-bit Ubuntu 20.04.4 (ARM)
	Kernel: 5.4.0-155-generic aarch64
	Compiler: gcc 9.4

Debian 11 (Buster) (ARM)
	Kernel: Container Host Kernel
	Compiler: gcc 10.2.1

Debian 12 (arm)
	Kernel: Container Host Kernel
	Compiler: gcc 12.2.0

Fedora 37 (ARM)
	Kernel: Depends on container host
	Compiler: gcc 12.3.1

Ubuntu 20.04 (ARM)
	Kernel: Container Host Kernel
	Compiler: gcc 9.4.0

Fedora 39 (ARM Clang)
	Kernel: Depends on container host
	Compiler: clang 17.0.6

Fedora 39 (ARM)
	Kernel: Depends on container host
	Compiler: gcc 13.2.1

Fedora 38 (ARM Clang)
	Kernel: Depends on container host
	Compiler: clang 16.0.6

Ubuntu 20.04 ARM SVE
	Kernel: 5.4.0-167-generic
	Compiler: gcc (Ubuntu 10.5.0-1ubuntu1~20.04) 10.5.0

To view detailed results, visit:
https://lab.dpdk.org/results/dashboard/patchsets/29764/

UNH-IOL DPDK Community Lab

To manage your email subscriptions, visit: 
https://lab.dpdk.org/results/dashboard/preferences/subscriptions/