From mboxrd@z Thu Jan  1 00:00:00 1970
Return-Path: <test-report-bounces@dpdk.org>
Received: from mails.dpdk.org (mails.dpdk.org [217.70.189.124])
	by inbox.dpdk.org (Postfix) with ESMTP id AFEDD43E56
	for <public@inbox.dpdk.org>; Sat, 13 Apr 2024 02:00:27 +0200 (CEST)
Received: from mails.dpdk.org (localhost [127.0.0.1])
	by mails.dpdk.org (Postfix) with ESMTP id A52F340263;
	Sat, 13 Apr 2024 02:00:27 +0200 (CEST)
Received: from mail-il1-f225.google.com (mail-il1-f225.google.com
 [209.85.166.225])
 by mails.dpdk.org (Postfix) with ESMTP id E10634014F
 for <test-report@dpdk.org>; Sat, 13 Apr 2024 02:00:25 +0200 (CEST)
Received: by mail-il1-f225.google.com with SMTP id
 e9e14a558f8ab-36a26272440so5683805ab.1
 for <test-report@dpdk.org>; Fri, 12 Apr 2024 17:00:25 -0700 (PDT)
DKIM-Signature: v=1; a=rsa-sha256; c=relaxed/relaxed;
 d=iol.unh.edu; s=unh-iol; t=1712966425; x=1713571225; darn=dpdk.org;
 h=references:in-reply-to:cc:to:from:subject:message-id:date:from:to
 :cc:subject:date:message-id:reply-to;
 bh=D3rvs64FYvDrU9ZFbg7GJpJGV6BR4iU1CdWXWcPAclQ=;
 b=IU0Gm5sYynuTNpQyERFsLfR1yYehqxRixipmKcX/qcFuoe1j6Ewvd2disjb6iNzzaQ
 qCqTUUJgUzYSK7n+mlqjUJiMvDz/+QO9z6WU+0i7xW2/o8YASSJadj6lP/6Osb4sl3cz
 PBFXHtbsuR/+JvEbWS15GgsFCy13z+Opj/Gms=
X-Google-DKIM-Signature: v=1; a=rsa-sha256; c=relaxed/relaxed;
 d=1e100.net; s=20230601; t=1712966425; x=1713571225;
 h=references:in-reply-to:cc:to:from:subject:message-id:date
 :x-gm-message-state:from:to:cc:subject:date:message-id:reply-to;
 bh=D3rvs64FYvDrU9ZFbg7GJpJGV6BR4iU1CdWXWcPAclQ=;
 b=gG83RljgWqxCi+lf8llSC4NIAqvKsHZQ3FbJwy/zOwDXBOLQFlu8gH56di/PTD5YJF
 DOZ7RPxsbQ/OhHy+9R50svn8PUAaW8FaMtZznWRqB+mJyKQ1dC6jb1kkTvR+KzmJvLuC
 Kl/8vZeP3tQ9ZVqTMBe2I/Cwss6JoD6Fo0L8K6DVgt3MtStceYXV7m+HwvbDq/0ceKr/
 2pMq31AeuX5E+nzzbmg8tygVJg/f9OxdUa1Fe/d+20TZkr4msWfrPHsSjaB9EHKdwRoP
 ZZLIbYJGyfZPRDQbyirkChklfvXodIQGj9UCRlASXP2GSLPIgTAxHqFrz4ZCrleQVElv
 kduA==
X-Gm-Message-State: AOJu0YzH0Da0E6rUaaNMhLYe23rlovZd0mg2v/GMEU6kOiU1DiO/2WlP
 BH2ZS9c15ywA4Np0S5xnYOCTBV7kU1DOCU13Vbk/v2XzESqBkXKRfNsKBPnuASgk1XhN5HNbJcm
 hXIwQbpsRS3nWko052bmg4yTGOOQ+XZtlF3zvWBIj
X-Google-Smtp-Source: AGHT+IEyIPHcNiie60DhB7/LzlluozRhNzOsCRwB5kDrmbESODaEoHCAMNvoQXXCWpojPuE7gtui2uGc3RjT
X-Received: by 2002:a05:6e02:1c48:b0:36a:1fde:a3b6 with SMTP id
 d8-20020a056e021c4800b0036a1fdea3b6mr3779420ilg.30.1712966425330; 
 Fri, 12 Apr 2024 17:00:25 -0700 (PDT)
Received: from postal.iol.unh.edu (postal.iol.unh.edu. [132.177.123.84])
 by smtp-relay.gmail.com with ESMTPS id
 o1-20020a92d381000000b003689538680fsm314399ilo.25.2024.04.12.17.00.25
 (version=TLS1_2 cipher=ECDHE-ECDSA-AES128-GCM-SHA256 bits=128/128);
 Fri, 12 Apr 2024 17:00:25 -0700 (PDT)
X-Relaying-Domain: iol.unh.edu
Date: Fri, 12 Apr 2024 17:00:25 -0700 (PDT)
Message-ID: <6619cb19.920a0220.2da5f.cc70SMTPIN_ADDED_MISSING@mx.google.com>
Received: from [172.17.0.2] (unknown [172.18.0.217])
 by postal.iol.unh.edu (Postfix) with ESMTP id BE14E604D420;
 Fri, 12 Apr 2024 20:00:24 -0400 (EDT)
Subject: |SUCCESS| pw139275-139276 [PATCH] [v3,2/2] buildtools: when building
From: dpdklab@iol.unh.edu
To: Test Report <test-report@dpdk.org>
Cc: dpdk-test-reports@iol.unh.edu
In-Reply-To: <1712962333-14355-3-git-send-email-roretzla@linux.microsoft.com>
References: <1712962333-14355-3-git-send-email-roretzla@linux.microsoft.com>
Content-Type: text/plain
X-BeenThere: test-report@dpdk.org
X-Mailman-Version: 2.1.29
Precedence: list
List-Id: automatic DPDK test reports <test-report.dpdk.org>
List-Unsubscribe: <https://mails.dpdk.org/options/test-report>,
 <mailto:test-report-request@dpdk.org?subject=unsubscribe>
List-Archive: <http://mails.dpdk.org/archives/test-report/>
List-Post: <mailto:test-report@dpdk.org>
List-Help: <mailto:test-report-request@dpdk.org?subject=help>
List-Subscribe: <https://mails.dpdk.org/listinfo/test-report>,
 <mailto:test-report-request@dpdk.org?subject=subscribe>
Errors-To: test-report-bounces@dpdk.org

Test-Label: iol-compile-amd64-testing
Test-Status: SUCCESS
http://dpdk.org/patch/139276

_Testing PASS_

Submitter: Tyler Retzlaff <roretzla@linux.microsoft.com>
Date: Friday, April 12 2024 22:52:13 
DPDK git baseline: Repo:dpdk
  Branch: master
  CommitID:e2e546ab5bf5e024986ccb5310ab43982f3bb40c

139275-139276 --> testing pass

Test environment and result as below:

+---------------------+----------------------+-------------------+--------------------+
|     Environment     | dpdk_mingw64_compile | dpdk_msvc_compile | dpdk_meson_compile |
+=====================+======================+===================+====================+
| Windows Server 2022 | PASS                 | PASS              | PASS               |
+---------------------+----------------------+-------------------+--------------------+
| Windows Server 2019 | PASS                 | SKIPPED           | PASS               |
+---------------------+----------------------+-------------------+--------------------+
| Debian 12           | SKIPPED              | SKIPPED           | PASS               |
+---------------------+----------------------+-------------------+--------------------+
| CentOS Stream 8     | SKIPPED              | SKIPPED           | PASS               |
+---------------------+----------------------+-------------------+--------------------+
| FreeBSD 13.2        | SKIPPED              | SKIPPED           | PASS               |
+---------------------+----------------------+-------------------+--------------------+
| Fedora 39           | SKIPPED              | SKIPPED           | PASS               |
+---------------------+----------------------+-------------------+--------------------+
| Fedora 37           | SKIPPED              | SKIPPED           | PASS               |
+---------------------+----------------------+-------------------+--------------------+
| Debian Bullseye     | SKIPPED              | SKIPPED           | PASS               |
+---------------------+----------------------+-------------------+--------------------+
| openSUSE Leap 15    | SKIPPED              | SKIPPED           | PASS               |
+---------------------+----------------------+-------------------+--------------------+
| Fedora 38           | SKIPPED              | SKIPPED           | PASS               |
+---------------------+----------------------+-------------------+--------------------+
| Ubuntu 22.04        | SKIPPED              | SKIPPED           | PASS               |
+---------------------+----------------------+-------------------+--------------------+
| Ubuntu 20.04        | SKIPPED              | SKIPPED           | PASS               |
+---------------------+----------------------+-------------------+--------------------+
| RHEL8               | SKIPPED              | SKIPPED           | PASS               |
+---------------------+----------------------+-------------------+--------------------+
| Alpine              | SKIPPED              | SKIPPED           | PASS               |
+---------------------+----------------------+-------------------+--------------------+
| CentOS Stream 9     | SKIPPED              | SKIPPED           | PASS               |
+---------------------+----------------------+-------------------+--------------------+


Windows Server 2022
	Kernel: 10.0.20348.2031
	Compiler: clang 15.0.7, gcc 8.1.0 (MinGW), and MSVC VS 17.9

Windows Server 2019
	Kernel: 10.0.17763
	Compiler: clang 14.0 and gcc 8.1.0 (MinGW)

Debian 12
	Kernel: Container Host Kernel
	Compiler: gcc 10.2.1

CentOS Stream 8
	Kernel: 5.4.0-167-generic
	Compiler: gcc 8.5.0 20210514

FreeBSD 13.2
	Kernel: 13.2
	Compiler: clang 14.0.5

Fedora 39
	Kernel: Depends on container host
	Compiler: gcc 13.2.1

Fedora 37
	Kernel: Depends on container host system
	Compiler: gcc 12.3.1

Debian Bullseye
	Kernel: 5.4.0-167-generic
	Compiler: gcc 10.2.1-6

openSUSE Leap 15
	Kernel: 5.4.0-167-generic
	Compiler: gcc 7.5.0

Fedora 38
	Kernel: Depends on container host
	Compiler: gcc 13.2.1

Ubuntu 22.04
	Kernel: 5.4.0-167-generic
	Compiler: gcc 11.4.0

Ubuntu 20.04
	Kernel: 5.4.0-167-generic
	Compiler: gcc 9.4.0-1ubuntu1~20.04.1

RHEL8
	Kernel: 5.4.0-167-generic
	Compiler: gcc 8.5.0 20210514 (Red Hat 8.5.0-20)

Alpine
	Kernel: 5.4.0-167-generic
	Compiler: gcc (Alpine 12.2.1_git20220924-r10) 12.2.1 20220924

CentOS Stream 9
	Kernel: 5.4.0-167-generic
	Compiler: gcc 11.4.1 20230605

To view detailed results, visit:
https://lab.dpdk.org/results/dashboard/patchsets/29771/

UNH-IOL DPDK Community Lab

To manage your email subscriptions, visit: 
https://lab.dpdk.org/results/dashboard/preferences/subscriptions/