From mboxrd@z Thu Jan  1 00:00:00 1970
Return-Path: <test-report-bounces@dpdk.org>
Received: from mails.dpdk.org (mails.dpdk.org [217.70.189.124])
	by inbox.dpdk.org (Postfix) with ESMTP id 7939443E56
	for <public@inbox.dpdk.org>; Sat, 13 Apr 2024 02:04:34 +0200 (CEST)
Received: from mails.dpdk.org (localhost [127.0.0.1])
	by mails.dpdk.org (Postfix) with ESMTP id 73B0040263;
	Sat, 13 Apr 2024 02:04:34 +0200 (CEST)
Received: from mail-ua1-f98.google.com (mail-ua1-f98.google.com
 [209.85.222.98]) by mails.dpdk.org (Postfix) with ESMTP id E33A14014F
 for <test-report@dpdk.org>; Sat, 13 Apr 2024 02:04:31 +0200 (CEST)
Received: by mail-ua1-f98.google.com with SMTP id
 a1e0cc1a2514c-7e74f4ae8fcso389908241.2
 for <test-report@dpdk.org>; Fri, 12 Apr 2024 17:04:31 -0700 (PDT)
DKIM-Signature: v=1; a=rsa-sha256; c=relaxed/relaxed;
 d=iol.unh.edu; s=unh-iol; t=1712966671; x=1713571471; darn=dpdk.org;
 h=references:in-reply-to:cc:to:from:subject:message-id:date:from:to
 :cc:subject:date:message-id:reply-to;
 bh=3y8c4i5rSQrvfmraoF8ypL1Qu0uMstj9oYCZAtgASw4=;
 b=RpVKdjE6jXKQ4lz6/qDJQ4nAK1iZU7K+Hht368NgFQkqfRNPGu7gnvyBt6m9DanSG3
 nLAbnXa1pGA8wk2y47CypncWW5Mfb24BZw2KdmoTcSao8OuoIt+e7H9pBFE9/2OhWU6N
 eHCtpvfcYcU6CL5RvuKEKiZ0sv0caHsS7SCW0=
X-Google-DKIM-Signature: v=1; a=rsa-sha256; c=relaxed/relaxed;
 d=1e100.net; s=20230601; t=1712966671; x=1713571471;
 h=references:in-reply-to:cc:to:from:subject:message-id:date
 :x-gm-message-state:from:to:cc:subject:date:message-id:reply-to;
 bh=3y8c4i5rSQrvfmraoF8ypL1Qu0uMstj9oYCZAtgASw4=;
 b=na3mIoKWajlkjy9Q/0JS14JC9is0JaCiqIdk0VrzwTB0QjG9p/+EFdLg7gVCfDsGDb
 c629pMmKYWh6YyolzwpGNmylbNT3eqKGIGVBPqzF/tI3EbSk3gJna0X66ptK950hYb1X
 epKw7ncqKW264Zl/En0iPiBB3QJHOqaq627vT1Y11iHxF31b4Or3Um7L/whaZZFUP3uB
 lLr0gc8ej+ugVTBb5Rxr6KXzH/ZoyhbpMk/McyRlQBy1DyfmFLYOElQ+6BLgDuezD4Np
 jVVyN69mYvyHVceOhyKJHSMms8BFquH0mvy+nkDXgotOfkrrPEZsiUTgBkaKaMc0lc+y
 nGtg==
X-Gm-Message-State: AOJu0YwX6/xJN3d6AKp4CAHuvRUIwLu0UoSuO4Aj1FTSSHLX4sYl/stx
 KEeNZDKysp9uNR25hEZErCxXTFu7HTD1eXZwTuC6CufPtRS++8IB1omb753YgOd9M+M81xVO6JU
 zqMX4c3CRwEMlF/cF+WR5DZNNY1gGkZlbGaeTSEb9
X-Google-Smtp-Source: AGHT+IGpS3rhAXmVnGrrZ5eoSnBsd1o3pJdOTBJgIhcWYod4dCtrJMNJ4QtcCl86gMbriP2jj7ndbAZ3tFis
X-Received: by 2002:a05:6102:160b:b0:479:d2ff:7cfb with SMTP id
 cu11-20020a056102160b00b00479d2ff7cfbmr5914777vsb.24.1712966671300; 
 Fri, 12 Apr 2024 17:04:31 -0700 (PDT)
Received: from postal.iol.unh.edu (postal.iol.unh.edu. [132.177.123.84])
 by smtp-relay.gmail.com with ESMTPS id
 ay31-20020a056130031f00b007e7386faf82sm288886uab.15.2024.04.12.17.04.31
 (version=TLS1_2 cipher=ECDHE-ECDSA-AES128-GCM-SHA256 bits=128/128);
 Fri, 12 Apr 2024 17:04:31 -0700 (PDT)
X-Relaying-Domain: iol.unh.edu
Date: Fri, 12 Apr 2024 17:04:31 -0700 (PDT)
Message-ID: <6619cc0f.050a0220.87f5f.c176SMTPIN_ADDED_MISSING@mx.google.com>
Received: from [172.17.0.2] (unknown [172.18.0.217])
 by postal.iol.unh.edu (Postfix) with ESMTP id D152C604D420;
 Fri, 12 Apr 2024 20:04:30 -0400 (EDT)
Subject: |SUCCESS| pw139275-139276 [PATCH] [v3,2/2] buildtools: when building
From: dpdklab@iol.unh.edu
To: Test Report <test-report@dpdk.org>
Cc: dpdk-test-reports@iol.unh.edu
In-Reply-To: <1712962333-14355-3-git-send-email-roretzla@linux.microsoft.com>
References: <1712962333-14355-3-git-send-email-roretzla@linux.microsoft.com>
Content-Type: text/plain
X-BeenThere: test-report@dpdk.org
X-Mailman-Version: 2.1.29
Precedence: list
List-Id: automatic DPDK test reports <test-report.dpdk.org>
List-Unsubscribe: <https://mails.dpdk.org/options/test-report>,
 <mailto:test-report-request@dpdk.org?subject=unsubscribe>
List-Archive: <http://mails.dpdk.org/archives/test-report/>
List-Post: <mailto:test-report@dpdk.org>
List-Help: <mailto:test-report-request@dpdk.org?subject=help>
List-Subscribe: <https://mails.dpdk.org/listinfo/test-report>,
 <mailto:test-report-request@dpdk.org?subject=subscribe>
Errors-To: test-report-bounces@dpdk.org

Test-Label: iol-unit-arm64-testing
Test-Status: SUCCESS
http://dpdk.org/patch/139276

_Testing PASS_

Submitter: Tyler Retzlaff <roretzla@linux.microsoft.com>
Date: Friday, April 12 2024 22:52:13 
DPDK git baseline: Repo:dpdk
  Branch: master
  CommitID:e2e546ab5bf5e024986ccb5310ab43982f3bb40c

139275-139276 --> testing pass

Test environment and result as below:

+--------------------------+---------------------------+------------------------------+--------------+----------------+
|       Environment        | cryptodev_sw_zuc_autotest | cryptodev_sw_snow3g_autotest | lpm_autotest | dpdk_unit_test |
+==========================+===========================+==============================+==============+================+
| Debian 12 (arm)          | PASS                      | PASS                         | SKIPPED      | PASS           |
+--------------------------+---------------------------+------------------------------+--------------+----------------+
| Ubuntu 20.04 ARM SVE     | SKIPPED                   | SKIPPED                      | PASS         | SKIPPED        |
+--------------------------+---------------------------+------------------------------+--------------+----------------+
| Debian 11 (Buster) (ARM) | SKIPPED                   | SKIPPED                      | SKIPPED      | PASS           |
+--------------------------+---------------------------+------------------------------+--------------+----------------+
| CentOS Stream 9 (ARM)    | SKIPPED                   | SKIPPED                      | SKIPPED      | PASS           |
+--------------------------+---------------------------+------------------------------+--------------+----------------+
| Fedora 37 (ARM)          | SKIPPED                   | SKIPPED                      | SKIPPED      | PASS           |
+--------------------------+---------------------------+------------------------------+--------------+----------------+
| Fedora 38 (ARM)          | SKIPPED                   | SKIPPED                      | SKIPPED      | PASS           |
+--------------------------+---------------------------+------------------------------+--------------+----------------+
| Fedora 39 (ARM)          | SKIPPED                   | SKIPPED                      | SKIPPED      | PASS           |
+--------------------------+---------------------------+------------------------------+--------------+----------------+
| Ubuntu 20.04 (ARM)       | SKIPPED                   | SKIPPED                      | SKIPPED      | PASS           |
+--------------------------+---------------------------+------------------------------+--------------+----------------+


Debian 12 (arm)
	Kernel: Container Host Kernel
	Compiler: gcc 12.2.0

Ubuntu 20.04 ARM SVE
	Kernel: 5.4.0-167-generic
	Compiler: gcc (Ubuntu 10.5.0-1ubuntu1~20.04) 10.5.0

Debian 11 (Buster) (ARM)
	Kernel: Container Host Kernel
	Compiler: gcc 10.2.1

CentOS Stream 9 (ARM)
	Kernel: Container Host Kernel
	Compiler: gcc 11.4.1

Fedora 37 (ARM)
	Kernel: Depends on container host
	Compiler: gcc 12.3.1

Fedora 38 (ARM)
	Kernel: Depends on container host
	Compiler: gcc 13.2.1

Fedora 39 (ARM)
	Kernel: Depends on container host
	Compiler: gcc 13.2.1

Ubuntu 20.04 (ARM)
	Kernel: Container Host Kernel
	Compiler: gcc 9.4.0

To view detailed results, visit:
https://lab.dpdk.org/results/dashboard/patchsets/29771/

UNH-IOL DPDK Community Lab

To manage your email subscriptions, visit: 
https://lab.dpdk.org/results/dashboard/preferences/subscriptions/