From mboxrd@z Thu Jan  1 00:00:00 1970
Return-Path: <test-report-bounces@dpdk.org>
Received: from mails.dpdk.org (mails.dpdk.org [217.70.189.124])
	by inbox.dpdk.org (Postfix) with ESMTP id 09B6943E56
	for <public@inbox.dpdk.org>; Sat, 13 Apr 2024 02:11:35 +0200 (CEST)
Received: from mails.dpdk.org (localhost [127.0.0.1])
	by mails.dpdk.org (Postfix) with ESMTP id 0500F40263;
	Sat, 13 Apr 2024 02:11:35 +0200 (CEST)
Received: from mail-io1-f98.google.com (mail-io1-f98.google.com
 [209.85.166.98]) by mails.dpdk.org (Postfix) with ESMTP id 855EA4014F
 for <test-report@dpdk.org>; Sat, 13 Apr 2024 02:11:34 +0200 (CEST)
Received: by mail-io1-f98.google.com with SMTP id
 ca18e2360f4ac-7d622edf790so64351839f.1
 for <test-report@dpdk.org>; Fri, 12 Apr 2024 17:11:34 -0700 (PDT)
DKIM-Signature: v=1; a=rsa-sha256; c=relaxed/relaxed;
 d=iol.unh.edu; s=unh-iol; t=1712967094; x=1713571894; darn=dpdk.org;
 h=references:in-reply-to:cc:to:from:subject:message-id:date:from:to
 :cc:subject:date:message-id:reply-to;
 bh=6VymkhKlGlkUWSAuKaXIv54jCHG3n3MQFVWtxENt53A=;
 b=KqJxFF05UW1nDAvjB51DXdJFGUb1R5gLoR+4Onk4GUq066yMiVOCBIwNINCbLdvyOK
 HaicZ83fwck7yX4ZVLkbztix3JRJ8a0fwsex0w9fnaXA3CBUgFcQ3SAi5lsJ/DHj5he8
 2Dr0yIovS5S4vG+4IUq0S6Wu6HtJvap/06aIw=
X-Google-DKIM-Signature: v=1; a=rsa-sha256; c=relaxed/relaxed;
 d=1e100.net; s=20230601; t=1712967094; x=1713571894;
 h=references:in-reply-to:cc:to:from:subject:message-id:date
 :x-gm-message-state:from:to:cc:subject:date:message-id:reply-to;
 bh=6VymkhKlGlkUWSAuKaXIv54jCHG3n3MQFVWtxENt53A=;
 b=dd5dKCqF0PzMQsrRhAz5BMt6RSyYtGoYrt6hXKHAuyHIzrGp8VNqJKV7WP5v8D+ueB
 C9CwOtSk4qFGdMJkKUvfAWi2auHtVl7tlIaPuS8FU/b3szrHbnLtoE4DcMKq9CHfUHbu
 jz+MbCs8PKdNLH1VZ642AHwyHkTmLMRg8ickKczLi6+0mvaB4N2pntA06bhHKJIAyjIX
 PFpMiEqPt0zIMSkxvOHdvJKqJ5b/3ZfJEKlSlY1PAlGFQbMGbVaTXxKR/x59nmNEbNyq
 tWgChBRgX6f+8M9lrl8oVAi69e9ILWayYIJysc8h3cLtygV4Oh+VxcE9HJXVsu2XIG3f
 mfFw==
X-Gm-Message-State: AOJu0YwgRpZgnDbDS0kFQe2hQfFkXJI6JH4nf7uj8bu7iymmd9KpIx61
 X4foFPO2fSnCFGKhjvJliMnKb9eZxpiFKIYGJ5gVU4pYPwYtv6cnveNcGdRGG5p6TECZjNUKPZc
 86ibdtKyM2fo25RJCv2D3FR0clsBNB8yeucniTG1t
X-Google-Smtp-Source: AGHT+IFHtPvObAk7y8q6IXOfluiHqCubgqyt3FiarActpwGHGjfSkup/iIN12pzWHEBV30A1upcI13rrHFFe
X-Received: by 2002:a05:6602:389b:b0:7d3:55aa:37f6 with SMTP id
 br27-20020a056602389b00b007d355aa37f6mr5114994iob.3.1712967093893; 
 Fri, 12 Apr 2024 17:11:33 -0700 (PDT)
Received: from postal.iol.unh.edu (postal.iol.unh.edu. [132.177.123.84])
 by smtp-relay.gmail.com with ESMTPS id
 x17-20020a056638249100b004806aaedcd3sm200368jat.10.2024.04.12.17.11.33
 (version=TLS1_2 cipher=ECDHE-ECDSA-AES128-GCM-SHA256 bits=128/128);
 Fri, 12 Apr 2024 17:11:33 -0700 (PDT)
X-Relaying-Domain: iol.unh.edu
Date: Fri, 12 Apr 2024 17:11:33 -0700 (PDT)
Message-ID: <6619cdb5.050a0220.33e88.7f6cSMTPIN_ADDED_MISSING@mx.google.com>
Received: from [172.17.0.4] (unknown [172.18.0.217])
 by postal.iol.unh.edu (Postfix) with ESMTP id 60BD2604D420;
 Fri, 12 Apr 2024 20:11:33 -0400 (EDT)
Subject: |SUCCESS| pw139275-139276 [PATCH] [v3,2/2] buildtools: when building
From: dpdklab@iol.unh.edu
To: Test Report <test-report@dpdk.org>
Cc: dpdk-test-reports@iol.unh.edu
In-Reply-To: <1712962333-14355-3-git-send-email-roretzla@linux.microsoft.com>
References: <1712962333-14355-3-git-send-email-roretzla@linux.microsoft.com>
Content-Type: text/plain
X-BeenThere: test-report@dpdk.org
X-Mailman-Version: 2.1.29
Precedence: list
List-Id: automatic DPDK test reports <test-report.dpdk.org>
List-Unsubscribe: <https://mails.dpdk.org/options/test-report>,
 <mailto:test-report-request@dpdk.org?subject=unsubscribe>
List-Archive: <http://mails.dpdk.org/archives/test-report/>
List-Post: <mailto:test-report@dpdk.org>
List-Help: <mailto:test-report-request@dpdk.org?subject=help>
List-Subscribe: <https://mails.dpdk.org/listinfo/test-report>,
 <mailto:test-report-request@dpdk.org?subject=subscribe>
Errors-To: test-report-bounces@dpdk.org

Test-Label: iol-unit-amd64-testing
Test-Status: SUCCESS
http://dpdk.org/patch/139276

_Testing PASS_

Submitter: Tyler Retzlaff <roretzla@linux.microsoft.com>
Date: Friday, April 12 2024 22:52:13 
DPDK git baseline: Repo:dpdk
  Branch: master
  CommitID:e2e546ab5bf5e024986ccb5310ab43982f3bb40c

139275-139276 --> testing pass

Test environment and result as below:

+---------------------+----------------+
|     Environment     | dpdk_unit_test |
+=====================+================+
| Windows Server 2019 | PASS           |
+---------------------+----------------+
| CentOS Stream 9     | PASS           |
+---------------------+----------------+
| CentOS Stream 8     | PASS           |
+---------------------+----------------+
| Debian Bullseye     | PASS           |
+---------------------+----------------+
| Fedora 38           | PASS           |
+---------------------+----------------+
| Fedora 37           | PASS           |
+---------------------+----------------+
| Debian 12           | PASS           |
+---------------------+----------------+
| Fedora 39           | PASS           |
+---------------------+----------------+
| openSUSE Leap 15    | PASS           |
+---------------------+----------------+
| Ubuntu 22.04        | PASS           |
+---------------------+----------------+
| RHEL8               | PASS           |
+---------------------+----------------+
| Ubuntu 20.04        | PASS           |
+---------------------+----------------+
| Windows Server 2022 | PASS           |
+---------------------+----------------+


Windows Server 2019
	Kernel: 10.0.17763
	Compiler: clang 14.0 and gcc 8.1.0 (MinGW)

CentOS Stream 9
	Kernel: 5.4.0-167-generic
	Compiler: gcc 11.4.1 20230605

CentOS Stream 8
	Kernel: 5.4.0-167-generic
	Compiler: gcc 8.5.0 20210514

Debian Bullseye
	Kernel: 5.4.0-167-generic
	Compiler: gcc 10.2.1-6

Fedora 38
	Kernel: Depends on container host
	Compiler: gcc 13.2.1

Fedora 37
	Kernel: Depends on container host system
	Compiler: gcc 12.3.1

Debian 12
	Kernel: Container Host Kernel
	Compiler: gcc 10.2.1

Fedora 39
	Kernel: Depends on container host
	Compiler: gcc 13.2.1

openSUSE Leap 15
	Kernel: 5.4.0-167-generic
	Compiler: gcc 7.5.0

Ubuntu 22.04
	Kernel: 5.4.0-167-generic
	Compiler: gcc 11.4.0

RHEL8
	Kernel: 5.4.0-167-generic
	Compiler: gcc 8.5.0 20210514 (Red Hat 8.5.0-20)

Ubuntu 20.04
	Kernel: 5.4.0-167-generic
	Compiler: gcc 9.4.0-1ubuntu1~20.04.1

Windows Server 2022
	Kernel: 10.0.20348.2031
	Compiler: clang 15.0.7, gcc 8.1.0 (MinGW), and MSVC VS 17.9

To view detailed results, visit:
https://lab.dpdk.org/results/dashboard/patchsets/29771/

UNH-IOL DPDK Community Lab

To manage your email subscriptions, visit: 
https://lab.dpdk.org/results/dashboard/preferences/subscriptions/