From mboxrd@z Thu Jan  1 00:00:00 1970
Return-Path: <test-report-bounces@dpdk.org>
Received: from mails.dpdk.org (mails.dpdk.org [217.70.189.124])
	by inbox.dpdk.org (Postfix) with ESMTP id D35EB43E56
	for <public@inbox.dpdk.org>; Sat, 13 Apr 2024 02:15:54 +0200 (CEST)
Received: from mails.dpdk.org (localhost [127.0.0.1])
	by mails.dpdk.org (Postfix) with ESMTP id ADE5040263;
	Sat, 13 Apr 2024 02:15:54 +0200 (CEST)
Received: from mail-oo1-f98.google.com (mail-oo1-f98.google.com
 [209.85.161.98]) by mails.dpdk.org (Postfix) with ESMTP id A58014014F
 for <test-report@dpdk.org>; Sat, 13 Apr 2024 02:15:53 +0200 (CEST)
Received: by mail-oo1-f98.google.com with SMTP id
 006d021491bc7-5aa2a74c238so985193eaf.3
 for <test-report@dpdk.org>; Fri, 12 Apr 2024 17:15:53 -0700 (PDT)
DKIM-Signature: v=1; a=rsa-sha256; c=relaxed/relaxed;
 d=iol.unh.edu; s=unh-iol; t=1712967353; x=1713572153; darn=dpdk.org;
 h=references:in-reply-to:cc:to:from:subject:message-id:date:from:to
 :cc:subject:date:message-id:reply-to;
 bh=6VymkhKlGlkUWSAuKaXIv54jCHG3n3MQFVWtxENt53A=;
 b=RyTX83Oipihlyoz1FWJmc2wiQ7lcQJUIh4u7Fo9dPftk3IZIyNRrJwUUxyHfzm7T8H
 y4QJIQkhU8IMBF8Xzl4EydkDdBxs3Q0KzC9T4z0CTD7zNttQtN4h/rpnl3eiilPDuetT
 kKWhf8k/48RwcJmOOeDvf+Y6Fh7WXihJ9XDdo=
X-Google-DKIM-Signature: v=1; a=rsa-sha256; c=relaxed/relaxed;
 d=1e100.net; s=20230601; t=1712967353; x=1713572153;
 h=references:in-reply-to:cc:to:from:subject:message-id:date
 :x-gm-message-state:from:to:cc:subject:date:message-id:reply-to;
 bh=6VymkhKlGlkUWSAuKaXIv54jCHG3n3MQFVWtxENt53A=;
 b=j1FxEDzppfMaOHDUPT61Ezs1RK2qvUGOLSOlRyjxHTSPO6y2OXmIykWhtuOPGsBk5M
 TvopTGgkJhCqoSADbZS5a6ZcBUDsAldCOEGhmIYNQ84JahQTAi5rlBEGYnbHeJ5hDz3w
 nM/q+UUIgBei0B4pjRxMRib1dXXW7aw8C57sZl/HA0q6Zfx1iTnpShhNLNSl3JcjNWUt
 frwfG0GIEemrOQb0bagFEd/fblmlAdKPa05G5T9ZmJo/L71Ey8Wc2SjRJOVRtjHJSTUY
 np7RGtOsZvZAZw+xORidA9B50JbvjnH3w1axE8HSP2zXIp4C64sCJ4yQBKWjT2xTt95z
 CsdA==
X-Gm-Message-State: AOJu0YyhzClmre7lkqU5AfeN7RuKScH4uM5O4K7OdYf2AxceO/uWx59p
 BISUXrKgB3v8uJW28iqlVxOI6IGgerZEDSZXbjf4+qhrHoQE63Dkpi6bZouIZ45LoKCgEo0hevL
 /WnR2sM1jtg1wnuLLfFa1jCMwFBTNiOpvUqaENdDW
X-Google-Smtp-Source: AGHT+IGZWyNZUQ3S3DkZhN9yFUm/kmH0qEcmNFpab6z0VkiMRaE0Jzck+YJBfrwToNHJyAPiofU+5qn58f5M
X-Received: by 2002:a05:6820:1344:b0:5aa:691e:9c0 with SMTP id
 b4-20020a056820134400b005aa691e09c0mr4546611oow.9.1712967352938; 
 Fri, 12 Apr 2024 17:15:52 -0700 (PDT)
Received: from postal.iol.unh.edu (postal.iol.unh.edu. [132.177.123.84])
 by smtp-relay.gmail.com with ESMTPS id
 123-20020a4a0d81000000b005a9db549953sm458838oob.15.2024.04.12.17.15.52
 (version=TLS1_2 cipher=ECDHE-ECDSA-AES128-GCM-SHA256 bits=128/128);
 Fri, 12 Apr 2024 17:15:52 -0700 (PDT)
X-Relaying-Domain: iol.unh.edu
Date: Fri, 12 Apr 2024 17:15:52 -0700 (PDT)
Message-ID: <6619ceb8.4a0a0220.c8431.6a67SMTPIN_ADDED_MISSING@mx.google.com>
Received: from [172.17.0.4] (unknown [172.18.0.217])
 by postal.iol.unh.edu (Postfix) with ESMTP id 47628604D420;
 Fri, 12 Apr 2024 20:15:52 -0400 (EDT)
Subject: |SUCCESS| pw139275-139276 [PATCH] [v3,2/2] buildtools: when building
From: dpdklab@iol.unh.edu
To: Test Report <test-report@dpdk.org>
Cc: dpdk-test-reports@iol.unh.edu
In-Reply-To: <1712962333-14355-3-git-send-email-roretzla@linux.microsoft.com>
References: <1712962333-14355-3-git-send-email-roretzla@linux.microsoft.com>
Content-Type: text/plain
X-BeenThere: test-report@dpdk.org
X-Mailman-Version: 2.1.29
Precedence: list
List-Id: automatic DPDK test reports <test-report.dpdk.org>
List-Unsubscribe: <https://mails.dpdk.org/options/test-report>,
 <mailto:test-report-request@dpdk.org?subject=unsubscribe>
List-Archive: <http://mails.dpdk.org/archives/test-report/>
List-Post: <mailto:test-report@dpdk.org>
List-Help: <mailto:test-report-request@dpdk.org?subject=help>
List-Subscribe: <https://mails.dpdk.org/listinfo/test-report>,
 <mailto:test-report-request@dpdk.org?subject=subscribe>
Errors-To: test-report-bounces@dpdk.org

Test-Label: iol-unit-amd64-testing
Test-Status: SUCCESS
http://dpdk.org/patch/139276

_Testing PASS_

Submitter: Tyler Retzlaff <roretzla@linux.microsoft.com>
Date: Friday, April 12 2024 22:52:13 
DPDK git baseline: Repo:dpdk
  Branch: master
  CommitID:e2e546ab5bf5e024986ccb5310ab43982f3bb40c

139275-139276 --> testing pass

Test environment and result as below:

+---------------------+----------------+
|     Environment     | dpdk_unit_test |
+=====================+================+
| Windows Server 2019 | PASS           |
+---------------------+----------------+
| CentOS Stream 9     | PASS           |
+---------------------+----------------+
| CentOS Stream 8     | PASS           |
+---------------------+----------------+
| Debian Bullseye     | PASS           |
+---------------------+----------------+
| Fedora 38           | PASS           |
+---------------------+----------------+
| Fedora 37           | PASS           |
+---------------------+----------------+
| Debian 12           | PASS           |
+---------------------+----------------+
| Fedora 39           | PASS           |
+---------------------+----------------+
| openSUSE Leap 15    | PASS           |
+---------------------+----------------+
| Ubuntu 22.04        | PASS           |
+---------------------+----------------+
| RHEL8               | PASS           |
+---------------------+----------------+
| Ubuntu 20.04        | PASS           |
+---------------------+----------------+
| Windows Server 2022 | PASS           |
+---------------------+----------------+


Windows Server 2019
	Kernel: 10.0.17763
	Compiler: clang 14.0 and gcc 8.1.0 (MinGW)

CentOS Stream 9
	Kernel: 5.4.0-167-generic
	Compiler: gcc 11.4.1 20230605

CentOS Stream 8
	Kernel: 5.4.0-167-generic
	Compiler: gcc 8.5.0 20210514

Debian Bullseye
	Kernel: 5.4.0-167-generic
	Compiler: gcc 10.2.1-6

Fedora 38
	Kernel: Depends on container host
	Compiler: gcc 13.2.1

Fedora 37
	Kernel: Depends on container host system
	Compiler: gcc 12.3.1

Debian 12
	Kernel: Container Host Kernel
	Compiler: gcc 10.2.1

Fedora 39
	Kernel: Depends on container host
	Compiler: gcc 13.2.1

openSUSE Leap 15
	Kernel: 5.4.0-167-generic
	Compiler: gcc 7.5.0

Ubuntu 22.04
	Kernel: 5.4.0-167-generic
	Compiler: gcc 11.4.0

RHEL8
	Kernel: 5.4.0-167-generic
	Compiler: gcc 8.5.0 20210514 (Red Hat 8.5.0-20)

Ubuntu 20.04
	Kernel: 5.4.0-167-generic
	Compiler: gcc 9.4.0-1ubuntu1~20.04.1

Windows Server 2022
	Kernel: 10.0.20348.2031
	Compiler: clang 15.0.7, gcc 8.1.0 (MinGW), and MSVC VS 17.9

To view detailed results, visit:
https://lab.dpdk.org/results/dashboard/patchsets/29771/

UNH-IOL DPDK Community Lab

To manage your email subscriptions, visit: 
https://lab.dpdk.org/results/dashboard/preferences/subscriptions/