From mboxrd@z Thu Jan  1 00:00:00 1970
Return-Path: <test-report-bounces@dpdk.org>
Received: from mails.dpdk.org (mails.dpdk.org [217.70.189.124])
	by inbox.dpdk.org (Postfix) with ESMTP id 035E343E58
	for <public@inbox.dpdk.org>; Sat, 13 Apr 2024 03:25:05 +0200 (CEST)
Received: from mails.dpdk.org (localhost [127.0.0.1])
	by mails.dpdk.org (Postfix) with ESMTP id EAC8140263;
	Sat, 13 Apr 2024 03:25:04 +0200 (CEST)
Received: from mail-pj1-f97.google.com (mail-pj1-f97.google.com
 [209.85.216.97]) by mails.dpdk.org (Postfix) with ESMTP id 5C5894014F
 for <test-report@dpdk.org>; Sat, 13 Apr 2024 03:25:03 +0200 (CEST)
Received: by mail-pj1-f97.google.com with SMTP id
 98e67ed59e1d1-2a53a4a283eso1158092a91.0
 for <test-report@dpdk.org>; Fri, 12 Apr 2024 18:25:03 -0700 (PDT)
DKIM-Signature: v=1; a=rsa-sha256; c=relaxed/relaxed;
 d=iol.unh.edu; s=unh-iol; t=1712971502; x=1713576302; darn=dpdk.org;
 h=references:in-reply-to:cc:to:from:subject:message-id:date:from:to
 :cc:subject:date:message-id:reply-to;
 bh=BUmT59Bw8ZZkGx7qW47/eydi4zI3xIjm4kMLmvjzPII=;
 b=NZJFRSH/XnamCIDGiI5ttE7ODOuspoGIpphys8JhMgwMBCuPG5EJY39KG/afEi1qHe
 fUfmnqTfThHGg8q2vwgji6Vc2r34LkMetbCae/ooBBb/QKgNFcAYpPH6RAIaViFOn6CE
 0L67HBUP1w9zzfuP7i+Vz7bCER7GPh6XREDHA=
X-Google-DKIM-Signature: v=1; a=rsa-sha256; c=relaxed/relaxed;
 d=1e100.net; s=20230601; t=1712971502; x=1713576302;
 h=references:in-reply-to:cc:to:from:subject:message-id:date
 :x-gm-message-state:from:to:cc:subject:date:message-id:reply-to;
 bh=BUmT59Bw8ZZkGx7qW47/eydi4zI3xIjm4kMLmvjzPII=;
 b=Bn8JGRCebDYwaKIGzB62CVjSTT7dCePAbjC4nyWae09v/hyOBbIE2RTclGp9MVVYC+
 Wt13Jq5BCIhxK0S7gd0/AeTbbRst3SSXozVchBvftBDjOtAxbwfAfd9f0g7p1PKNVOVv
 jYI2LXMfJLWOB20uXuFHSi+k0S6bauLUqp6LrEiQUsDXWoLlZw6OvNuJ8Z9neVq4tA0O
 xg/D/nuOSd0s6t6/EqbVZlNEuCQhPbOlqGZb10S4ROFnZK2brbyyQHU5lCgrKpm21+sx
 17ruErvuBXQ9PXHRLxrk5mfqGxG5dkgA/P32eVII47kt6uNbfHLOdrWbGlh8u/vaStuy
 PZfQ==
X-Gm-Message-State: AOJu0YxyyhpDcOprR0sEzaT6YgFir2Mh2U9UX+P6Nr1G/hcayGCSSI/w
 wmF+ENOYexzq6VDHspg1djrnxaEOXPsFaXz/NgU7ktQRcma9jvexsgUOKIurHW8n96mUPRGEmIn
 RZ05ePxW8W6PlJGLYA9wYWVlrhHNjjRrZt69Cp3tpYShg+EyZXDbOVf8q
X-Google-Smtp-Source: AGHT+IEpHWa5P/5tEUeWPlqQELftGhyx2MjSuctqwBM2M08LfxMicDQgY0w939lZc477po5ScDHXEf6qhqEm
X-Received: by 2002:a17:90a:d187:b0:2a2:bcbf:562c with SMTP id
 fu7-20020a17090ad18700b002a2bcbf562cmr4020747pjb.30.1712971502550; 
 Fri, 12 Apr 2024 18:25:02 -0700 (PDT)
Received: from postal.iol.unh.edu (postal.iol.unh.edu.
 [2606:4100:3880:1234::84]) by smtp-relay.gmail.com with ESMTPS id
 gm15-20020a17090b100f00b002a23ce3fd7asm349676pjb.4.2024.04.12.18.25.02
 (version=TLS1_2 cipher=ECDHE-ECDSA-AES128-GCM-SHA256 bits=128/128);
 Fri, 12 Apr 2024 18:25:02 -0700 (PDT)
X-Relaying-Domain: iol.unh.edu
Date: Fri, 12 Apr 2024 18:25:02 -0700 (PDT)
Message-ID: <6619deee.170a0220.260dd.fb34SMTPIN_ADDED_MISSING@mx.google.com>
Received: from [172.21.0.6] (unknown [172.18.0.240])
 by postal.iol.unh.edu (Postfix) with ESMTP id B898E604D420;
 Fri, 12 Apr 2024 21:25:01 -0400 (EDT)
Subject: |SUCCESS| pw139275-139276 [PATCH] [v3,2/2] buildtools: when building
From: dpdklab@iol.unh.edu
To: Test Report <test-report@dpdk.org>
Cc: dpdk-test-reports@iol.unh.edu
In-Reply-To: <1712962333-14355-3-git-send-email-roretzla@linux.microsoft.com>
References: <1712962333-14355-3-git-send-email-roretzla@linux.microsoft.com>
Content-Type: text/plain
X-BeenThere: test-report@dpdk.org
X-Mailman-Version: 2.1.29
Precedence: list
List-Id: automatic DPDK test reports <test-report.dpdk.org>
List-Unsubscribe: <https://mails.dpdk.org/options/test-report>,
 <mailto:test-report-request@dpdk.org?subject=unsubscribe>
List-Archive: <http://mails.dpdk.org/archives/test-report/>
List-Post: <mailto:test-report@dpdk.org>
List-Help: <mailto:test-report-request@dpdk.org?subject=help>
List-Subscribe: <https://mails.dpdk.org/listinfo/test-report>,
 <mailto:test-report-request@dpdk.org?subject=subscribe>
Errors-To: test-report-bounces@dpdk.org

Test-Label: iol-compile-arm64-testing
Test-Status: SUCCESS
http://dpdk.org/patch/139276

_Testing PASS_

Submitter: Tyler Retzlaff <roretzla@linux.microsoft.com>
Date: Friday, April 12 2024 22:52:13 
DPDK git baseline: Repo:dpdk
  Branch: master
  CommitID:e2e546ab5bf5e024986ccb5310ab43982f3bb40c

139275-139276 --> testing pass

Test environment and result as below:

+----------------------------------------+--------------------+
|              Environment               | dpdk_meson_compile |
+========================================+====================+
| Ubuntu 20.04 ARM SVE                   | PASS               |
+----------------------------------------+--------------------+
| Debian 12 with MUSDK                   | PASS               |
+----------------------------------------+--------------------+
| Fedora 39 (ARM)                        | PASS               |
+----------------------------------------+--------------------+
| Ubuntu 20.04 aarch32 GCC Cross Compile | PASS               |
+----------------------------------------+--------------------+
| Ubuntu 20.04 (ARM)                     | PASS               |
+----------------------------------------+--------------------+
| CentOS Stream 9 (ARM)                  | PASS               |
+----------------------------------------+--------------------+
| Debian 11 (Buster) (ARM)               | PASS               |
+----------------------------------------+--------------------+
| Ubuntu 20.04 ARM Clang Cross Compile   | PASS               |
+----------------------------------------+--------------------+
| Debian 12 (arm)                        | PASS               |
+----------------------------------------+--------------------+
| Fedora 38 (ARM)                        | PASS               |
+----------------------------------------+--------------------+
| Fedora 37 (ARM)                        | PASS               |
+----------------------------------------+--------------------+
| Ubuntu 20.04 ARM GCC Cross Compile     | PASS               |
+----------------------------------------+--------------------+
| Fedora 38 (ARM Clang)                  | PASS               |
+----------------------------------------+--------------------+
| Fedora 39 (ARM Clang)                  | PASS               |
+----------------------------------------+--------------------+


Ubuntu 20.04 ARM SVE
	Kernel: 5.4.0-167-generic
	Compiler: gcc (Ubuntu 10.5.0-1ubuntu1~20.04) 10.5.0

Debian 12 with MUSDK
	Kernel: Container Host Kernel
	Compiler: gcc 12.2.0

Fedora 39 (ARM)
	Kernel: Depends on container host
	Compiler: gcc 13.2.1

Ubuntu 20.04 aarch32 GCC Cross Compile
	Kernel: 5.4.0-167-generic
	Compiler: gcc 9.4.0

Ubuntu 20.04 (ARM)
	Kernel: Container Host Kernel
	Compiler: gcc 9.4.0

CentOS Stream 9 (ARM)
	Kernel: Container Host Kernel
	Compiler: gcc 11.4.1

Debian 11 (Buster) (ARM)
	Kernel: Container Host Kernel
	Compiler: gcc 10.2.1

Ubuntu 20.04 ARM Clang Cross Compile
	Kernel: 5.4.0-72-generic
	Compiler: clang 10.0.0-4ubuntu1

Debian 12 (arm)
	Kernel: Container Host Kernel
	Compiler: gcc 12.2.0

Fedora 38 (ARM)
	Kernel: Depends on container host
	Compiler: gcc 13.2.1

Fedora 37 (ARM)
	Kernel: Depends on container host
	Compiler: gcc 12.3.1

Ubuntu 20.04 ARM GCC Cross Compile
	Kernel: 5.4.0-167-generic
	Compiler: aarch64-linux-gnu-gcc (Ubuntu 9.4.0-1ubuntu1~20.04.2) 9.4.0

Fedora 38 (ARM Clang)
	Kernel: Depends on container host
	Compiler: clang 16.0.6

Fedora 39 (ARM Clang)
	Kernel: Depends on container host
	Compiler: clang 17.0.6

To view detailed results, visit:
https://lab.dpdk.org/results/dashboard/patchsets/29771/

UNH-IOL DPDK Community Lab

To manage your email subscriptions, visit: 
https://lab.dpdk.org/results/dashboard/preferences/subscriptions/